BEGIN:VCALENDAR
VERSION:2.0
PRODID:-//RECYCLING magazin - ECPv6.15.20//NONSGML v1.0//EN
CALSCALE:GREGORIAN
METHOD:PUBLISH
X-WR-CALNAME:RECYCLING magazin
X-ORIGINAL-URL:https://www.recyclingmagazin.de
X-WR-CALDESC:Veranstaltungen für RECYCLING magazin
REFRESH-INTERVAL;VALUE=DURATION:PT1H
X-Robots-Tag:noindex
X-PUBLISHED-TTL:PT1H
BEGIN:VTIMEZONE
TZID:Europe/Berlin
BEGIN:DAYLIGHT
TZOFFSETFROM:+0100
TZOFFSETTO:+0200
TZNAME:CEST
DTSTART:20250330T010000
END:DAYLIGHT
BEGIN:STANDARD
TZOFFSETFROM:+0200
TZOFFSETTO:+0100
TZNAME:CET
DTSTART:20251026T010000
END:STANDARD
BEGIN:DAYLIGHT
TZOFFSETFROM:+0100
TZOFFSETTO:+0200
TZNAME:CEST
DTSTART:20260329T010000
END:DAYLIGHT
BEGIN:STANDARD
TZOFFSETFROM:+0200
TZOFFSETTO:+0100
TZNAME:CET
DTSTART:20261025T010000
END:STANDARD
BEGIN:DAYLIGHT
TZOFFSETFROM:+0100
TZOFFSETTO:+0200
TZNAME:CEST
DTSTART:20270328T010000
END:DAYLIGHT
BEGIN:STANDARD
TZOFFSETFROM:+0200
TZOFFSETTO:+0100
TZNAME:CET
DTSTART:20271031T010000
END:STANDARD
BEGIN:DAYLIGHT
TZOFFSETFROM:+0100
TZOFFSETTO:+0200
TZNAME:CEST
DTSTART:20280326T010000
END:DAYLIGHT
BEGIN:STANDARD
TZOFFSETFROM:+0200
TZOFFSETTO:+0100
TZNAME:CET
DTSTART:20281029T010000
END:STANDARD
END:VTIMEZONE
BEGIN:VEVENT
DTSTART;VALUE=DATE:20260119
DTEND;VALUE=DATE:20270701
DTSTAMP:20260421T004236
CREATED:20251126T131910Z
LAST-MODIFIED:20251126T131910Z
UID:413744-1768780800-1814399999@www.recyclingmagazin.de
SUMMARY:Vorbereitungskurs auf die Externenprüfung „Umwelttechnologe/-in für Kreislauf- und Abfallwirtschaft“
DESCRIPTION:
URL:https://www.recyclingmagazin.de/event/vorbereitungskurs-auf-die-externenpruefung-umwelttechnologe-in-fuer-kreislauf-und-abfallwirtschaft/
END:VEVENT
BEGIN:VEVENT
DTSTART;VALUE=DATE:20261002
DTEND;VALUE=DATE:20261003
DTSTAMP:20260421T004236
CREATED:20251021T104130Z
LAST-MODIFIED:20251021T104130Z
UID:413156-1790899200-1790985599@www.recyclingmagazin.de
SUMMARY:Lehrgang zur Probenahme fester Abfälle nach LAGA PN 98
DESCRIPTION:
URL:https://www.recyclingmagazin.de/event/lehrgang-zur-probenahme-fester-abfaelle-nach-laga-pn-98-38/
LOCATION:Good Morning + Berlin City East\, Ruschestraße 45\, Berlin\, 10367\, Deutschland
CATEGORIES:Seminar
END:VEVENT
BEGIN:VEVENT
DTSTART;VALUE=DATE:20261005
DTEND;VALUE=DATE:20261007
DTSTAMP:20260421T004236
CREATED:20251027T191126Z
LAST-MODIFIED:20251027T191126Z
UID:413247-1791158400-1791331199@www.recyclingmagazin.de
SUMMARY:Einführung rechtliche und technische Grundlagen der Abfallwirtschaft
DESCRIPTION:
URL:https://www.recyclingmagazin.de/event/einfuehrung-rechtliche-und-technische-grundlagen-der-abfallwirtschaft-69/
CATEGORIES:Webinar
END:VEVENT
BEGIN:VEVENT
DTSTART;VALUE=DATE:20261006
DTEND;VALUE=DATE:20261007
DTSTAMP:20260421T004236
CREATED:20251021T095616Z
LAST-MODIFIED:20251021T095616Z
UID:413121-1791244800-1791331199@www.recyclingmagazin.de
SUMMARY:§ 53 KrWG Lehrgang zum Nachweis der Fachkunde
DESCRIPTION:
URL:https://www.recyclingmagazin.de/event/%c2%a7-53-krwg-lehrgang-zum-nachweis-der-fachkunde-54/
CATEGORIES:Webinar
END:VEVENT
BEGIN:VEVENT
DTSTART;VALUE=DATE:20261007
DTEND;VALUE=DATE:20261008
DTSTAMP:20260421T004236
CREATED:20260305T204255Z
LAST-MODIFIED:20260305T204255Z
UID:415114-1791331200-1791417599@www.recyclingmagazin.de
SUMMARY:Lehrgang zur Probenahme fester Abfälle nach LAGA PN 98
DESCRIPTION:
URL:https://www.recyclingmagazin.de/event/lehrgang-zur-probenahme-fester-abfaelle-nach-laga-pn-98-43/
CATEGORIES:Webinar
END:VEVENT
BEGIN:VEVENT
DTSTART;VALUE=DATE:20261007
DTEND;VALUE=DATE:20261009
DTSTAMP:20260421T004236
CREATED:20251017T152827Z
LAST-MODIFIED:20251017T152827Z
UID:412991-1791331200-1791503999@www.recyclingmagazin.de
SUMMARY:European Waste Wood Group (EWWG) 2026
DESCRIPTION:
URL:https://www.recyclingmagazin.de/event/european-waste-wood-group-ewwg-2026-2/
CATEGORIES:Tagung
END:VEVENT
BEGIN:VEVENT
DTSTART;VALUE=DATE:20261008
DTEND;VALUE=DATE:20261009
DTSTAMP:20260421T004236
CREATED:20251020T185800Z
LAST-MODIFIED:20251020T185800Z
UID:413087-1791417600-1791503999@www.recyclingmagazin.de
SUMMARY:Die GewAbfV - Gewerbeabfallverordnung in der Praxis
DESCRIPTION:
URL:https://www.recyclingmagazin.de/event/die-gewabfv-gewerbeabfallverordnung-in-der-praxis-34/
CATEGORIES:Webinar
END:VEVENT
BEGIN:VEVENT
DTSTART;VALUE=DATE:20261013
DTEND;VALUE=DATE:20261014
DTSTAMP:20260421T004236
CREATED:20260305T170237Z
LAST-MODIFIED:20260305T170237Z
UID:415076-1791849600-1791935999@www.recyclingmagazin.de
SUMMARY:Abfallnachweisverfahren (eANV) und Abfallnachweisführung
DESCRIPTION:
URL:https://www.recyclingmagazin.de/event/abfallnachweisverfahren-eanv-und-abfallnachweisfuehrung-86/
CATEGORIES:Webinar
END:VEVENT
BEGIN:VEVENT
DTSTART;VALUE=DATE:20261014
DTEND;VALUE=DATE:20261015
DTSTAMP:20260421T004236
CREATED:20260305T205326Z
LAST-MODIFIED:20260305T205405Z
UID:415123-1791936000-1792022399@www.recyclingmagazin.de
SUMMARY:Öffentliche Ausschreibungen und Vergabeverfahren
DESCRIPTION:
URL:https://www.recyclingmagazin.de/event/oeffentliche-ausschreibungen-und-vergabeverfahren-14/
CATEGORIES:Webinar
END:VEVENT
BEGIN:VEVENT
DTSTART;VALUE=DATE:20261015
DTEND;VALUE=DATE:20261016
DTSTAMP:20260421T004236
CREATED:20251027T183819Z
LAST-MODIFIED:20251027T183819Z
UID:413225-1792022400-1792108799@www.recyclingmagazin.de
SUMMARY:Abfallrecht aktuell - Was ändert sich?
DESCRIPTION:
URL:https://www.recyclingmagazin.de/event/abfallrecht-aktuell-was-aendert-sich-11/
CATEGORIES:Webinar
END:VEVENT
BEGIN:VEVENT
DTSTART;VALUE=DATE:20261019
DTEND;VALUE=DATE:20261020
DTSTAMP:20260421T004236
CREATED:20251020T174150Z
LAST-MODIFIED:20251020T174150Z
UID:413053-1792368000-1792454399@www.recyclingmagazin.de
SUMMARY:Grundlagen der Chemie von Abfall
DESCRIPTION:
URL:https://www.recyclingmagazin.de/event/grundlagen-der-chemie-von-abfall-25/
CATEGORIES:Webinar
END:VEVENT
BEGIN:VEVENT
DTSTART;VALUE=DATE:20261020
DTEND;VALUE=DATE:20261022
DTSTAMP:20260421T004236
CREATED:20251031T135636Z
LAST-MODIFIED:20251031T135636Z
UID:413430-1792454400-1792627199@www.recyclingmagazin.de
SUMMARY:Kombinierter Fortbildungslehrgang nach § 9 EfbV und § 5 AbfAEV sowie § 9 AbfBeauftrV
DESCRIPTION:
URL:https://www.recyclingmagazin.de/event/kombinierter-fortbildungslehrgang-nach-%c2%a7-9-efbv-und-%c2%a7-5-abfaev-sowie-%c2%a7-9-abfbeauftrv-26/
CATEGORIES:Webinar
END:VEVENT
BEGIN:VEVENT
DTSTART;VALUE=DATE:20261022
DTEND;VALUE=DATE:20261023
DTSTAMP:20260421T004236
CREATED:20251027T191921Z
LAST-MODIFIED:20251027T191921Z
UID:413262-1792627200-1792713599@www.recyclingmagazin.de
SUMMARY:Neue Ersatzbaustoffverordnung in der Praxis
DESCRIPTION:
URL:https://www.recyclingmagazin.de/event/neue-ersatzbaustoffverordnung-in-der-praxis-21/
CATEGORIES:Webinar
END:VEVENT
BEGIN:VEVENT
DTSTART;TZID=Europe/Berlin:20261028T090000
DTEND;TZID=Europe/Berlin:20261028T150000
DTSTAMP:20260421T004236
CREATED:20251020T164159Z
LAST-MODIFIED:20251020T164159Z
UID:413020-1793178000-1793199600@www.recyclingmagazin.de
SUMMARY:Abfallanalysen lesen & verstehen
DESCRIPTION:
URL:https://www.recyclingmagazin.de/event/abfallanalysen-lesen-verstehen-9/
CATEGORIES:Webinar
END:VEVENT
BEGIN:VEVENT
DTSTART;VALUE=DATE:20261029
DTEND;VALUE=DATE:20261030
DTSTAMP:20260421T004236
CREATED:20260305T175848Z
LAST-MODIFIED:20260305T175848Z
UID:415097-1793232000-1793318399@www.recyclingmagazin.de
SUMMARY:Mitarbeiter richtig unterweisen
DESCRIPTION:
URL:https://www.recyclingmagazin.de/event/mitarbeiter-richtig-unterweisen-11/
CATEGORIES:Webinar
END:VEVENT
BEGIN:VEVENT
DTSTART;VALUE=DATE:20261029
DTEND;VALUE=DATE:20261030
DTSTAMP:20260421T004236
CREATED:20260305T180321Z
LAST-MODIFIED:20260305T180341Z
UID:415102-1793232000-1793318399@www.recyclingmagazin.de
SUMMARY:Preiserverhandlungen in der Entsorgungswirtschaft
DESCRIPTION:
URL:https://www.recyclingmagazin.de/event/preiserverhandlungen-in-der-entsorgungswirtschaft-2/
CATEGORIES:Webinar
END:VEVENT
END:VCALENDAR