BEGIN:VCALENDAR
VERSION:2.0
PRODID:-//RECYCLING magazin - ECPv6.15.20//NONSGML v1.0//EN
CALSCALE:GREGORIAN
METHOD:PUBLISH
X-WR-CALNAME:RECYCLING magazin
X-ORIGINAL-URL:https://www.recyclingmagazin.de
X-WR-CALDESC:Veranstaltungen für RECYCLING magazin
REFRESH-INTERVAL;VALUE=DURATION:PT1H
X-Robots-Tag:noindex
X-PUBLISHED-TTL:PT1H
BEGIN:VTIMEZONE
TZID:Europe/Berlin
BEGIN:DAYLIGHT
TZOFFSETFROM:+0100
TZOFFSETTO:+0200
TZNAME:CEST
DTSTART:20250330T010000
END:DAYLIGHT
BEGIN:STANDARD
TZOFFSETFROM:+0200
TZOFFSETTO:+0100
TZNAME:CET
DTSTART:20251026T010000
END:STANDARD
BEGIN:DAYLIGHT
TZOFFSETFROM:+0100
TZOFFSETTO:+0200
TZNAME:CEST
DTSTART:20260329T010000
END:DAYLIGHT
BEGIN:STANDARD
TZOFFSETFROM:+0200
TZOFFSETTO:+0100
TZNAME:CET
DTSTART:20261025T010000
END:STANDARD
BEGIN:DAYLIGHT
TZOFFSETFROM:+0100
TZOFFSETTO:+0200
TZNAME:CEST
DTSTART:20270328T010000
END:DAYLIGHT
BEGIN:STANDARD
TZOFFSETFROM:+0200
TZOFFSETTO:+0100
TZNAME:CET
DTSTART:20271031T010000
END:STANDARD
BEGIN:DAYLIGHT
TZOFFSETFROM:+0100
TZOFFSETTO:+0200
TZNAME:CEST
DTSTART:20280326T010000
END:DAYLIGHT
BEGIN:STANDARD
TZOFFSETFROM:+0200
TZOFFSETTO:+0100
TZNAME:CET
DTSTART:20281029T010000
END:STANDARD
END:VTIMEZONE
BEGIN:VEVENT
DTSTART;VALUE=DATE:20260119
DTEND;VALUE=DATE:20270701
DTSTAMP:20260420T185142
CREATED:20251126T131910Z
LAST-MODIFIED:20251126T131910Z
UID:413744-1768780800-1814399999@www.recyclingmagazin.de
SUMMARY:Vorbereitungskurs auf die Externenprüfung „Umwelttechnologe/-in für Kreislauf- und Abfallwirtschaft“
DESCRIPTION:
URL:https://www.recyclingmagazin.de/event/vorbereitungskurs-auf-die-externenpruefung-umwelttechnologe-in-fuer-kreislauf-und-abfallwirtschaft/
END:VEVENT
BEGIN:VEVENT
DTSTART;VALUE=DATE:20260601
DTEND;VALUE=DATE:20260602
DTSTAMP:20260420T185142
CREATED:20251021T100737Z
LAST-MODIFIED:20251021T100737Z
UID:413133-1780272000-1780358399@www.recyclingmagazin.de
SUMMARY:Mitarbeiter richtig unterweisen
DESCRIPTION:
URL:https://www.recyclingmagazin.de/event/mitarbeiter-richtig-unterweisen-10/
CATEGORIES:Webinar
END:VEVENT
BEGIN:VEVENT
DTSTART;VALUE=DATE:20260602
DTEND;VALUE=DATE:20260603
DTSTAMP:20260420T185142
CREATED:20251021T095253Z
LAST-MODIFIED:20251021T095253Z
UID:413113-1780358400-1780444799@www.recyclingmagazin.de
SUMMARY:§ 53 KrWG Lehrgang zum Nachweis der Fachkunde
DESCRIPTION:
URL:https://www.recyclingmagazin.de/event/%c2%a7-53-krwg-lehrgang-zum-nachweis-der-fachkunde-50/
CATEGORIES:Webinar
END:VEVENT
BEGIN:VEVENT
DTSTART;VALUE=DATE:20260602
DTEND;VALUE=DATE:20260603
DTSTAMP:20260420T185142
CREATED:20251021T103440Z
LAST-MODIFIED:20251021T103440Z
UID:413150-1780358400-1780444799@www.recyclingmagazin.de
SUMMARY:Lehrgang zur Probenahme fester Abfälle nach LAGA PN 98
DESCRIPTION:
URL:https://www.recyclingmagazin.de/event/lehrgang-zur-probenahme-fester-abfaelle-nach-laga-pn-98-35/
CATEGORIES:Webinar
END:VEVENT
BEGIN:VEVENT
DTSTART;VALUE=DATE:20260608
DTEND;VALUE=DATE:20260610
DTSTAMP:20260420T185142
CREATED:20260305T172301Z
LAST-MODIFIED:20260305T173146Z
UID:415085-1780876800-1781049599@www.recyclingmagazin.de
SUMMARY:Baustellenabfall richtig entsorgen
DESCRIPTION:
URL:https://www.recyclingmagazin.de/event/baustellenabfall-richtig-entsorgen-14/
CATEGORIES:Webinar
END:VEVENT
BEGIN:VEVENT
DTSTART;VALUE=DATE:20260609
DTEND;VALUE=DATE:20260612
DTSTAMP:20260420T185142
CREATED:20250729T105705Z
LAST-MODIFIED:20250729T110150Z
UID:411849-1780963200-1781222399@www.recyclingmagazin.de
SUMMARY:The Battery Show Europe 2026
DESCRIPTION:
URL:https://www.recyclingmagazin.de/event/battery-show-europe-2026-2/
LOCATION:Messe Stuttgart GmbH\, Messepiazza 1\, Stuttgart\, 70629 \, Deutschland
CATEGORIES:Messe
END:VEVENT
BEGIN:VEVENT
DTSTART;VALUE=DATE:20260609
DTEND;VALUE=DATE:20260611
DTSTAMP:20260420T185142
CREATED:20251027T190004Z
LAST-MODIFIED:20251027T190004Z
UID:413239-1780963200-1781135999@www.recyclingmagazin.de
SUMMARY:Einführung rechtliche und technische Grundlagen der Abfallwirtschaft
DESCRIPTION:
URL:https://www.recyclingmagazin.de/event/einfuehrung-rechtliche-und-technische-grundlagen-der-abfallwirtschaft-65/
CATEGORIES:Webinar
END:VEVENT
BEGIN:VEVENT
DTSTART;VALUE=DATE:20260609
DTEND;VALUE=DATE:20260611
DTSTAMP:20260420T185142
CREATED:20260305T152326Z
LAST-MODIFIED:20260305T152407Z
UID:415049-1780963200-1781135999@www.recyclingmagazin.de
SUMMARY:Die Ersatzbaustoffverordnung – Umsetzung in der Praxis
DESCRIPTION:
URL:https://www.recyclingmagazin.de/event/die-ersatzbaustoffverordnung-umsetzung-in-der-praxis/
CATEGORIES:Webinar
END:VEVENT
BEGIN:VEVENT
DTSTART;VALUE=DATE:20260609
DTEND;VALUE=DATE:20260613
DTSTAMP:20260420T185142
CREATED:20260305T152512Z
LAST-MODIFIED:20260305T152535Z
UID:415051-1780963200-1781308799@www.recyclingmagazin.de
SUMMARY:Kombinierte Fortbildung für Immissionsschutz-\, Störfall-\, Abfall- und Gewässerschutzbeauftragte
DESCRIPTION:
URL:https://www.recyclingmagazin.de/event/kombinierte-fortbildung-fuer-immissionsschutz-stoerfall-abfall-und-gewaesserschutzbeauftragte-2/
CATEGORIES:Seminar
END:VEVENT
BEGIN:VEVENT
DTSTART;VALUE=DATE:20260609
DTEND;VALUE=DATE:20260610
DTSTAMP:20260420T185142
CREATED:20260305T205106Z
LAST-MODIFIED:20260305T205106Z
UID:415121-1780963200-1781049599@www.recyclingmagazin.de
SUMMARY:Öffentliche Ausschreibungen und Vergabeverfahren
DESCRIPTION:
URL:https://www.recyclingmagazin.de/event/oeffentliche-ausschreibungen-und-vergabeverfahren-13/
CATEGORIES:Webinar
END:VEVENT
BEGIN:VEVENT
DTSTART;VALUE=DATE:20260610
DTEND;VALUE=DATE:20260612
DTSTAMP:20260420T185142
CREATED:20251017T161525Z
LAST-MODIFIED:20251017T163838Z
UID:413004-1781049600-1781222399@www.recyclingmagazin.de
SUMMARY:VinylPlus Sustainability Forum 2026
DESCRIPTION:  \n 
URL:https://www.recyclingmagazin.de/event/vinylplus-sustainability-forum-2026/
CATEGORIES:Konferenz
END:VEVENT
BEGIN:VEVENT
DTSTART;VALUE=DATE:20260610
DTEND;VALUE=DATE:20260612
DTSTAMP:20260420T185142
CREATED:20260305T151602Z
LAST-MODIFIED:20260305T151602Z
UID:415040-1781049600-1781222399@www.recyclingmagazin.de
SUMMARY:Abfallrecht und Abfallmanagement - Kompaktkurs für Einsteiger
DESCRIPTION:
URL:https://www.recyclingmagazin.de/event/abfallrecht-und-abfallmanagement-kompaktkurs-fuer-einsteiger-6/
CATEGORIES:Seminar
END:VEVENT
BEGIN:VEVENT
DTSTART;VALUE=DATE:20260611
DTEND;VALUE=DATE:20260612
DTSTAMP:20260420T185142
CREATED:20251027T183644Z
LAST-MODIFIED:20251027T183644Z
UID:413221-1781136000-1781222399@www.recyclingmagazin.de
SUMMARY:Abfallrecht aktuell - Was ändert sich?
DESCRIPTION:
URL:https://www.recyclingmagazin.de/event/abfallrecht-aktuell-was-aendert-sich-9/
CATEGORIES:Webinar
END:VEVENT
BEGIN:VEVENT
DTSTART;VALUE=DATE:20260611
DTEND;VALUE=DATE:20260612
DTSTAMP:20260420T185142
CREATED:20260305T134712Z
LAST-MODIFIED:20260305T134818Z
UID:415010-1781136000-1781222399@www.recyclingmagazin.de
SUMMARY:VDM-Mitgliederversammlung 2026
DESCRIPTION:
URL:https://www.recyclingmagazin.de/event/vdm-mitgliederversammlung-2026/
CATEGORIES:Tagung
ORGANIZER;CN="Verband Deutscher Metallh%C3%A4ndler (VDM)":MAILTO:vdm@vdm.Berlin
END:VEVENT
BEGIN:VEVENT
DTSTART;VALUE=DATE:20260615
DTEND;VALUE=DATE:20260617
DTSTAMP:20260420T185142
CREATED:20251126T140738Z
LAST-MODIFIED:20251126T140739Z
UID:413796-1781481600-1781654399@www.recyclingmagazin.de
SUMMARY:Berliner Konferenz Mineralische Nebenprodukte und Abfälle
DESCRIPTION:
URL:https://www.recyclingmagazin.de/event/berliner-konferenz-mineralische-nebenprodukte-und-abfaelle-4/
LOCATION:Hotel Berlin\, Lützowplatz 17\, Berlin\, 10785 \, Deutschland
CATEGORIES:Konferenz
END:VEVENT
BEGIN:VEVENT
DTSTART;VALUE=DATE:20260615
DTEND;VALUE=DATE:20260620
DTSTAMP:20260420T185142
CREATED:20260305T152957Z
LAST-MODIFIED:20260305T152957Z
UID:415057-1781481600-1781913599@www.recyclingmagazin.de
SUMMARY:Lehrgang zum Erwerb der Sachkunde gemäß TRGS 519 Anlage 3
DESCRIPTION:
URL:https://www.recyclingmagazin.de/event/lehrgang-zum-erwerb-der-sachkunde-gemaess-trgs-519-anlage-3/
CATEGORIES:Seminar
END:VEVENT
BEGIN:VEVENT
DTSTART;VALUE=DATE:20260615
DTEND;VALUE=DATE:20260620
DTSTAMP:20260420T185142
CREATED:20260305T211912Z
LAST-MODIFIED:20260305T212054Z
UID:415135-1781481600-1781913599@www.recyclingmagazin.de
SUMMARY:ISWA Austria Study Tour 2026
DESCRIPTION:
URL:https://www.recyclingmagazin.de/event/iswa-austria-study-tour-2026/
CATEGORIES:Studienreise
END:VEVENT
BEGIN:VEVENT
DTSTART;VALUE=DATE:20260616
DTEND;VALUE=DATE:20260618
DTSTAMP:20260420T185142
CREATED:20251031T135256Z
LAST-MODIFIED:20251031T135256Z
UID:413426-1781568000-1781740799@www.recyclingmagazin.de
SUMMARY:Kombinierter Fortbildungslehrgang nach § 9 EfbV und § 5 AbfAEV sowie § 9 AbfBeauftrV
DESCRIPTION:
URL:https://www.recyclingmagazin.de/event/kombinierter-fortbildungslehrgang-nach-%c2%a7-9-efbv-und-%c2%a7-5-abfaev-sowie-%c2%a7-9-abfbeauftrv-24/
LOCATION:bvse-Bildungszentrum\, Fränkische Straße 2\, Bonn\, 53229\, Deutschland
CATEGORIES:Seminar
END:VEVENT
BEGIN:VEVENT
DTSTART;VALUE=DATE:20260616
DTEND;VALUE=DATE:20260617
DTSTAMP:20260420T185142
CREATED:20260305T174922Z
LAST-MODIFIED:20260305T174922Z
UID:415089-1781568000-1781654399@www.recyclingmagazin.de
SUMMARY:KI im Arbeitsalltag: Realität und Zukunftsperspektive
DESCRIPTION:
URL:https://www.recyclingmagazin.de/event/ki-im-arbeitsalltag-realitaet-und-zukunftsperspektive-3/
CATEGORIES:Webinar
END:VEVENT
BEGIN:VEVENT
DTSTART;VALUE=DATE:20260618
DTEND;VALUE=DATE:20260619
DTSTAMP:20260420T185142
CREATED:20251021T103601Z
LAST-MODIFIED:20251021T103601Z
UID:413152-1781740800-1781827199@www.recyclingmagazin.de
SUMMARY:Lehrgang zur Probenahme fester Abfälle nach LAGA PN 98
DESCRIPTION:
URL:https://www.recyclingmagazin.de/event/lehrgang-zur-probenahme-fester-abfaelle-nach-laga-pn-98-36/
CATEGORIES:Seminar
END:VEVENT
BEGIN:VEVENT
DTSTART;VALUE=DATE:20260622
DTEND;VALUE=DATE:20260626
DTSTAMP:20260420T185142
CREATED:20260305T164258Z
LAST-MODIFIED:20260305T164258Z
UID:415063-1782086400-1782431999@www.recyclingmagazin.de
SUMMARY:Betriebsbeauftragter für Abfall | Abfallbeauftragter nach AbfBeauftrV | EfbV | AbfAEV - Grundkurs
DESCRIPTION:
URL:https://www.recyclingmagazin.de/event/betriebsbeauftragter-fuer-abfall-abfallbeauftragter-nach-abfbeauftrv-efbv-abfaev-grundkurs-5/
CATEGORIES:Webinar
ORGANIZER;CN="kenic GmbH":MAILTO:info@kenic.de
END:VEVENT
BEGIN:VEVENT
DTSTART;VALUE=DATE:20260622
DTEND;VALUE=DATE:20260626
DTSTAMP:20260420T185142
CREATED:20260305T164522Z
LAST-MODIFIED:20260305T164629Z
UID:415068-1782086400-1782431999@www.recyclingmagazin.de
SUMMARY:Fachkundelehrgang EfbV | AbfAEV Grundkurs
DESCRIPTION:
URL:https://www.recyclingmagazin.de/event/fachkundelehrgang-efbv-abfaev-grundkurs-4/
CATEGORIES:Webinar
ORGANIZER;CN="kenic GmbH":MAILTO:info@kenic.de
END:VEVENT
BEGIN:VEVENT
DTSTART;TZID=Europe/Berlin:20260622T090000
DTEND;TZID=Europe/Berlin:20260622T150000
DTSTAMP:20260420T185142
CREATED:20251020T164102Z
LAST-MODIFIED:20251020T164102Z
UID:413018-1782118800-1782140400@www.recyclingmagazin.de
SUMMARY:Abfallanalysen lesen & verstehen
DESCRIPTION:
URL:https://www.recyclingmagazin.de/event/abfallanalysen-lesen-verstehen-8/
CATEGORIES:Webinar
END:VEVENT
BEGIN:VEVENT
DTSTART;VALUE=DATE:20260623
DTEND;VALUE=DATE:20260625
DTSTAMP:20260420T185142
CREATED:20251017T152710Z
LAST-MODIFIED:20251017T152710Z
UID:412989-1782172800-1782345599@www.recyclingmagazin.de
SUMMARY:European Waste Wood Group (EWWG) 2026
DESCRIPTION:
URL:https://www.recyclingmagazin.de/event/european-waste-wood-group-ewwg-2026/
CATEGORIES:Tagung
END:VEVENT
BEGIN:VEVENT
DTSTART;VALUE=DATE:20260623
DTEND;VALUE=DATE:20260624
DTSTAMP:20260420T185142
CREATED:20251020T173907Z
LAST-MODIFIED:20251020T173907Z
UID:413049-1782172800-1782259199@www.recyclingmagazin.de
SUMMARY:Grundlagen der Chemie von Abfall
DESCRIPTION:
URL:https://www.recyclingmagazin.de/event/grundlagen-der-chemie-von-abfall-23/
CATEGORIES:Webinar
END:VEVENT
BEGIN:VEVENT
DTSTART;VALUE=DATE:20260623
DTEND;VALUE=DATE:20260624
DTSTAMP:20260420T185142
CREATED:20251027T184514Z
LAST-MODIFIED:20251027T184514Z
UID:413231-1782172800-1782259199@www.recyclingmagazin.de
SUMMARY:ADR Schulung - Unterweisung gemäß Kapitel 1.3 ADR
DESCRIPTION:
URL:https://www.recyclingmagazin.de/event/adr-schulung-unterweisung-gemaess-kapitel-1-3-adr-15/
CATEGORIES:Webinar
END:VEVENT
BEGIN:VEVENT
DTSTART;VALUE=DATE:20260623
DTEND;VALUE=DATE:20260624
DTSTAMP:20260420T185142
CREATED:20251027T202719Z
LAST-MODIFIED:20251027T202719Z
UID:413328-1782172800-1782259199@www.recyclingmagazin.de
SUMMARY:Grundlagen Vertrieb in der Entsorgungswirtschaft
DESCRIPTION:
URL:https://www.recyclingmagazin.de/event/grundlagen-vertrieb-in-der-entsorgungswirtschaft-9/
CATEGORIES:Webinar
END:VEVENT
BEGIN:VEVENT
DTSTART;VALUE=DATE:20260623
DTEND;VALUE=DATE:20260626
DTSTAMP:20260420T185142
CREATED:20260127T143518Z
LAST-MODIFIED:20260127T143618Z
UID:414500-1782172800-1782431999@www.recyclingmagazin.de
SUMMARY:Greentech Festival 2026
DESCRIPTION:
URL:https://www.recyclingmagazin.de/event/greentech-festival-2026/
LOCATION:Messe Berlin – Berlin Expo Center\, Messedamm 22\, Berlin\, 14055
CATEGORIES:Kongress
END:VEVENT
BEGIN:VEVENT
DTSTART;VALUE=DATE:20260623
DTEND;VALUE=DATE:20260625
DTSTAMP:20260420T185142
CREATED:20260305T151725Z
LAST-MODIFIED:20260305T151725Z
UID:415042-1782172800-1782345599@www.recyclingmagazin.de
SUMMARY:Einstufung und Klassifizierung von Abfällen
DESCRIPTION:
URL:https://www.recyclingmagazin.de/event/einstufung-und-klassifizierung-von-abfaellen-7/
CATEGORIES:Seminar
END:VEVENT
BEGIN:VEVENT
DTSTART;VALUE=DATE:20260623
DTEND;VALUE=DATE:20260624
DTSTAMP:20260420T185142
CREATED:20260305T210705Z
LAST-MODIFIED:20260305T210705Z
UID:415129-1782172800-1782259199@www.recyclingmagazin.de
SUMMARY:SKZ-Innovationstag Circular Economy
DESCRIPTION:
URL:https://www.recyclingmagazin.de/event/skz-innovationstag-circular-economy-3/
LOCATION:SKZ Modellfabrik\, Friedrich-Bergius-Ring 21\, Würzburg\, 97076\, Deutschland
CATEGORIES:Tagung
END:VEVENT
END:VCALENDAR