BEGIN:VCALENDAR
VERSION:2.0
PRODID:-//RECYCLING magazin - ECPv6.15.20//NONSGML v1.0//EN
CALSCALE:GREGORIAN
METHOD:PUBLISH
X-WR-CALNAME:RECYCLING magazin
X-ORIGINAL-URL:https://www.recyclingmagazin.de
X-WR-CALDESC:Veranstaltungen für RECYCLING magazin
REFRESH-INTERVAL;VALUE=DURATION:PT1H
X-Robots-Tag:noindex
X-PUBLISHED-TTL:PT1H
BEGIN:VTIMEZONE
TZID:Europe/Berlin
BEGIN:DAYLIGHT
TZOFFSETFROM:+0100
TZOFFSETTO:+0200
TZNAME:CEST
DTSTART:20250330T010000
END:DAYLIGHT
BEGIN:STANDARD
TZOFFSETFROM:+0200
TZOFFSETTO:+0100
TZNAME:CET
DTSTART:20251026T010000
END:STANDARD
BEGIN:DAYLIGHT
TZOFFSETFROM:+0100
TZOFFSETTO:+0200
TZNAME:CEST
DTSTART:20260329T010000
END:DAYLIGHT
BEGIN:STANDARD
TZOFFSETFROM:+0200
TZOFFSETTO:+0100
TZNAME:CET
DTSTART:20261025T010000
END:STANDARD
BEGIN:DAYLIGHT
TZOFFSETFROM:+0100
TZOFFSETTO:+0200
TZNAME:CEST
DTSTART:20270328T010000
END:DAYLIGHT
BEGIN:STANDARD
TZOFFSETFROM:+0200
TZOFFSETTO:+0100
TZNAME:CET
DTSTART:20271031T010000
END:STANDARD
BEGIN:DAYLIGHT
TZOFFSETFROM:+0100
TZOFFSETTO:+0200
TZNAME:CEST
DTSTART:20280326T010000
END:DAYLIGHT
BEGIN:STANDARD
TZOFFSETFROM:+0200
TZOFFSETTO:+0100
TZNAME:CET
DTSTART:20281029T010000
END:STANDARD
END:VTIMEZONE
BEGIN:VEVENT
DTSTART;VALUE=DATE:20260119
DTEND;VALUE=DATE:20270701
DTSTAMP:20260419T223347
CREATED:20251126T131910Z
LAST-MODIFIED:20251126T131910Z
UID:413744-1768780800-1814399999@www.recyclingmagazin.de
SUMMARY:Vorbereitungskurs auf die Externenprüfung „Umwelttechnologe/-in für Kreislauf- und Abfallwirtschaft“
DESCRIPTION:
URL:https://www.recyclingmagazin.de/event/vorbereitungskurs-auf-die-externenpruefung-umwelttechnologe-in-fuer-kreislauf-und-abfallwirtschaft/
END:VEVENT
BEGIN:VEVENT
DTSTART;VALUE=DATE:20260302
DTEND;VALUE=DATE:20260304
DTSTAMP:20260419T223347
CREATED:20260114T121500Z
LAST-MODIFIED:20260114T121500Z
UID:414244-1772409600-1772582399@www.recyclingmagazin.de
SUMMARY:Crashkurs Rückbau und Abbruch
DESCRIPTION:
URL:https://www.recyclingmagazin.de/event/crashkurs-rueckbau-und-abbruch-4/
CATEGORIES:Seminar
END:VEVENT
BEGIN:VEVENT
DTSTART;VALUE=DATE:20260303
DTEND;VALUE=DATE:20260304
DTSTAMP:20260419T223347
CREATED:20251027T182948Z
LAST-MODIFIED:20251027T182948Z
UID:413208-1772496000-1772582399@www.recyclingmagazin.de
SUMMARY:Abfall einstufen nach AVV
DESCRIPTION:
URL:https://www.recyclingmagazin.de/event/abfall-einstufen-nach-avv-13/
CATEGORIES:Webinar
END:VEVENT
BEGIN:VEVENT
DTSTART;VALUE=DATE:20260303
DTEND;VALUE=DATE:20260305
DTSTAMP:20260419T223347
CREATED:20260127T151827Z
LAST-MODIFIED:20260127T151827Z
UID:414514-1772496000-1772668799@www.recyclingmagazin.de
SUMMARY:Compact Course on Circular Carbon: Chemical Recycling and Biowaste Utilization via Pyrolysis and Gasification
DESCRIPTION:
URL:https://www.recyclingmagazin.de/event/compact-course-on-circular-carbon-chemical-recycling-and-biowaste-utilization-via-pyrolysis-and-gasification/
LOCATION:Institute of Energy Process Engineering and Chemical Engineering\, Fuchsmühlenweg 9d\, Reiche Zeche\, Freiberg\, 09599\, Germany
CATEGORIES:Seminar
ORGANIZER;CN="TU Bergakademie Freiberg":MAILTO:gasification@iec.tu-freiberg.de
END:VEVENT
BEGIN:VEVENT
DTSTART;VALUE=DATE:20260304
DTEND;VALUE=DATE:20260305
DTSTAMP:20260419T223347
CREATED:20251027T194048Z
LAST-MODIFIED:20251027T194048Z
UID:413290-1772582400-1772668799@www.recyclingmagazin.de
SUMMARY:Sachkunde gemäß Altholzverordnung
DESCRIPTION:
URL:https://www.recyclingmagazin.de/event/sachkunde-gemaess-altholzverordnung-15/
CATEGORIES:Webinar
END:VEVENT
BEGIN:VEVENT
DTSTART;VALUE=DATE:20260304
DTEND;VALUE=DATE:20260305
DTSTAMP:20260419T223347
CREATED:20251027T203041Z
LAST-MODIFIED:20251027T203041Z
UID:413332-1772582400-1772668799@www.recyclingmagazin.de
SUMMARY:Fachgerechter Umgang mit der Waage in der Abfallannahme
DESCRIPTION:
URL:https://www.recyclingmagazin.de/event/fachgerechter-umgang-mit-der-waage-in-der-abfallannahme-18/
CATEGORIES:Webinar
END:VEVENT
BEGIN:VEVENT
DTSTART;VALUE=DATE:20260305
DTEND;VALUE=DATE:20260306
DTSTAMP:20260419T223347
CREATED:20260114T113044Z
LAST-MODIFIED:20260114T113044Z
UID:414198-1772668800-1772755199@www.recyclingmagazin.de
SUMMARY:Grenzüberschreitender Abfalltransport
DESCRIPTION:
URL:https://www.recyclingmagazin.de/event/grenzueberschreitender-abfalltransport-6/
CATEGORIES:Webinar
END:VEVENT
BEGIN:VEVENT
DTSTART;TZID=Europe/Berlin:20260306T110000
DTEND;TZID=Europe/Berlin:20260306T123000
DTSTAMP:20260419T223347
CREATED:20260114T113556Z
LAST-MODIFIED:20260114T113556Z
UID:414200-1772794800-1772800200@www.recyclingmagazin.de
SUMMARY:Kompost vom Wertstoffhof
DESCRIPTION:
URL:https://www.recyclingmagazin.de/event/kompost-vom-wertstoffhof-3/
CATEGORIES:Webinar
END:VEVENT
BEGIN:VEVENT
DTSTART;VALUE=DATE:20260309
DTEND;VALUE=DATE:20260313
DTSTAMP:20260419T223347
CREATED:20251031T134302Z
LAST-MODIFIED:20251031T134302Z
UID:413413-1773014400-1773359999@www.recyclingmagazin.de
SUMMARY:Grundkurs nach § 9 EfbV und § 5 AbfAEV
DESCRIPTION:
URL:https://www.recyclingmagazin.de/event/grundkurs-nach-%c2%a7-9-efbv-und-%c2%a7-5-abfaev-7/
LOCATION:bvse-Bildungszentrum\, Fränkische Straße 2\, Bonn\, 53229\, Deutschland
CATEGORIES:Seminar
END:VEVENT
BEGIN:VEVENT
DTSTART;VALUE=DATE:20260309
DTEND;VALUE=DATE:20260310
DTSTAMP:20260419T223347
CREATED:20260114T122526Z
LAST-MODIFIED:20260114T122526Z
UID:414251-1773014400-1773100799@www.recyclingmagazin.de
SUMMARY:Die Ersatzbaustoffverordnung in der aktuellen Praxis
DESCRIPTION:
URL:https://www.recyclingmagazin.de/event/die-ersatzbaustoffverordnung-in-der-aktuellen-praxis-3/
END:VEVENT
BEGIN:VEVENT
DTSTART;VALUE=DATE:20260310
DTEND;VALUE=DATE:20260311
DTSTAMP:20260419T223347
CREATED:20251020T192318Z
LAST-MODIFIED:20251020T192318Z
UID:413095-1773100800-1773187199@www.recyclingmagazin.de
SUMMARY:Kunststoffrecycling - Wie funktioniert das?
DESCRIPTION:
URL:https://www.recyclingmagazin.de/event/kunststoffrecycling-wie-funktioniert-das-7/
CATEGORIES:Webinar
END:VEVENT
BEGIN:VEVENT
DTSTART;VALUE=DATE:20260310
DTEND;VALUE=DATE:20260311
DTSTAMP:20260419T223347
CREATED:20251021T102200Z
LAST-MODIFIED:20251021T102200Z
UID:413141-1773100800-1773187199@www.recyclingmagazin.de
SUMMARY:Lehrgang zur Probenahme fester Abfälle nach LAGA PN 98
DESCRIPTION:
URL:https://www.recyclingmagazin.de/event/lehrgang-zur-probenahme-fester-abfaelle-nach-laga-pn-98-31/
CATEGORIES:Webinar
END:VEVENT
BEGIN:VEVENT
DTSTART;VALUE=DATE:20260310
DTEND;VALUE=DATE:20260312
DTSTAMP:20260419T223347
CREATED:20260114T113850Z
LAST-MODIFIED:20260114T113850Z
UID:414203-1773100800-1773273599@www.recyclingmagazin.de
SUMMARY:Fachkonferenz Die saubere Stadt
DESCRIPTION:
URL:https://www.recyclingmagazin.de/event/fachkonferenz-die-saubere-stadt-6/
LOCATION:MAXX Hotel Sanssouci Potsdam\, Allee nach Sanssouci 1\, Potsdam\, 14471\, Germany
CATEGORIES:Konferenz
END:VEVENT
BEGIN:VEVENT
DTSTART;VALUE=DATE:20260311
DTEND;VALUE=DATE:20260313
DTSTAMP:20260419T223347
CREATED:20250729T102339Z
LAST-MODIFIED:20250729T102339Z
UID:411847-1773187200-1773359999@www.recyclingmagazin.de
SUMMARY:Circular Valley Convention 2026 - CVC 2026
DESCRIPTION:
URL:https://www.recyclingmagazin.de/event/circular-valley-convention-2026-cvc-2026/
LOCATION:Areal Böhler\, Böhlerstraße 1\, Meerbusch\, 40667\, Germany
CATEGORIES:Messe
END:VEVENT
BEGIN:VEVENT
DTSTART;VALUE=DATE:20260312
DTEND;VALUE=DATE:20260313
DTSTAMP:20260419T223347
CREATED:20251126T133035Z
LAST-MODIFIED:20251126T133035Z
UID:413761-1773273600-1773359999@www.recyclingmagazin.de
SUMMARY:NE-Metall-Trefftag West
DESCRIPTION:
URL:https://www.recyclingmagazin.de/event/ne-metall-trefftag-west/
CATEGORIES:Konferenz
ORGANIZER;CN="Verband Deutscher Metallh%C3%A4ndler (VDM)":MAILTO:vdm@vdm.Berlin
END:VEVENT
BEGIN:VEVENT
DTSTART;TZID=Europe/Berlin:20260313T090000
DTEND;TZID=Europe/Berlin:20260313T150000
DTSTAMP:20260419T223347
CREATED:20251031T134512Z
LAST-MODIFIED:20251031T134512Z
UID:413415-1773392400-1773414000@www.recyclingmagazin.de
SUMMARY:Lehrgangsmodul Betriebsbeauftragter für Abfall
DESCRIPTION:
URL:https://www.recyclingmagazin.de/event/lehrgangsmodul-betriebsbeauftragter-fuer-abfall-10/
LOCATION:bvse-Bildungszentrum\, Fränkische Straße 2\, Bonn\, 53229\, Deutschland
CATEGORIES:Seminar
END:VEVENT
BEGIN:VEVENT
DTSTART;VALUE=DATE:20260316
DTEND;VALUE=DATE:20260317
DTSTAMP:20260419T223347
CREATED:20260114T114030Z
LAST-MODIFIED:20260114T114030Z
UID:414206-1773619200-1773705599@www.recyclingmagazin.de
SUMMARY:Abfallgebühren
DESCRIPTION:
URL:https://www.recyclingmagazin.de/event/abfallgebuehren-5/
CATEGORIES:Webinar
END:VEVENT
BEGIN:VEVENT
DTSTART;VALUE=DATE:20260317
DTEND;VALUE=DATE:20260318
DTSTAMP:20260419T223347
CREATED:20251021T094952Z
LAST-MODIFIED:20251021T094952Z
UID:413105-1773705600-1773791999@www.recyclingmagazin.de
SUMMARY:§ 53 KrWG Lehrgang zum Nachweis der Fachkunde
DESCRIPTION:
URL:https://www.recyclingmagazin.de/event/%c2%a7-53-krwg-lehrgang-zum-nachweis-der-fachkunde-46/
CATEGORIES:Webinar
END:VEVENT
BEGIN:VEVENT
DTSTART;VALUE=DATE:20260317
DTEND;VALUE=DATE:20260318
DTSTAMP:20260419T223347
CREATED:20260114T114138Z
LAST-MODIFIED:20260114T114138Z
UID:414209-1773705600-1773791999@www.recyclingmagazin.de
SUMMARY:Entsorgung von Abfällen aus Krankenhaus\, Pflege und Forschung
DESCRIPTION:
URL:https://www.recyclingmagazin.de/event/entsorgung-von-abfaellen-aus-krankenhaus-pflege-und-forschung-5/
CATEGORIES:Webinar
END:VEVENT
BEGIN:VEVENT
DTSTART;VALUE=DATE:20260317
DTEND;VALUE=DATE:20260318
DTSTAMP:20260419T223347
CREATED:20260114T114410Z
LAST-MODIFIED:20260114T114410Z
UID:414212-1773705600-1773791999@www.recyclingmagazin.de
SUMMARY:Sachkundiger (befähigte Person) gemäß DGUV Vorschrift 70
DESCRIPTION:
URL:https://www.recyclingmagazin.de/event/sachkundiger-befaehigte-person-gemaess-dguv-vorschrift-70-13/
LOCATION:FAUN Umwelttechnik GmbH & Co. KG Herne\, Castroper Straße 71\, Herne\, 44628
CATEGORIES:Seminar
END:VEVENT
BEGIN:VEVENT
DTSTART;VALUE=DATE:20260317
DTEND;VALUE=DATE:20260318
DTSTAMP:20260419T223347
CREATED:20260305T173402Z
LAST-MODIFIED:20260305T173402Z
UID:415087-1773705600-1773791999@www.recyclingmagazin.de
SUMMARY:Controlling mit Unternehmenssimulationen – Intensivkurs zu Kennzahlen
DESCRIPTION:
URL:https://www.recyclingmagazin.de/event/controlling-mit-unternehmenssimulationen-intensivkurs-zu-kennzahlen-2/
CATEGORIES:Webinar
END:VEVENT
BEGIN:VEVENT
DTSTART;TZID=Europe/Berlin:20260317T090000
DTEND;TZID=Europe/Berlin:20260317T130000
DTSTAMP:20260419T223347
CREATED:20260114T114514Z
LAST-MODIFIED:20260114T114514Z
UID:414214-1773738000-1773752400@www.recyclingmagazin.de
SUMMARY:Wiederverwendung statt Verzicht: ReUse als Lösung
DESCRIPTION:
URL:https://www.recyclingmagazin.de/event/wiederverwendung-statt-verzicht-reuse-als-loesung-5/
CATEGORIES:Webinar
END:VEVENT
BEGIN:VEVENT
DTSTART;TZID=Europe/Berlin:20260317T090000
DTEND;TZID=Europe/Berlin:20260317T150000
DTSTAMP:20260419T223347
CREATED:20251020T163956Z
LAST-MODIFIED:20251118T152126Z
UID:413016-1773738000-1773759600@www.recyclingmagazin.de
SUMMARY:Abfallanalysen lesen & verstehen
DESCRIPTION:
URL:https://www.recyclingmagazin.de/event/abfallanalysen-lesen-verstehen-7/
CATEGORIES:Webinar
END:VEVENT
BEGIN:VEVENT
DTSTART;VALUE=DATE:20260318
DTEND;VALUE=DATE:20260320
DTSTAMP:20260419T223347
CREATED:20241105T170656Z
LAST-MODIFIED:20241105T170827Z
UID:407083-1773792000-1773964799@www.recyclingmagazin.de
SUMMARY:Solids & Recycling-Technik 2026
DESCRIPTION:Fachmesse für Granulat-\, Pulver- und Schüttgut-Technologien
URL:https://www.recyclingmagazin.de/event/solids-recycling-technik-2026/
LOCATION:Messe Dortmund\, Strobelallee 45\, Dortmund\, 44139\, Deutschland
CATEGORIES:Messe
END:VEVENT
BEGIN:VEVENT
DTSTART;VALUE=DATE:20260318
DTEND;VALUE=DATE:20260319
DTSTAMP:20260419T223347
CREATED:20251020T170756Z
LAST-MODIFIED:20251020T170756Z
UID:413035-1773792000-1773878399@www.recyclingmagazin.de
SUMMARY:Grenzüberschreitende Abfallverbringung
DESCRIPTION:
URL:https://www.recyclingmagazin.de/event/grenzueberschreitende-abfallverbringung-67/
CATEGORIES:Webinar
END:VEVENT
BEGIN:VEVENT
DTSTART;VALUE=DATE:20260318
DTEND;VALUE=DATE:20260319
DTSTAMP:20260419T223347
CREATED:20251027T202546Z
LAST-MODIFIED:20251027T202546Z
UID:413326-1773792000-1773878399@www.recyclingmagazin.de
SUMMARY:Grundlagen Vertrieb in der Entsorgungswirtschaft
DESCRIPTION:
URL:https://www.recyclingmagazin.de/event/grundlagen-vertrieb-in-der-entsorgungswirtschaft-8/
CATEGORIES:Webinar
END:VEVENT
BEGIN:VEVENT
DTSTART;VALUE=DATE:20260318
DTEND;VALUE=DATE:20260319
DTSTAMP:20260419T223347
CREATED:20260114T115235Z
LAST-MODIFIED:20260114T115235Z
UID:414220-1773792000-1773878399@www.recyclingmagazin.de
SUMMARY:Abfallrechtliche Nachweisführung
DESCRIPTION:
URL:https://www.recyclingmagazin.de/event/abfallrechtliche-nachweisfuehrung-17/
CATEGORIES:Workshop
END:VEVENT
BEGIN:VEVENT
DTSTART;VALUE=DATE:20260319
DTEND;VALUE=DATE:20260320
DTSTAMP:20260419T223347
CREATED:20260114T114633Z
LAST-MODIFIED:20260114T114633Z
UID:414216-1773878400-1773964799@www.recyclingmagazin.de
SUMMARY:22. Fachkonferenz Sammeln\, Verwerten und Entsorgen von Sperrmüll
DESCRIPTION:
URL:https://www.recyclingmagazin.de/event/22-fachkonferenz-sammeln-verwerten-und-entsorgen-von-sperrmuell/
CATEGORIES:Konferenz,Webinar
END:VEVENT
BEGIN:VEVENT
DTSTART;TZID=Europe/Berlin:20260319T090000
DTEND;TZID=Europe/Berlin:20260319T153000
DTSTAMP:20260419T223347
CREATED:20251020T164511Z
LAST-MODIFIED:20251020T164511Z
UID:413025-1773910800-1773934200@www.recyclingmagazin.de
SUMMARY:Abfallnachweisverfahren (eANV) und Abfallnachweisführung
DESCRIPTION:
URL:https://www.recyclingmagazin.de/event/abfallnachweisverfahren-eanv-und-abfallnachweisfuehrung-80/
CATEGORIES:Webinar
END:VEVENT
BEGIN:VEVENT
DTSTART;VALUE=DATE:20260323
DTEND;VALUE=DATE:20260325
DTSTAMP:20260419T223347
CREATED:20251126T140520Z
LAST-MODIFIED:20251126T140520Z
UID:413794-1774224000-1774396799@www.recyclingmagazin.de
SUMMARY:Berliner Konferenz Metallkreisläufe
DESCRIPTION:
URL:https://www.recyclingmagazin.de/event/berliner-konferenz-metallkreislaeufe/
LOCATION:Leonardo Royal Hotel Berlin Alexanderplatz\, Otto-Braun-Straße 90\, Berlin\, 10249\, Deutschland
CATEGORIES:Konferenz
END:VEVENT
END:VCALENDAR