BEGIN:VCALENDAR
VERSION:2.0
PRODID:-//RECYCLING magazin - ECPv6.15.20//NONSGML v1.0//EN
CALSCALE:GREGORIAN
METHOD:PUBLISH
X-WR-CALNAME:RECYCLING magazin
X-ORIGINAL-URL:https://www.recyclingmagazin.de
X-WR-CALDESC:Veranstaltungen für RECYCLING magazin
REFRESH-INTERVAL;VALUE=DURATION:PT1H
X-Robots-Tag:noindex
X-PUBLISHED-TTL:PT1H
BEGIN:VTIMEZONE
TZID:Europe/Berlin
BEGIN:DAYLIGHT
TZOFFSETFROM:+0100
TZOFFSETTO:+0200
TZNAME:CEST
DTSTART:20250330T010000
END:DAYLIGHT
BEGIN:STANDARD
TZOFFSETFROM:+0200
TZOFFSETTO:+0100
TZNAME:CET
DTSTART:20251026T010000
END:STANDARD
BEGIN:DAYLIGHT
TZOFFSETFROM:+0100
TZOFFSETTO:+0200
TZNAME:CEST
DTSTART:20260329T010000
END:DAYLIGHT
BEGIN:STANDARD
TZOFFSETFROM:+0200
TZOFFSETTO:+0100
TZNAME:CET
DTSTART:20261025T010000
END:STANDARD
BEGIN:DAYLIGHT
TZOFFSETFROM:+0100
TZOFFSETTO:+0200
TZNAME:CEST
DTSTART:20270328T010000
END:DAYLIGHT
BEGIN:STANDARD
TZOFFSETFROM:+0200
TZOFFSETTO:+0100
TZNAME:CET
DTSTART:20271031T010000
END:STANDARD
BEGIN:DAYLIGHT
TZOFFSETFROM:+0100
TZOFFSETTO:+0200
TZNAME:CEST
DTSTART:20280326T010000
END:DAYLIGHT
BEGIN:STANDARD
TZOFFSETFROM:+0200
TZOFFSETTO:+0100
TZNAME:CET
DTSTART:20281029T010000
END:STANDARD
END:VTIMEZONE
BEGIN:VEVENT
DTSTART;VALUE=DATE:20260107
DTEND;VALUE=DATE:20260108
DTSTAMP:20260420T154614
CREATED:20251027T194628Z
LAST-MODIFIED:20251027T194628Z
UID:413298-1767744000-1767830399@www.recyclingmagazin.de
SUMMARY:Befähigte Person zur Prüfung von Absetz- und Abrollbehältern (14 BetrSichV)
DESCRIPTION:
URL:https://www.recyclingmagazin.de/event/befaehigte-person-zur-pruefung-von-absetz-und-abrollbehaeltern-14-betrsichv-17/
CATEGORIES:Webinar
END:VEVENT
BEGIN:VEVENT
DTSTART;VALUE=DATE:20260112
DTEND;VALUE=DATE:20260113
DTSTAMP:20260420T154614
CREATED:20251126T125529Z
LAST-MODIFIED:20251126T125621Z
UID:413736-1768176000-1768262399@www.recyclingmagazin.de
SUMMARY:Sicherer Umgang mit Elektroaltgeräten
DESCRIPTION:
URL:https://www.recyclingmagazin.de/event/sicherer-umgang-mit-elektroaltgeraeten/
CATEGORIES:Webinar
END:VEVENT
BEGIN:VEVENT
DTSTART;VALUE=DATE:20260113
DTEND;VALUE=DATE:20260115
DTSTAMP:20260420T154614
CREATED:20251020T181422Z
LAST-MODIFIED:20251020T181422Z
UID:413065-1768262400-1768435199@www.recyclingmagazin.de
SUMMARY:Einführung rechtliche und technische Grundlagen der Abfallwirtschaft
DESCRIPTION:
URL:https://www.recyclingmagazin.de/event/einfuehrung-rechtliche-und-technische-grundlagen-der-abfallwirtschaft-60/
CATEGORIES:Webinar
END:VEVENT
BEGIN:VEVENT
DTSTART;VALUE=DATE:20260113
DTEND;VALUE=DATE:20260114
DTSTAMP:20260420T154614
CREATED:20251126T132858Z
LAST-MODIFIED:20251126T132858Z
UID:413758-1768262400-1768348799@www.recyclingmagazin.de
SUMMARY:Neues Abfallvebringungsrecht (VVA)
DESCRIPTION:
URL:https://www.recyclingmagazin.de/event/neues-abfallvebringungsrecht-vva/
CATEGORIES:Seminar
ORGANIZER;CN="Verband Deutscher Metallh%C3%A4ndler (VDM)":MAILTO:vdm@vdm.Berlin
END:VEVENT
BEGIN:VEVENT
DTSTART;TZID=Europe/Berlin:20260115T090000
DTEND;TZID=Europe/Berlin:20260115T130000
DTSTAMP:20260420T154614
CREATED:20251126T125729Z
LAST-MODIFIED:20251126T125729Z
UID:413738-1768467600-1768482000@www.recyclingmagazin.de
SUMMARY:Vorbereitung zur Wiederverwendung nach §§ 17a und 17b ElektroG3
DESCRIPTION:
URL:https://www.recyclingmagazin.de/event/vorbereitung-zur-wiederverwendung-nach-%c2%a7%c2%a7-17a-und-17b-elektrog3-5/
CATEGORIES:Webinar
END:VEVENT
BEGIN:VEVENT
DTSTART;TZID=Europe/Berlin:20260116T083000
DTEND;TZID=Europe/Berlin:20260116T100000
DTSTAMP:20260420T154614
CREATED:20251126T125934Z
LAST-MODIFIED:20251126T131703Z
UID:413742-1768552200-1768557600@www.recyclingmagazin.de
SUMMARY:Mit künstlicher Intelligenz die Stadtsauberkeit verbessern
DESCRIPTION:
URL:https://www.recyclingmagazin.de/event/mit-kuenstlicher-intelligenz-die-stadtsauberkeit-verbessern-3/
CATEGORIES:Webinar
END:VEVENT
BEGIN:VEVENT
DTSTART;TZID=Europe/Berlin:20260116T110000
DTEND;TZID=Europe/Berlin:20260116T123000
DTSTAMP:20260420T154614
CREATED:20251126T125832Z
LAST-MODIFIED:20251126T125832Z
UID:413740-1768561200-1768566600@www.recyclingmagazin.de
SUMMARY:Prozessoptimierung durch automatisierte Zugangssysteme auf Wertstoffhöfen
DESCRIPTION:
URL:https://www.recyclingmagazin.de/event/prozessoptimierung-durch-automatisierte-zugangssysteme-auf-wertstoffhoefen-2/
CATEGORIES:Webinar
END:VEVENT
BEGIN:VEVENT
DTSTART;VALUE=DATE:20260119
DTEND;VALUE=DATE:20270701
DTSTAMP:20260420T154614
CREATED:20251126T131910Z
LAST-MODIFIED:20251126T131910Z
UID:413744-1768780800-1814399999@www.recyclingmagazin.de
SUMMARY:Vorbereitungskurs auf die Externenprüfung „Umwelttechnologe/-in für Kreislauf- und Abfallwirtschaft“
DESCRIPTION:
URL:https://www.recyclingmagazin.de/event/vorbereitungskurs-auf-die-externenpruefung-umwelttechnologe-in-fuer-kreislauf-und-abfallwirtschaft/
END:VEVENT
BEGIN:VEVENT
DTSTART;VALUE=DATE:20260120
DTEND;VALUE=DATE:20260121
DTSTAMP:20260420T154614
CREATED:20251021T094809Z
LAST-MODIFIED:20251021T094809Z
UID:413101-1768867200-1768953599@www.recyclingmagazin.de
SUMMARY:§ 53 KrWG Lehrgang zum Nachweis der Fachkunde
DESCRIPTION:
URL:https://www.recyclingmagazin.de/event/%c2%a7-53-krwg-lehrgang-zum-nachweis-der-fachkunde-44/
CATEGORIES:Webinar
END:VEVENT
BEGIN:VEVENT
DTSTART;VALUE=DATE:20260120
DTEND;VALUE=DATE:20260121
DTSTAMP:20260420T154615
CREATED:20251021T101439Z
LAST-MODIFIED:20251021T101439Z
UID:413135-1768867200-1768953599@www.recyclingmagazin.de
SUMMARY:Lehrgang zur Probenahme fester Abfälle nach LAGA PN 98
DESCRIPTION:
URL:https://www.recyclingmagazin.de/event/lehrgang-zur-probenahme-fester-abfaelle-nach-laga-pn-98-28/
CATEGORIES:Webinar
END:VEVENT
BEGIN:VEVENT
DTSTART;VALUE=DATE:20260121
DTEND;VALUE=DATE:20260124
DTSTAMP:20260420T154615
CREATED:20250729T153047Z
LAST-MODIFIED:20250729T153047Z
UID:411884-1768953600-1769212799@www.recyclingmagazin.de
SUMMARY:ierc 2026 - International Electronics Reuse & Recycling Congress
DESCRIPTION:
URL:https://www.recyclingmagazin.de/event/ierc-2026-international-electronics-reuse-recycling-congress/
LOCATION:Valencia Conference Centre\, Avda. Cortes Valencianas 60\, Valencia\, 46015\, Spanien
CATEGORIES:Kongress
ORGANIZER;CN="ICM":MAILTO:info@icm.ch
END:VEVENT
BEGIN:VEVENT
DTSTART;VALUE=DATE:20260121
DTEND;VALUE=DATE:20260122
DTSTAMP:20260420T154615
CREATED:20251020T170654Z
LAST-MODIFIED:20251020T170654Z
UID:413033-1768953600-1769039999@www.recyclingmagazin.de
SUMMARY:Grenzüberschreitende Abfallverbringung
DESCRIPTION:
URL:https://www.recyclingmagazin.de/event/grenzueberschreitende-abfallverbringung-66/
CATEGORIES:Webinar
END:VEVENT
BEGIN:VEVENT
DTSTART;VALUE=DATE:20260121
DTEND;VALUE=DATE:20260122
DTSTAMP:20260420T154615
CREATED:20251027T193909Z
LAST-MODIFIED:20251027T193909Z
UID:413288-1768953600-1769039999@www.recyclingmagazin.de
SUMMARY:Sachkunde gemäß Altholzverordnung
DESCRIPTION:
URL:https://www.recyclingmagazin.de/event/sachkunde-gemaess-altholzverordnung-14/
CATEGORIES:Webinar
END:VEVENT
BEGIN:VEVENT
DTSTART;VALUE=DATE:20260121
DTEND;VALUE=DATE:20260122
DTSTAMP:20260420T154615
CREATED:20251126T134258Z
LAST-MODIFIED:20251126T134258Z
UID:413772-1768953600-1769039999@www.recyclingmagazin.de
SUMMARY:Abfallseminar für Einsteiger
DESCRIPTION:
URL:https://www.recyclingmagazin.de/event/abfallseminar-fuer-einsteiger-14/
LOCATION:Umweltinstitut Offenbach\, Frankfurter Straße 48\, Offenbach\, 63065\, Deutschland
CATEGORIES:Seminar
END:VEVENT
BEGIN:VEVENT
DTSTART;TZID=Europe/Berlin:20260121T090000
DTEND;TZID=Europe/Berlin:20260121T110000
DTSTAMP:20260420T154615
CREATED:20251027T202947Z
LAST-MODIFIED:20251027T202947Z
UID:413330-1768986000-1768993200@www.recyclingmagazin.de
SUMMARY:Fachgerechter Umgang mit der Waage in der Abfallannahme
DESCRIPTION:
URL:https://www.recyclingmagazin.de/event/fachgerechter-umgang-mit-der-waage-in-der-abfallannahme-17/
CATEGORIES:Webinar
END:VEVENT
BEGIN:VEVENT
DTSTART;TZID=Europe/Berlin:20260122T090000
DTEND;TZID=Europe/Berlin:20260122T150000
DTSTAMP:20260420T154615
CREATED:20251020T164404Z
LAST-MODIFIED:20251020T164404Z
UID:413023-1769072400-1769094000@www.recyclingmagazin.de
SUMMARY:Abfallnachweisverfahren (eANV) und Abfallnachweisführung
DESCRIPTION:
URL:https://www.recyclingmagazin.de/event/abfallnachweisverfahren-eanv-und-abfallnachweisfuehrung-79/
CATEGORIES:Webinar
END:VEVENT
BEGIN:VEVENT
DTSTART;TZID=Europe/Berlin:20260123T110000
DTEND;TZID=Europe/Berlin:20260123T123000
DTSTAMP:20260420T154615
CREATED:20251126T132031Z
LAST-MODIFIED:20251126T132031Z
UID:413747-1769166000-1769171400@www.recyclingmagazin.de
SUMMARY:Eine Fahrradbatterie macht sich auf den Weg
DESCRIPTION:
URL:https://www.recyclingmagazin.de/event/eine-fahrradbatterie-macht-sich-auf-den-weg-3/
CATEGORIES:Webinar
END:VEVENT
BEGIN:VEVENT
DTSTART;VALUE=DATE:20260126
DTEND;VALUE=DATE:20260127
DTSTAMP:20260420T154615
CREATED:20251020T173239Z
LAST-MODIFIED:20251020T173239Z
UID:413045-1769385600-1769471999@www.recyclingmagazin.de
SUMMARY:Grundlagen der Chemie von Abfall
DESCRIPTION:
URL:https://www.recyclingmagazin.de/event/grundlagen-der-chemie-von-abfall-21/
CATEGORIES:Webinar
END:VEVENT
BEGIN:VEVENT
DTSTART;VALUE=DATE:20260126
DTEND;VALUE=DATE:20260128
DTSTAMP:20260420T154615
CREATED:20251126T133636Z
LAST-MODIFIED:20251126T133636Z
UID:413765-1769385600-1769558399@www.recyclingmagazin.de
SUMMARY:Abfall als Gefahrstoff und Gefahrgut
DESCRIPTION:
URL:https://www.recyclingmagazin.de/event/abfall-als-gefahrstoff-und-gefahrgut-4/
CATEGORIES:Webinar
END:VEVENT
BEGIN:VEVENT
DTSTART;TZID=Europe/Berlin:20260126T090000
DTEND;TZID=Europe/Berlin:20260127T123000
DTSTAMP:20260420T154615
CREATED:20251126T132138Z
LAST-MODIFIED:20251126T132138Z
UID:413749-1769418000-1769517000@www.recyclingmagazin.de
SUMMARY:Stoffstrommanagement
DESCRIPTION:
URL:https://www.recyclingmagazin.de/event/stoffstrommanagement-7/
CATEGORIES:Webinar
END:VEVENT
BEGIN:VEVENT
DTSTART;TZID=Europe/Berlin:20260126T120000
DTEND;TZID=Europe/Berlin:20260126T160000
DTSTAMP:20260420T154615
CREATED:20260114T124224Z
LAST-MODIFIED:20260114T124607Z
UID:414259-1769428800-1769443200@www.recyclingmagazin.de
SUMMARY:Tag der Mineralik
DESCRIPTION:
URL:https://www.recyclingmagazin.de/event/tag-der-mineralik/
LOCATION:Haus der Kreislaufwirtschaft\, Von-der-Heydt-Straße 2\, Berlin\, 10785\, Deutschland
CATEGORIES:Konferenz
END:VEVENT
BEGIN:VEVENT
DTSTART;VALUE=DATE:20260127
DTEND;VALUE=DATE:20260128
DTSTAMP:20260420T154615
CREATED:20251027T193301Z
LAST-MODIFIED:20251027T193301Z
UID:413278-1769472000-1769558399@www.recyclingmagazin.de
SUMMARY:Rechtliche Neuerungen rund um den Transport
DESCRIPTION:
URL:https://www.recyclingmagazin.de/event/rechtliche-neuerungen-rund-um-den-transport-23/
CATEGORIES:Webinar
END:VEVENT
BEGIN:VEVENT
DTSTART;VALUE=DATE:20260127
DTEND;VALUE=DATE:20260129
DTSTAMP:20260420T154615
CREATED:20251031T134117Z
LAST-MODIFIED:20251031T134117Z
UID:413410-1769472000-1769644799@www.recyclingmagazin.de
SUMMARY:Kombinierter Fortbildungslehrgang nach § 9 EfbV und § 5 AbfAEV sowie § 9 AbfBeauftrV
DESCRIPTION:
URL:https://www.recyclingmagazin.de/event/kombinierter-fortbildungslehrgang-nach-%c2%a7-9-efbv-und-%c2%a7-5-abfaev-sowie-%c2%a7-9-abfbeauftrv-20/
LOCATION:bvse-Bildungszentrum\, Fränkische Straße 2\, Bonn\, 53229\, Deutschland
CATEGORIES:Seminar
END:VEVENT
BEGIN:VEVENT
DTSTART;VALUE=DATE:20260127
DTEND;VALUE=DATE:20260129
DTSTAMP:20260420T154615
CREATED:20251126T132321Z
LAST-MODIFIED:20251126T132321Z
UID:413751-1769472000-1769644799@www.recyclingmagazin.de
SUMMARY:Fachkonferenz Zero Waste Strategien für Abfallwirtschaftsbetriebe
DESCRIPTION:
URL:https://www.recyclingmagazin.de/event/fachkonferenz-zero-waste-strategien-fuer-abfallwirtschaftsbetriebe/
LOCATION:Dorint Hotel Leipzig\, Stephanstraße 6\, Leipzig\, 04103\, Deutschland
CATEGORIES:Konferenz
END:VEVENT
BEGIN:VEVENT
DTSTART;TZID=Europe/Berlin:20260127T090000
DTEND;TZID=Europe/Berlin:20260127T150000
DTSTAMP:20260420T154615
CREATED:20251020T163841Z
LAST-MODIFIED:20251020T163841Z
UID:413014-1769504400-1769526000@www.recyclingmagazin.de
SUMMARY:Abfallanalysen lesen & verstehen
DESCRIPTION:
URL:https://www.recyclingmagazin.de/event/abfallanalysen-lesen-verstehen-6/
CATEGORIES:Webinar
END:VEVENT
BEGIN:VEVENT
DTSTART;VALUE=DATE:20260128
DTEND;VALUE=DATE:20260129
DTSTAMP:20260420T154615
CREATED:20251020T180056Z
LAST-MODIFIED:20251020T180056Z
UID:413055-1769558400-1769644799@www.recyclingmagazin.de
SUMMARY:Der Disponent in der Logistik
DESCRIPTION:
URL:https://www.recyclingmagazin.de/event/der-disponent-in-der-logistik-21/
CATEGORIES:Seminar,Webinar
END:VEVENT
BEGIN:VEVENT
DTSTART;VALUE=DATE:20260128
DTEND;VALUE=DATE:20260129
DTSTAMP:20260420T154615
CREATED:20251020T184410Z
LAST-MODIFIED:20251020T184410Z
UID:413081-1769558400-1769644799@www.recyclingmagazin.de
SUMMARY:Die GewAbfV - Gewerbeabfallverordnung in der Praxis
DESCRIPTION:
URL:https://www.recyclingmagazin.de/event/die-gewabfv-gewerbeabfallverordnung-in-der-praxis-31/
CATEGORIES:Webinar
END:VEVENT
BEGIN:VEVENT
DTSTART;VALUE=DATE:20260128
DTEND;VALUE=DATE:20260130
DTSTAMP:20260420T154615
CREATED:20251126T133222Z
LAST-MODIFIED:20251126T133222Z
UID:413763-1769558400-1769731199@www.recyclingmagazin.de
SUMMARY:Berliner Konferenz Abfallwirtschaft und Energie - BKAWE 2026
DESCRIPTION:
URL:https://www.recyclingmagazin.de/event/berliner-konferenz-abfallwirtschaft-und-energie-bkawe-2026/
LOCATION:Hotel Berlin\, Lützowplatz 17\, Berlin\, 10785 \, Deutschland
CATEGORIES:Konferenz
END:VEVENT
BEGIN:VEVENT
DTSTART;VALUE=DATE:20260128
DTEND;VALUE=DATE:20260130
DTSTAMP:20260420T154615
CREATED:20260127T151359Z
LAST-MODIFIED:20260127T151359Z
UID:414509-1769558400-1769731199@www.recyclingmagazin.de
SUMMARY:Biogas-Infotage
DESCRIPTION:
URL:https://www.recyclingmagazin.de/event/biogas-infotage/
LOCATION:Ulm-Messe\, Böfinger Str. 50\, Ulm\, 89073\, Germany
CATEGORIES:Messe
END:VEVENT
BEGIN:VEVENT
DTSTART;TZID=Europe/Berlin:20260128T083000
DTEND;TZID=Europe/Berlin:20260128T100000
DTSTAMP:20260420T154615
CREATED:20251126T132437Z
LAST-MODIFIED:20251126T132437Z
UID:413753-1769589000-1769594400@www.recyclingmagazin.de
SUMMARY:Von Chatbots bis Beratung: KI als Kommunikationstool in kommunalen Entsorgungsunternehmen!
DESCRIPTION:
URL:https://www.recyclingmagazin.de/event/von-chatbots-bis-beratung-ki-als-kommunikationstool-in-kommunalen-entsorgungsunternehmen/
CATEGORIES:Webinar
END:VEVENT
END:VCALENDAR