BEGIN:VCALENDAR
VERSION:2.0
PRODID:-//RECYCLING magazin - ECPv6.15.20//NONSGML v1.0//EN
CALSCALE:GREGORIAN
METHOD:PUBLISH
X-WR-CALNAME:RECYCLING magazin
X-ORIGINAL-URL:https://www.recyclingmagazin.de
X-WR-CALDESC:Veranstaltungen für RECYCLING magazin
REFRESH-INTERVAL;VALUE=DURATION:PT1H
X-Robots-Tag:noindex
X-PUBLISHED-TTL:PT1H
BEGIN:VTIMEZONE
TZID:Europe/Berlin
BEGIN:DAYLIGHT
TZOFFSETFROM:+0100
TZOFFSETTO:+0200
TZNAME:CEST
DTSTART:20240331T010000
END:DAYLIGHT
BEGIN:STANDARD
TZOFFSETFROM:+0200
TZOFFSETTO:+0100
TZNAME:CET
DTSTART:20241027T010000
END:STANDARD
BEGIN:DAYLIGHT
TZOFFSETFROM:+0100
TZOFFSETTO:+0200
TZNAME:CEST
DTSTART:20250330T010000
END:DAYLIGHT
BEGIN:STANDARD
TZOFFSETFROM:+0200
TZOFFSETTO:+0100
TZNAME:CET
DTSTART:20251026T010000
END:STANDARD
BEGIN:DAYLIGHT
TZOFFSETFROM:+0100
TZOFFSETTO:+0200
TZNAME:CEST
DTSTART:20260329T010000
END:DAYLIGHT
BEGIN:STANDARD
TZOFFSETFROM:+0200
TZOFFSETTO:+0100
TZNAME:CET
DTSTART:20261025T010000
END:STANDARD
END:VTIMEZONE
BEGIN:VEVENT
DTSTART;VALUE=DATE:20250902
DTEND;VALUE=DATE:20251212
DTSTAMP:20260420T154518
CREATED:20250709T125643Z
LAST-MODIFIED:20250709T125643Z
UID:411486-1756771200-1765497599@www.recyclingmagazin.de
SUMMARY:Chemiespezifische Qualifizierung gemäß TRGS 520 (IHK)
DESCRIPTION:Der Zertifikatslehrgang vermittelt in Lernmodulen die geforderten spezifischen chemisch- naturwissenschaftlichen Kenntnisse\, Laborpraxis und mögliche toxikologische und biologische Auswirkungen von Chemikalien auf Menschen und Umwelt gemäß Anhang 2 der TRGS 520/2024. \nEinführungstage am 12.03.2025 und am 01.09.2025
URL:https://www.recyclingmagazin.de/event/chemiespezifische-qualifizierung-gemaess-trgs-520-ihk/
LOCATION:Akademie Dr. Obladen GmbH\, Tauentziestraße 7a\, Berlin\, 10789\, Deutschland
CATEGORIES:Webinar
END:VEVENT
BEGIN:VEVENT
DTSTART;VALUE=DATE:20251201
DTEND;VALUE=DATE:20251203
DTSTAMP:20260420T154518
CREATED:20250508T135929Z
LAST-MODIFIED:20250508T135929Z
UID:410575-1764547200-1764719999@www.recyclingmagazin.de
SUMMARY:Abfall einstufen nach AVV
DESCRIPTION:
URL:https://www.recyclingmagazin.de/event/abfall-einstufen-nach-avv-12/
CATEGORIES:Webinar
END:VEVENT
BEGIN:VEVENT
DTSTART;VALUE=DATE:20251201
DTEND;VALUE=DATE:20251205
DTSTAMP:20260420T154518
CREATED:20250709T150108Z
LAST-MODIFIED:20250709T150133Z
UID:411503-1764547200-1764892799@www.recyclingmagazin.de
SUMMARY:Entsorgungsfachbetriebe Grundkurs
DESCRIPTION:
URL:https://www.recyclingmagazin.de/event/entsorgungsfachbetriebe-grundkurs-13/
CATEGORIES:Webinar
END:VEVENT
BEGIN:VEVENT
DTSTART;VALUE=DATE:20251201
DTEND;VALUE=DATE:20251202
DTSTAMP:20260420T154518
CREATED:20250709T163501Z
LAST-MODIFIED:20250709T163501Z
UID:411572-1764547200-1764633599@www.recyclingmagazin.de
SUMMARY:Praktische Sortierübungen nach der TRGS 520/GGAV Ausnahme 20
DESCRIPTION:
URL:https://www.recyclingmagazin.de/event/praktische-sortieruebungen-nach-der-trgs-520-ggav-ausnahme-20/
CATEGORIES:Seminar
END:VEVENT
BEGIN:VEVENT
DTSTART;VALUE=DATE:20251201
DTEND;VALUE=DATE:20251205
DTSTAMP:20260420T154518
CREATED:20250810T123815Z
LAST-MODIFIED:20250810T123921Z
UID:412066-1764547200-1764892799@www.recyclingmagazin.de
SUMMARY:Kombinierte Fortbildung für Immissionsschutz-\, Störfall-\, Abfall- und Gewässerschutzbeauftragte
DESCRIPTION:Bundesweit staatlich anerkannte Fortbildung zum Erhalt der Fachkunde
URL:https://www.recyclingmagazin.de/event/kombinierte-fortbildung-fuer-immissionsschutz-stoerfall-abfall-und-gewaesserschutzbeauftragte/
LOCATION:Haus der Technik Essen\, Hollestraße 1\, Essen\, Deutschland
CATEGORIES:Seminar
END:VEVENT
BEGIN:VEVENT
DTSTART;VALUE=DATE:20251201
DTEND;VALUE=DATE:20251203
DTSTAMP:20260420T154518
CREATED:20251027T192518Z
LAST-MODIFIED:20251027T192518Z
UID:413268-1764547200-1764719999@www.recyclingmagazin.de
SUMMARY:Mitarbeiter erfolgreich führen II
DESCRIPTION:
URL:https://www.recyclingmagazin.de/event/mitarbeiter-erfolgreich-fuehren-ii-6/
CATEGORIES:Seminar,Webinar
END:VEVENT
BEGIN:VEVENT
DTSTART;VALUE=DATE:20251202
DTEND;VALUE=DATE:20251204
DTSTAMP:20260420T154518
CREATED:20250317T100415Z
LAST-MODIFIED:20250317T100415Z
UID:409850-1764633600-1764806399@www.recyclingmagazin.de
SUMMARY:Fortbildung für Immissionsschutz- und Störfallbeauftragte
DESCRIPTION:
URL:https://www.recyclingmagazin.de/event/fortbildung-fuer-immissionsschutz-und-stoerfallbeauftragte-36/
CATEGORIES:Seminar
ORGANIZER;CN="Concada":MAILTO:info@concada.de
END:VEVENT
BEGIN:VEVENT
DTSTART;VALUE=DATE:20251202
DTEND;VALUE=DATE:20251203
DTSTAMP:20260420T154518
CREATED:20250709T162945Z
LAST-MODIFIED:20250709T162945Z
UID:411568-1764633600-1764719999@www.recyclingmagazin.de
SUMMARY:TRGS 520 - Aktualisierung der Fachkunde
DESCRIPTION:
URL:https://www.recyclingmagazin.de/event/trgs-520-aktualisierung-der-fachkunde-9/
CATEGORIES:Webinar
END:VEVENT
BEGIN:VEVENT
DTSTART;VALUE=DATE:20251202
DTEND;VALUE=DATE:20251203
DTSTAMP:20260420T154518
CREATED:20250710T135548Z
LAST-MODIFIED:20250710T135548Z
UID:411638-1764633600-1764719999@www.recyclingmagazin.de
SUMMARY:Praxis der Gewerbeabfallverordnung
DESCRIPTION:
URL:https://www.recyclingmagazin.de/event/praxis-der-gewerbeabfallverordnung-8/
END:VEVENT
BEGIN:VEVENT
DTSTART;VALUE=DATE:20251202
DTEND;VALUE=DATE:20251203
DTSTAMP:20260420T154518
CREATED:20250810T112125Z
LAST-MODIFIED:20250810T112125Z
UID:412019-1764633600-1764719999@www.recyclingmagazin.de
SUMMARY:Praxistipps zur Umsetzung der Nachweis- und Registerpflichten bei der Abfallentsorgung
DESCRIPTION:
URL:https://www.recyclingmagazin.de/event/praxistipps-zur-umsetzung-der-nachweis-und-registerpflichten-bei-der-abfallentsorgung-8/
CATEGORIES:Webinar
END:VEVENT
BEGIN:VEVENT
DTSTART;VALUE=DATE:20251202
DTEND;VALUE=DATE:20251205
DTSTAMP:20260420T154518
CREATED:20250810T115232Z
LAST-MODIFIED:20250810T115232Z
UID:412035-1764633600-1764892799@www.recyclingmagazin.de
SUMMARY:Grundlagen der Abfallwirtschaft
DESCRIPTION:Fachwissen\, Branchenkenntnisse und Praxisanwendungen für Einsteiger/-innen in die Kreislaufwirtschaft
URL:https://www.recyclingmagazin.de/event/grundlagen-der-abfallwirtschaft-24/
CATEGORIES:Webinar
END:VEVENT
BEGIN:VEVENT
DTSTART;VALUE=DATE:20251202
DTEND;VALUE=DATE:20251206
DTSTAMP:20260420T154518
CREATED:20251008T161801Z
LAST-MODIFIED:20251008T161801Z
UID:412851-1764633600-1764979199@www.recyclingmagazin.de
SUMMARY:Kombinierte Fortbildung für Mehrfachbeauftragte (Modul Abfall und Gewässerschutz)
DESCRIPTION:
URL:https://www.recyclingmagazin.de/event/kombinierte-fortbildung-fuer-mehrfachbeauftragte-modul-abfall-und-gewaesserschutz-8/
CATEGORIES:Seminar
ORGANIZER;CN="Concada":MAILTO:info@concada.de
END:VEVENT
BEGIN:VEVENT
DTSTART;VALUE=DATE:20251202
DTEND;VALUE=DATE:20251204
DTSTAMP:20260420T154518
CREATED:20251031T133834Z
LAST-MODIFIED:20251031T133834Z
UID:413405-1764633600-1764806399@www.recyclingmagazin.de
SUMMARY:Grundkurs Qualitätssicherung von Sekundärbaustoffen - QUBA-Qualitätssiegel
DESCRIPTION:
URL:https://www.recyclingmagazin.de/event/grundkurs-qualitaetssicherung-von-sekundaerbaustoffen-quba-qualitaetssiegel-2/
CATEGORIES:Webinar
END:VEVENT
BEGIN:VEVENT
DTSTART;TZID=Europe/Berlin:20251202T130000
DTEND;TZID=Europe/Berlin:20251202T180000
DTSTAMP:20260420T154518
CREATED:20251031T170944Z
LAST-MODIFIED:20251031T170944Z
UID:413439-1764680400-1764698400@www.recyclingmagazin.de
SUMMARY:Petcore Europe institutional EU Polyester Textile Circularity Summit
DESCRIPTION:
URL:https://www.recyclingmagazin.de/event/petcore-europe-institutional-eu-polyester-textile-circularity-summit/
CATEGORIES:Webinar
END:VEVENT
BEGIN:VEVENT
DTSTART;VALUE=DATE:20251203
DTEND;VALUE=DATE:20251204
DTSTAMP:20260420T154518
CREATED:20250710T152355Z
LAST-MODIFIED:20250710T152355Z
UID:411654-1764720000-1764806399@www.recyclingmagazin.de
SUMMARY:Die GewAbfV - Gewerbeabfallverordnung in der Praxis
DESCRIPTION:
URL:https://www.recyclingmagazin.de/event/die-gewabfv-gewerbeabfallverordnung-in-der-praxis-29/
CATEGORIES:Webinar
END:VEVENT
BEGIN:VEVENT
DTSTART;VALUE=DATE:20251203
DTEND;VALUE=DATE:20251204
DTSTAMP:20260420T154518
CREATED:20250810T122412Z
LAST-MODIFIED:20250810T122412Z
UID:412064-1764720000-1764806399@www.recyclingmagazin.de
SUMMARY:Sachkunde für das Personal im Deponiebetrieb gemäß § 4 Deponieverordnung
DESCRIPTION:Fachspezifische Fortbildung für das Personal im Deponiebetrieb\, die gemäß § 4 DepV S. 3 mindestens alle 4 Jahre besucht werden muss
URL:https://www.recyclingmagazin.de/event/sachkunde-fuer-das-personal-im-deponiebetrieb-gemaess-%c2%a7-4-deponieverordnung-8/
LOCATION:BEW GmbH Bildungszentrum Duisburg\, Dr.-Detlev-Karsten-Rohwedder-Str. 70\, Duisburg\, 47228 \, Deutschland
CATEGORIES:Seminar
END:VEVENT
BEGIN:VEVENT
DTSTART;VALUE=DATE:20251203
DTEND;VALUE=DATE:20251205
DTSTAMP:20260420T154518
CREATED:20250810T153622Z
LAST-MODIFIED:20250810T153622Z
UID:412090-1764720000-1764892799@www.recyclingmagazin.de
SUMMARY:Refillable and Reusable Packaging 2025
DESCRIPTION:
URL:https://www.recyclingmagazin.de/event/refillable-and-reusable-packaging-2025/
LOCATION:Hotel NH Collection Berlin Mitte Friedrichstraße\, Friedrichstraße 96\, Berlin\, 10117\, Germany
CATEGORIES:Konferenz
END:VEVENT
BEGIN:VEVENT
DTSTART;VALUE=DATE:20251203
DTEND;VALUE=DATE:20251204
DTSTAMP:20260420T154518
CREATED:20251027T202443Z
LAST-MODIFIED:20251027T202443Z
UID:413324-1764720000-1764806399@www.recyclingmagazin.de
SUMMARY:Grundlagen Vertrieb in der Entsorgungswirtschaft
DESCRIPTION:
URL:https://www.recyclingmagazin.de/event/grundlagen-vertrieb-in-der-entsorgungswirtschaft-7/
CATEGORIES:Webinar
END:VEVENT
BEGIN:VEVENT
DTSTART;VALUE=DATE:20251203
DTEND;VALUE=DATE:20251204
DTSTAMP:20260420T154518
CREATED:20251031T134009Z
LAST-MODIFIED:20251031T134009Z
UID:413407-1764720000-1764806399@www.recyclingmagazin.de
SUMMARY:Basisseminar Kunststoffrecycling in Bonn
DESCRIPTION:
URL:https://www.recyclingmagazin.de/event/basisseminar-kunststoffrecycling-in-bonn-2/
LOCATION:bvse-Bildungszentrum\, Fränkische Straße 2\, Bonn\, 53229\, Deutschland
CATEGORIES:Seminar
END:VEVENT
BEGIN:VEVENT
DTSTART;VALUE=DATE:20251203
DTEND;VALUE=DATE:20251206
DTSTAMP:20260420T154518
CREATED:20251106T110029Z
LAST-MODIFIED:20251106T111807Z
UID:413473-1764720000-1764979199@www.recyclingmagazin.de
SUMMARY:RIFS Conference 2025
DESCRIPTION:
URL:https://www.recyclingmagazin.de/event/rifs-conference-2025/
LOCATION:Leonardo Royal Hotel Berlin Alexanderplatz\, Otto-Braun-Straße 90\, Berlin\, 10249\, Deutschland
CATEGORIES:Konferenz
END:VEVENT
BEGIN:VEVENT
DTSTART;TZID=Europe/Berlin:20251203T090000
DTEND;TZID=Europe/Berlin:20251203T150000
DTSTAMP:20260420T154518
CREATED:20250508T205946Z
LAST-MODIFIED:20250508T205946Z
UID:410724-1764752400-1764774000@www.recyclingmagazin.de
SUMMARY:Befähigte Person zur Prüfung von Absetz- und Abrollbehältern (14 BetrSichV)
DESCRIPTION:
URL:https://www.recyclingmagazin.de/event/befaehigte-person-zur-pruefung-von-absetz-und-abrollbehaeltern-14-betrsichv-16/
CATEGORIES:Webinar
END:VEVENT
BEGIN:VEVENT
DTSTART;VALUE=DATE:20251204
DTEND;VALUE=DATE:20251205
DTSTAMP:20260420T154518
CREATED:20250317T103546Z
LAST-MODIFIED:20250317T103546Z
UID:409890-1764806400-1764892799@www.recyclingmagazin.de
SUMMARY:Gefahrstoffe Update
DESCRIPTION:
URL:https://www.recyclingmagazin.de/event/gefahrstoffe-update-6/
CATEGORIES:Webinar
ORGANIZER;CN="Concada":MAILTO:info@concada.de
END:VEVENT
BEGIN:VEVENT
DTSTART;VALUE=DATE:20251204
DTEND;VALUE=DATE:20251205
DTSTAMP:20260420T154518
CREATED:20250508T173441Z
LAST-MODIFIED:20250508T173441Z
UID:410664-1764806400-1764892799@www.recyclingmagazin.de
SUMMARY:§ 53 KrWG Lehrgang zum Nachweis der Fachkunde
DESCRIPTION:
URL:https://www.recyclingmagazin.de/event/%c2%a7-53-krwg-lehrgang-zum-nachweis-der-fachkunde-42/
CATEGORIES:Webinar
END:VEVENT
BEGIN:VEVENT
DTSTART;VALUE=DATE:20251204
DTEND;VALUE=DATE:20251206
DTSTAMP:20260420T154518
CREATED:20250710T135827Z
LAST-MODIFIED:20250710T135827Z
UID:411641-1764806400-1764979199@www.recyclingmagazin.de
SUMMARY:3. Kongress Perspektiven der Abfallberatung
DESCRIPTION:
URL:https://www.recyclingmagazin.de/event/3-kongress-perspektiven-der-abfallberatung/
CATEGORIES:Kongress
END:VEVENT
BEGIN:VEVENT
DTSTART;VALUE=DATE:20251204
DTEND;VALUE=DATE:20251206
DTSTAMP:20260420T154518
CREATED:20250810T164404Z
LAST-MODIFIED:20250810T164404Z
UID:412117-1764806400-1764979199@www.recyclingmagazin.de
SUMMARY:Fortbildungslehrgang Abfallbeauftragte | EfbV | AbfAEV
DESCRIPTION:
URL:https://www.recyclingmagazin.de/event/fortbildungslehrgang-abfallbeauftragte-efbv-abfaev-12/
LOCATION:kenic GmbH – Akademie für Wirtschaft und Umwelt\, Linienstraße 130\, Berlin\, 10115\, Deutschland
CATEGORIES:Seminar
ORGANIZER;CN="kenic GmbH":MAILTO:info@kenic.de
END:VEVENT
BEGIN:VEVENT
DTSTART;VALUE=DATE:20251204
DTEND;VALUE=DATE:20251205
DTSTAMP:20260420T154518
CREATED:20251020T193610Z
LAST-MODIFIED:20251020T193610Z
UID:413099-1764806400-1764892799@www.recyclingmagazin.de
SUMMARY:§ 53 KrWG Lehrgang zum Nachweis der Fachkunde
DESCRIPTION:
URL:https://www.recyclingmagazin.de/event/%c2%a7-53-krwg-lehrgang-zum-nachweis-der-fachkunde-43/
CATEGORIES:Webinar
END:VEVENT
BEGIN:VEVENT
DTSTART;TZID=Europe/Berlin:20251204T130000
DTEND;TZID=Europe/Berlin:20251204T140000
DTSTAMP:20260420T154518
CREATED:20251118T155421Z
LAST-MODIFIED:20251118T161016Z
UID:413630-1764853200-1764856800@www.recyclingmagazin.de
SUMMARY:BDE-Experten-Sprechstunde: Branchenspezifischer Sicherheitsstandard für die Siedlungsabfallentsorgung
DESCRIPTION:Bitte melden Sie sich bis 01.12.2025 bei unseren Seminarteam (veranstaltung@bde.de)\, wenn Sie Interesse an der Teilnahme haben.
URL:https://www.recyclingmagazin.de/event/branchenspezifischer-sicherheitsstandard-fuer-die-siedlungsabfallentsorgung/
CATEGORIES:Webinar
END:VEVENT
BEGIN:VEVENT
DTSTART;VALUE=DATE:20251205
DTEND;VALUE=DATE:20251206
DTSTAMP:20260420T154518
CREATED:20250709T150429Z
LAST-MODIFIED:20250709T150429Z
UID:411508-1764892800-1764979199@www.recyclingmagazin.de
SUMMARY:Abfallbeauftragter an einem Tag
DESCRIPTION:
URL:https://www.recyclingmagazin.de/event/abfallbeauftragter-an-einem-tag-9/
CATEGORIES:Webinar
END:VEVENT
BEGIN:VEVENT
DTSTART;TZID=Europe/Berlin:20251205T090000
DTEND;TZID=Europe/Berlin:20251205T140000
DTSTAMP:20260420T154518
CREATED:20250508T183821Z
LAST-MODIFIED:20250508T183821Z
UID:410702-1764925200-1764943200@www.recyclingmagazin.de
SUMMARY:Lehrgang zur Probenahme fester Abfälle nach LAGA PN 98
DESCRIPTION:
URL:https://www.recyclingmagazin.de/event/lehrgang-zur-probenahme-fester-abfaelle-nach-laga-pn-98-27/
CATEGORIES:Webinar
END:VEVENT
BEGIN:VEVENT
DTSTART;VALUE=DATE:20251208
DTEND;VALUE=DATE:20251212
DTSTAMP:20260420T154518
CREATED:20250810T111835Z
LAST-MODIFIED:20250810T111859Z
UID:412015-1765152000-1765497599@www.recyclingmagazin.de
SUMMARY:Grundlehrgang zur Erlangung der Fachkunde gemäß § 54 KrWG\, § 9 EfbV und § 5 AbfAEV
DESCRIPTION:Fachkunde für Entsorgungsfachbetriebe sowie Sammler\, Beförderer\, Händler und Makler von gefährlichen Abfällen (mit bundesweiter behördlicher Anerkennung)
URL:https://www.recyclingmagazin.de/event/grundlehrgang-zur-erlangung-der-fachkunde-gemaess-%c2%a7-54-krwg-%c2%a7-9-efbv-und-%c2%a7-5-abfaev-19/
CATEGORIES:Webinar
END:VEVENT
END:VCALENDAR