BEGIN:VCALENDAR
VERSION:2.0
PRODID:-//RECYCLING magazin - ECPv6.15.20//NONSGML v1.0//EN
CALSCALE:GREGORIAN
METHOD:PUBLISH
X-WR-CALNAME:RECYCLING magazin
X-ORIGINAL-URL:https://www.recyclingmagazin.de
X-WR-CALDESC:Veranstaltungen für RECYCLING magazin
REFRESH-INTERVAL;VALUE=DURATION:PT1H
X-Robots-Tag:noindex
X-PUBLISHED-TTL:PT1H
BEGIN:VTIMEZONE
TZID:Europe/Berlin
BEGIN:DAYLIGHT
TZOFFSETFROM:+0100
TZOFFSETTO:+0200
TZNAME:CEST
DTSTART:20240331T010000
END:DAYLIGHT
BEGIN:STANDARD
TZOFFSETFROM:+0200
TZOFFSETTO:+0100
TZNAME:CET
DTSTART:20241027T010000
END:STANDARD
BEGIN:DAYLIGHT
TZOFFSETFROM:+0100
TZOFFSETTO:+0200
TZNAME:CEST
DTSTART:20250330T010000
END:DAYLIGHT
BEGIN:STANDARD
TZOFFSETFROM:+0200
TZOFFSETTO:+0100
TZNAME:CET
DTSTART:20251026T010000
END:STANDARD
BEGIN:DAYLIGHT
TZOFFSETFROM:+0100
TZOFFSETTO:+0200
TZNAME:CEST
DTSTART:20260329T010000
END:DAYLIGHT
BEGIN:STANDARD
TZOFFSETFROM:+0200
TZOFFSETTO:+0100
TZNAME:CET
DTSTART:20261025T010000
END:STANDARD
END:VTIMEZONE
BEGIN:VEVENT
DTSTART;VALUE=DATE:20250902
DTEND;VALUE=DATE:20251212
DTSTAMP:20260420T232755
CREATED:20250709T125643Z
LAST-MODIFIED:20250709T125643Z
UID:411486-1756771200-1765497599@www.recyclingmagazin.de
SUMMARY:Chemiespezifische Qualifizierung gemäß TRGS 520 (IHK)
DESCRIPTION:Der Zertifikatslehrgang vermittelt in Lernmodulen die geforderten spezifischen chemisch- naturwissenschaftlichen Kenntnisse\, Laborpraxis und mögliche toxikologische und biologische Auswirkungen von Chemikalien auf Menschen und Umwelt gemäß Anhang 2 der TRGS 520/2024. \nEinführungstage am 12.03.2025 und am 01.09.2025
URL:https://www.recyclingmagazin.de/event/chemiespezifische-qualifizierung-gemaess-trgs-520-ihk/
LOCATION:Akademie Dr. Obladen GmbH\, Tauentziestraße 7a\, Berlin\, 10789\, Deutschland
CATEGORIES:Webinar
END:VEVENT
BEGIN:VEVENT
DTSTART;VALUE=DATE:20251103
DTEND;VALUE=DATE:20251107
DTSTAMP:20260420T232755
CREATED:20241030T171925Z
LAST-MODIFIED:20241030T171925Z
UID:407045-1762128000-1762473599@www.recyclingmagazin.de
SUMMARY:Grundkurs nach § 9 EfbV und § 5 AbfAEV (2)
DESCRIPTION:
URL:https://www.recyclingmagazin.de/event/grundkurs-nach-%c2%a7-9-efbv-und-%c2%a7-5-abfaev-2-5/
LOCATION:bvse-Bildungszentrum\, Fränkische Straße 2\, Bonn\, 53229\, Deutschland
CATEGORIES:Seminar
END:VEVENT
BEGIN:VEVENT
DTSTART;VALUE=DATE:20251103
DTEND;VALUE=DATE:20251104
DTSTAMP:20260420T232755
CREATED:20250508T173346Z
LAST-MODIFIED:20251020T193107Z
UID:410662-1762128000-1762214399@www.recyclingmagazin.de
SUMMARY:§ 53 KrWG Lehrgang zum Nachweis der Fachkunde
DESCRIPTION:
URL:https://www.recyclingmagazin.de/event/%c2%a7-53-krwg-lehrgang-zum-nachweis-der-fachkunde-41/
CATEGORIES:Webinar
END:VEVENT
BEGIN:VEVENT
DTSTART;VALUE=DATE:20251103
DTEND;VALUE=DATE:20251104
DTSTAMP:20260420T232755
CREATED:20250709T150235Z
LAST-MODIFIED:20250709T150235Z
UID:411505-1762128000-1762214399@www.recyclingmagazin.de
SUMMARY:Abfallbeauftragter an einem Tag
DESCRIPTION:
URL:https://www.recyclingmagazin.de/event/abfallbeauftragter-an-einem-tag-8/
CATEGORIES:Seminar
END:VEVENT
BEGIN:VEVENT
DTSTART;TZID=Europe/Berlin:20251103T090000
DTEND;TZID=Europe/Berlin:20251103T120000
DTSTAMP:20260420T232755
CREATED:20250508T204505Z
LAST-MODIFIED:20250508T204505Z
UID:410722-1762160400-1762171200@www.recyclingmagazin.de
SUMMARY:Befähigte Person zur Prüfung von Absetz- und Abrollbehältern (14 BetrSichV)
DESCRIPTION:
URL:https://www.recyclingmagazin.de/event/befaehigte-person-zur-pruefung-von-absetz-und-abrollbehaeltern-14-betrsichv-15/
CATEGORIES:Webinar
END:VEVENT
BEGIN:VEVENT
DTSTART;VALUE=DATE:20251104
DTEND;VALUE=DATE:20251106
DTSTAMP:20260420T232755
CREATED:20250316T200733Z
LAST-MODIFIED:20250316T200733Z
UID:409824-1762214400-1762387199@www.recyclingmagazin.de
SUMMARY:Fortbildung für Gefahrgutbeauftragte für Straße und Schiene
DESCRIPTION:
URL:https://www.recyclingmagazin.de/event/fortbildung-fuer-gefahrgutbeauftragte-fuer-strasse-und-schiene-4/
CATEGORIES:Seminar
ORGANIZER;CN="Concada":MAILTO:info@concada.de
END:VEVENT
BEGIN:VEVENT
DTSTART;VALUE=DATE:20251104
DTEND;VALUE=DATE:20251105
DTSTAMP:20260420T232755
CREATED:20250508T141650Z
LAST-MODIFIED:20250508T141650Z
UID:410594-1762214400-1762300799@www.recyclingmagazin.de
SUMMARY:Abfallnachweisverfahren (eANV) und Abfallnachweisführung
DESCRIPTION:
URL:https://www.recyclingmagazin.de/event/abfallnachweisverfahren-eanv-und-abfallnachweisfuehrung-77/
CATEGORIES:Webinar
END:VEVENT
BEGIN:VEVENT
DTSTART;VALUE=DATE:20251104
DTEND;VALUE=DATE:20251108
DTSTAMP:20260420T232755
CREATED:20250510T134707Z
LAST-MODIFIED:20250510T134920Z
UID:410781-1762214400-1762559999@www.recyclingmagazin.de
SUMMARY:Ecomondo 2025
DESCRIPTION:
URL:https://www.recyclingmagazin.de/event/ecomondo-2025/
LOCATION:Rimini Expo Centre
CATEGORIES:Messe
END:VEVENT
BEGIN:VEVENT
DTSTART;VALUE=DATE:20251104
DTEND;VALUE=DATE:20251105
DTSTAMP:20260420T232755
CREATED:20250810T111202Z
LAST-MODIFIED:20250810T111226Z
UID:412009-1762214400-1762300799@www.recyclingmagazin.de
SUMMARY:Aktuelle Entwicklungen und Problemstände in der Kreislauf- und Abfallwirtschaft
DESCRIPTION:Inhalte und Auswirkungen der europäischen und deutschen Rechtsetzung und Rechtsprechung auf die kommunale Entsorgungspraxis
URL:https://www.recyclingmagazin.de/event/aktuelle-entwicklungen-und-problemstaende-in-der-kreislauf-und-abfallwirtschaft-17/
CATEGORIES:Webinar
END:VEVENT
BEGIN:VEVENT
DTSTART;VALUE=DATE:20251104
DTEND;VALUE=DATE:20251108
DTSTAMP:20260420T232755
CREATED:20251008T160916Z
LAST-MODIFIED:20251008T161122Z
UID:412843-1762214400-1762559999@www.recyclingmagazin.de
SUMMARY:Kombinierter Grundlehrgang zum Mehrfachbeauftragten (Abfallbeauftragter\, Immissionsschutzbeauftragter\, Gewässerschutzbeauftragter) Teil 1
DESCRIPTION:
URL:https://www.recyclingmagazin.de/event/kombinierter-grundlehrgang-zum-mehrfachbeauftragten-abfallbeauftragter-immissionsschutzbeauftragter-gewaesserschutzbeauftragter-9/
CATEGORIES:Seminar
ORGANIZER;CN="Concada":MAILTO:info@concada.de
END:VEVENT
BEGIN:VEVENT
DTSTART;VALUE=DATE:20251104
DTEND;VALUE=DATE:20251106
DTSTAMP:20260420T232755
CREATED:20251030T185731Z
LAST-MODIFIED:20251030T185756Z
UID:413390-1762214400-1762387199@www.recyclingmagazin.de
SUMMARY:Circular Carbon: Pyrolysis and Gasification
DESCRIPTION:
URL:https://www.recyclingmagazin.de/event/circular-carbon-pyrolysis-and-gasification/
LOCATION:Institute of Energy Process Engineering and Chemical Engineering\, Fuchsmühlenweg 9d\, Reiche Zeche\, Freiberg\, 09599\, Germany
CATEGORIES:Seminar
END:VEVENT
BEGIN:VEVENT
DTSTART;TZID=Europe/Berlin:20251104T143000
DTEND;TZID=Europe/Berlin:20251104T160000
DTSTAMP:20260420T232755
CREATED:20250710T132353Z
LAST-MODIFIED:20250710T132353Z
UID:411618-1762266600-1762272000@www.recyclingmagazin.de
SUMMARY:Lebensmittelverschwendung – eine Herausforderung an die Abfallvermeidung
DESCRIPTION:
URL:https://www.recyclingmagazin.de/event/lebensmittelverschwendung-eine-herausforderung-an-die-abfallvermeidung-3/
CATEGORIES:Webinar
END:VEVENT
BEGIN:VEVENT
DTSTART;VALUE=DATE:20251105
DTEND;VALUE=DATE:20251107
DTSTAMP:20260420T232755
CREATED:20250709T151121Z
LAST-MODIFIED:20250709T151121Z
UID:411518-1762300800-1762473599@www.recyclingmagazin.de
SUMMARY:Fortbildung für Entsorgungsfachbetriebe mit dem Schwerpunkt: Gefährliche Abfälle
DESCRIPTION:
URL:https://www.recyclingmagazin.de/event/fortbildung-fuer-entsorgungsfachbetriebe-mit-dem-schwerpunkt-gefaehrliche-abfaelle-3/
LOCATION:Umweltinstitut Offenbach\, Frankfurter Straße 48\, Offenbach\, 63065\, Deutschland
CATEGORIES:Seminar
END:VEVENT
BEGIN:VEVENT
DTSTART;VALUE=DATE:20251106
DTEND;VALUE=DATE:20251108
DTSTAMP:20260420T232755
CREATED:20250316T193300Z
LAST-MODIFIED:20250316T193300Z
UID:409804-1762387200-1762559999@www.recyclingmagazin.de
SUMMARY:Ausbildung zum Nachhaltigkeitsmanager
DESCRIPTION:
URL:https://www.recyclingmagazin.de/event/ausbildung-zum-nachhaltigkeitsmanager-6/
CATEGORIES:Seminar
ORGANIZER;CN="Concada":MAILTO:info@concada.de
END:VEVENT
BEGIN:VEVENT
DTSTART;VALUE=DATE:20251106
DTEND;VALUE=DATE:20251108
DTSTAMP:20260420T232755
CREATED:20250508T162327Z
LAST-MODIFIED:20250508T162327Z
UID:410639-1762387200-1762559999@www.recyclingmagazin.de
SUMMARY:Einführung rechtliche und technische Grundlagen der Abfallwirtschaft
DESCRIPTION:
URL:https://www.recyclingmagazin.de/event/einfuehrung-rechtliche-und-technische-grundlagen-der-abfallwirtschaft-58/
CATEGORIES:Webinar
END:VEVENT
BEGIN:VEVENT
DTSTART;VALUE=DATE:20251106
DTEND;VALUE=DATE:20251107
DTSTAMP:20260420T232755
CREATED:20250709T155639Z
LAST-MODIFIED:20250709T155639Z
UID:411554-1762387200-1762473599@www.recyclingmagazin.de
SUMMARY:Probenahme fester Abfälle auf der Basis der LAGA Richtlinie PN 98 und DIN 19698-1
DESCRIPTION:
URL:https://www.recyclingmagazin.de/event/probenahme-fester-abfaelle-auf-der-basis-der-laga-richtlinie-pn-98-und-din-19698-1-8/
CATEGORIES:Webinar
END:VEVENT
BEGIN:VEVENT
DTSTART;VALUE=DATE:20251106
DTEND;VALUE=DATE:20251108
DTSTAMP:20260420T232755
CREATED:20250810T161105Z
LAST-MODIFIED:20250810T161105Z
UID:412108-1762387200-1762559999@www.recyclingmagazin.de
SUMMARY:Fortbildungslehrgang Abfallbeauftragte | EfbV | AbfAEV
DESCRIPTION:
URL:https://www.recyclingmagazin.de/event/fortbildungslehrgang-abfallbeauftragte-efbv-abfaev-8/
CATEGORIES:Webinar
ORGANIZER;CN="kenic GmbH":MAILTO:info@kenic.de
END:VEVENT
BEGIN:VEVENT
DTSTART;TZID=Europe/Berlin:20251106T090000
DTEND;TZID=Europe/Berlin:20251106T150000
DTSTAMP:20260420T232755
CREATED:20250710T132540Z
LAST-MODIFIED:20250710T132540Z
UID:411621-1762419600-1762441200@www.recyclingmagazin.de
SUMMARY:Die Sammlung und Verwertung von Alttextilien am Rand eines möglichen Kollapses
DESCRIPTION:
URL:https://www.recyclingmagazin.de/event/die-sammlung-und-verwertung-von-alttextilien-am-rand-eines-moeglichen-kollapses-2/
CATEGORIES:Webinar
END:VEVENT
BEGIN:VEVENT
DTSTART;VALUE=DATE:20251107
DTEND;VALUE=DATE:20251108
DTSTAMP:20260420T232755
CREATED:20241030T172026Z
LAST-MODIFIED:20241030T172026Z
UID:407047-1762473600-1762559999@www.recyclingmagazin.de
SUMMARY:Lehrgangsmodul Betriebsbeauftragter für Abfall (2)
DESCRIPTION:
URL:https://www.recyclingmagazin.de/event/lehrgangsmodul-betriebsbeauftragter-fuer-abfall-2-5/
LOCATION:bvse-Bildungszentrum\, Hohe Straße 73\, Bonn\, 53119
CATEGORIES:Seminar
END:VEVENT
BEGIN:VEVENT
DTSTART;VALUE=DATE:20251107
DTEND;VALUE=DATE:20251108
DTSTAMP:20260420T232755
CREATED:20250710T115516Z
LAST-MODIFIED:20250710T115516Z
UID:411595-1762473600-1762559999@www.recyclingmagazin.de
SUMMARY:Die Gewerbeabfallverordnung
DESCRIPTION:
URL:https://www.recyclingmagazin.de/event/die-gewerbeabfallverordnung/
CATEGORIES:Webinar
END:VEVENT
BEGIN:VEVENT
DTSTART;TZID=Europe/Berlin:20251107T090000
DTEND;TZID=Europe/Berlin:20251107T140000
DTSTAMP:20260420T232755
CREATED:20250508T182154Z
LAST-MODIFIED:20250508T182154Z
UID:410697-1762506000-1762524000@www.recyclingmagazin.de
SUMMARY:Lehrgang zur Probenahme fester Abfälle nach LAGA PN 98
DESCRIPTION:
URL:https://www.recyclingmagazin.de/event/lehrgang-zur-probenahme-fester-abfaelle-nach-laga-pn-98-25/
CATEGORIES:Webinar
END:VEVENT
BEGIN:VEVENT
DTSTART;TZID=Europe/Berlin:20251107T110000
DTEND;TZID=Europe/Berlin:20251107T123000
DTSTAMP:20260420T232755
CREATED:20250710T132746Z
LAST-MODIFIED:20250710T132746Z
UID:411623-1762513200-1762518600@www.recyclingmagazin.de
SUMMARY:Plastikfreier Kompost: Bessere Qualität und weniger Müll
DESCRIPTION:
URL:https://www.recyclingmagazin.de/event/plastikfreier-kompost-bessere-qualitaet-und-weniger-muell-2/
CATEGORIES:Webinar
END:VEVENT
BEGIN:VEVENT
DTSTART;VALUE=DATE:20251110
DTEND;VALUE=DATE:20251111
DTSTAMP:20260420T232755
CREATED:20250709T163830Z
LAST-MODIFIED:20250709T163830Z
UID:411574-1762732800-1762819199@www.recyclingmagazin.de
SUMMARY:Einführung in die Chemie für Mitarbeiter der Sonderabfallentsorgung
DESCRIPTION:
URL:https://www.recyclingmagazin.de/event/einfuehrung-in-die-chemie-fuer-mitarbeiter-der-sonderabfallentsorgung/
CATEGORIES:Seminar
END:VEVENT
BEGIN:VEVENT
DTSTART;VALUE=DATE:20251110
DTEND;VALUE=DATE:20251112
DTSTAMP:20260420T232755
CREATED:20250710T133047Z
LAST-MODIFIED:20250710T133113Z
UID:411625-1762732800-1762905599@www.recyclingmagazin.de
SUMMARY:Grundlehrgang für Sicherheitsbeauftragte gemäß § 22 SGB VII
DESCRIPTION:
URL:https://www.recyclingmagazin.de/event/grundlehrgang-fuer-sicherheitsbeauftragte-gemaess-%c2%a7-22-sgb-vii-2/
CATEGORIES:Seminar
END:VEVENT
BEGIN:VEVENT
DTSTART;VALUE=DATE:20251110
DTEND;VALUE=DATE:20251114
DTSTAMP:20260420T232755
CREATED:20250810T155122Z
LAST-MODIFIED:20250810T155320Z
UID:412095-1762732800-1763078399@www.recyclingmagazin.de
SUMMARY:Betriebsbeauftragter für Abfall | Abfallbeauftragter nach AbfBeauftrV | EfbV | AbfAEV - Grundkurs
DESCRIPTION:
URL:https://www.recyclingmagazin.de/event/betriebsbeauftragter-fuer-abfall-abfallbeauftragter-nach-abfbeauftrv-efbv-abfaev-grundkurs-2/
CATEGORIES:Webinar
ORGANIZER;CN="kenic GmbH":MAILTO:info@kenic.de
END:VEVENT
BEGIN:VEVENT
DTSTART;VALUE=DATE:20251110
DTEND;VALUE=DATE:20251114
DTSTAMP:20260420T232755
CREATED:20250810T155804Z
LAST-MODIFIED:20250810T155804Z
UID:412100-1762732800-1763078399@www.recyclingmagazin.de
SUMMARY:Fachkundelehrgang EfbV | AbfAEV Grundkurs
DESCRIPTION:Bundesweit behördlich anerkannter Grundlehrgang gemäß § 9 EfbV (Entsorgungsfachbetriebeverordnung) und §§ 4\, 5 AbfAEV (Anzeige- und Erlaubnisverordnung)\, §§ 53\, 54 KrWG als Präsenzveranstaltung oder Onlinekurs buchbar
URL:https://www.recyclingmagazin.de/event/fachkundelehrgang-efbv-abfaev-grundkurs/
CATEGORIES:Webinar
ORGANIZER;CN="kenic GmbH":MAILTO:info@kenic.de
END:VEVENT
BEGIN:VEVENT
DTSTART;VALUE=DATE:20251110
DTEND;VALUE=DATE:20251111
DTSTAMP:20260420T232755
CREATED:20251017T161046Z
LAST-MODIFIED:20251017T161140Z
UID:413001-1762732800-1762819199@www.recyclingmagazin.de
SUMMARY:24. Jahreskonferenz des Rates für Nachhaltige Entwicklung (RNE) 2025
DESCRIPTION:
URL:https://www.recyclingmagazin.de/event/24-jahreskonferenz-des-rates-fuer-nachhaltige-entwicklung-rne-2025/
LOCATION:AXICA Kongress- und Tagungszentrum im Hause der DZ Bank\, Pariser Platz 3\, Berlin\, 10117\, Germany
CATEGORIES:Konferenz
END:VEVENT
BEGIN:VEVENT
DTSTART;TZID=Europe/Berlin:20251110T090000
DTEND;TZID=Europe/Berlin:20251110T120000
DTSTAMP:20260420T232755
CREATED:20251031T115947Z
LAST-MODIFIED:20251031T115947Z
UID:413397-1762765200-1762776000@www.recyclingmagazin.de
SUMMARY:Umgang mit asbesthaltigen Bauabfällen (z. B. Bauschutt\, Bodenaushub\, Altasphalt)
DESCRIPTION:
URL:https://www.recyclingmagazin.de/event/umgang-mit-asbesthaltigen-bauabfaellen-z-b-bauschutt-bodenaushub-altasphalt/
CATEGORIES:Webinar
END:VEVENT
BEGIN:VEVENT
DTSTART;TZID=Europe/Berlin:20251110T130000
DTEND;TZID=Europe/Berlin:20251110T160000
DTSTAMP:20260420T232755
CREATED:20251031T115821Z
LAST-MODIFIED:20251031T115821Z
UID:413394-1762779600-1762790400@www.recyclingmagazin.de
SUMMARY:Online - Ersatzbaustoffverordnung in der Praxis: Annahmekontrolle in mobilen und stationären Aufbereitungsanlagen für mineralische Bauabfälle\, (M8) 3\,5 UE
DESCRIPTION:
URL:https://www.recyclingmagazin.de/event/online-ersatzbaustoffverordnung-in-der-praxis-annahmekontrolle-in-mobilen-und-stationaeren-aufbereitungsanlagen-fuer-mineralische-bauabfaelle-m8-35-ue/
CATEGORIES:Webinar
END:VEVENT
BEGIN:VEVENT
DTSTART;VALUE=DATE:20251111
DTEND;VALUE=DATE:20251115
DTSTAMP:20260420T232755
CREATED:20250316T193855Z
LAST-MODIFIED:20250316T193855Z
UID:409808-1762819200-1763164799@www.recyclingmagazin.de
SUMMARY:Betriebsbeauftragte für Abfall
DESCRIPTION:
URL:https://www.recyclingmagazin.de/event/betriebsbeauftragte-fuer-abfall-20/
CATEGORIES:Seminar
ORGANIZER;CN="Concada":MAILTO:info@concada.de
END:VEVENT
END:VCALENDAR