BEGIN:VCALENDAR
VERSION:2.0
PRODID:-//RECYCLING magazin - ECPv6.15.20//NONSGML v1.0//EN
CALSCALE:GREGORIAN
METHOD:PUBLISH
X-ORIGINAL-URL:https://www.recyclingmagazin.de
X-WR-CALDESC:Veranstaltungen für RECYCLING magazin
REFRESH-INTERVAL;VALUE=DURATION:PT1H
X-Robots-Tag:noindex
X-PUBLISHED-TTL:PT1H
BEGIN:VTIMEZONE
TZID:Europe/Berlin
BEGIN:DAYLIGHT
TZOFFSETFROM:+0100
TZOFFSETTO:+0200
TZNAME:CEST
DTSTART:20240331T010000
END:DAYLIGHT
BEGIN:STANDARD
TZOFFSETFROM:+0200
TZOFFSETTO:+0100
TZNAME:CET
DTSTART:20241027T010000
END:STANDARD
BEGIN:DAYLIGHT
TZOFFSETFROM:+0100
TZOFFSETTO:+0200
TZNAME:CEST
DTSTART:20250330T010000
END:DAYLIGHT
BEGIN:STANDARD
TZOFFSETFROM:+0200
TZOFFSETTO:+0100
TZNAME:CET
DTSTART:20251026T010000
END:STANDARD
BEGIN:DAYLIGHT
TZOFFSETFROM:+0100
TZOFFSETTO:+0200
TZNAME:CEST
DTSTART:20260329T010000
END:DAYLIGHT
BEGIN:STANDARD
TZOFFSETFROM:+0200
TZOFFSETTO:+0100
TZNAME:CET
DTSTART:20261025T010000
END:STANDARD
END:VTIMEZONE
BEGIN:VEVENT
DTSTART;VALUE=DATE:20250425
DTEND;VALUE=DATE:20251020
DTSTAMP:20260420T233501
CREATED:20241030T143859Z
LAST-MODIFIED:20241030T143859Z
UID:406937-1745539200-1760918399@www.recyclingmagazin.de
SUMMARY:Die GewAbfV - Gewerbeabfallverordnung in der Praxis
DESCRIPTION:
URL:https://www.recyclingmagazin.de/event/die-gewabfv-gewerbeabfallverordnung-in-der-praxis-26/
CATEGORIES:Webinar
END:VEVENT
BEGIN:VEVENT
DTSTART;TZID=Europe/Berlin:20250829T100000
DTEND;TZID=Europe/Berlin:20251019T123000
DTSTAMP:20260420T233501
CREATED:20250709T125311Z
LAST-MODIFIED:20250709T125311Z
UID:411482-1756461600-1760877000@www.recyclingmagazin.de
SUMMARY:Was tun\, wenn Sprengstoff\, Munition und Explosives auf den Wertstoffhof gelangt?
DESCRIPTION:
URL:https://www.recyclingmagazin.de/event/was-tun-wenn-sprengstoff-munition-und-explosives-auf-den-wertstoffhof-gelangt-4/
CATEGORIES:Webinar
END:VEVENT
BEGIN:VEVENT
DTSTART;VALUE=DATE:20250902
DTEND;VALUE=DATE:20251212
DTSTAMP:20260420T233501
CREATED:20250709T125643Z
LAST-MODIFIED:20250709T125643Z
UID:411486-1756771200-1765497599@www.recyclingmagazin.de
SUMMARY:Chemiespezifische Qualifizierung gemäß TRGS 520 (IHK)
DESCRIPTION:Der Zertifikatslehrgang vermittelt in Lernmodulen die geforderten spezifischen chemisch- naturwissenschaftlichen Kenntnisse\, Laborpraxis und mögliche toxikologische und biologische Auswirkungen von Chemikalien auf Menschen und Umwelt gemäß Anhang 2 der TRGS 520/2024. \nEinführungstage am 12.03.2025 und am 01.09.2025
URL:https://www.recyclingmagazin.de/event/chemiespezifische-qualifizierung-gemaess-trgs-520-ihk/
LOCATION:Akademie Dr. Obladen GmbH\, Tauentziestraße 7a\, Berlin\, 10789\, Deutschland
CATEGORIES:Webinar
END:VEVENT
BEGIN:VEVENT
DTSTART;VALUE=DATE:20250929
DTEND;VALUE=DATE:20251003
DTSTAMP:20260420T233501
CREATED:20250810T164532Z
LAST-MODIFIED:20250810T164532Z
UID:412119-1759104000-1759449599@www.recyclingmagazin.de
SUMMARY:Grundlehrgang TRGS 520 - Errichtung und Betrieb von Sammelstellen und Zwischenlagern für Kleinmengen gefährlicher Abfälle
DESCRIPTION:
URL:https://www.recyclingmagazin.de/event/grundlehrgang-trgs-520-errichtung-und-betrieb-von-sammelstellen-und-zwischenlagern-fuer-kleinmengen-gefaehrlicher-abfaelle-8/
CATEGORIES:Webinar
ORGANIZER;CN="kenic GmbH":MAILTO:info@kenic.de
END:VEVENT
BEGIN:VEVENT
DTSTART;VALUE=DATE:20250929
DTEND;VALUE=DATE:20251003
DTSTAMP:20260420T233501
CREATED:20250810T164640Z
LAST-MODIFIED:20250810T164640Z
UID:412122-1759104000-1759449599@www.recyclingmagazin.de
SUMMARY:Grundlehrgang TRGS 520 - Errichtung und Betrieb von Sammelstellen und Zwischenlagern für Kleinmengen gefährlicher Abfälle
DESCRIPTION:
URL:https://www.recyclingmagazin.de/event/grundlehrgang-trgs-520-errichtung-und-betrieb-von-sammelstellen-und-zwischenlagern-fuer-kleinmengen-gefaehrlicher-abfaelle-9/
LOCATION:kenic GmbH – Akademie für Wirtschaft und Umwelt\, Linienstraße 130\, Berlin\, 10115\, Deutschland
CATEGORIES:Seminar
ORGANIZER;CN="kenic GmbH":MAILTO:info@kenic.de
END:VEVENT
BEGIN:VEVENT
DTSTART;VALUE=DATE:20250930
DTEND;VALUE=DATE:20251002
DTSTAMP:20260420T233501
CREATED:20250810T121527Z
LAST-MODIFIED:20250810T121527Z
UID:412056-1759190400-1759363199@www.recyclingmagazin.de
SUMMARY:Entsorgung von gefährlichen Abfällen
DESCRIPTION:
URL:https://www.recyclingmagazin.de/event/entsorgung-von-gefaehrlichen-abfaellen/
LOCATION:BEW GmbH Bildungszentrum Duisburg\, Dr.-Detlev-Karsten-Rohwedder-Str. 70\, Duisburg\, 47228 \, Deutschland
CATEGORIES:Seminar
END:VEVENT
BEGIN:VEVENT
DTSTART;VALUE=DATE:20251001
DTEND;VALUE=DATE:20251003
DTSTAMP:20260420T233501
CREATED:20250709T150936Z
LAST-MODIFIED:20250709T150936Z
UID:411516-1759276800-1759449599@www.recyclingmagazin.de
SUMMARY:Fortbildung für Entsorgungsfachbetriebe mit dem Schwerpunkt: Nachweisführung
DESCRIPTION:
URL:https://www.recyclingmagazin.de/event/fortbildung-fuer-entsorgungsfachbetriebe-mit-dem-schwerpunkt-nachweisfuehrung-7/
CATEGORIES:Webinar
END:VEVENT
BEGIN:VEVENT
DTSTART;VALUE=DATE:20251001
DTEND;VALUE=DATE:20251002
DTSTAMP:20260420T233501
CREATED:20250709T154937Z
LAST-MODIFIED:20250709T154937Z
UID:411546-1759276800-1759363199@www.recyclingmagazin.de
SUMMARY:Probenahme fester Abfälle auf der Basis der LAGA Richtlinie PN 98 und DIN 19698-1
DESCRIPTION:
URL:https://www.recyclingmagazin.de/event/probenahme-fester-abfaelle-auf-der-basis-der-laga-richtlinie-pn-98-und-din-19698-1-5/
LOCATION:Umweltinstitut Offenbach\, Frankfurter Straße 48\, Offenbach\, 63065\, Deutschland
CATEGORIES:Seminar
END:VEVENT
BEGIN:VEVENT
DTSTART;VALUE=DATE:20251001
DTEND;VALUE=DATE:20251002
DTSTAMP:20260420T233501
CREATED:20250729T160305Z
LAST-MODIFIED:20250729T160901Z
UID:411897-1759276800-1759363199@www.recyclingmagazin.de
SUMMARY:7th European Recycling Conference 2025
DESCRIPTION:
URL:https://www.recyclingmagazin.de/event/european-recycling-conference-2025/
LOCATION:east Hotel Hamburg\, Simon-von-Utrecht-Straße 31\, Hamburg\, 20359\, Germany
CATEGORIES:Kongress
ORGANIZER;CN="European Recycling Industries%E2%80%99 Confederation (EuRIC)":MAILTO:euric@euric-aisbl.eu
END:VEVENT
BEGIN:VEVENT
DTSTART;VALUE=DATE:20251002
DTEND;VALUE=DATE:20251003
DTSTAMP:20260420T233501
CREATED:20250508T173241Z
LAST-MODIFIED:20250508T173241Z
UID:410660-1759363200-1759449599@www.recyclingmagazin.de
SUMMARY:§ 53 KrWG Lehrgang zum Nachweis der Fachkunde
DESCRIPTION:
URL:https://www.recyclingmagazin.de/event/%c2%a7-53-krwg-lehrgang-zum-nachweis-der-fachkunde-40/
CATEGORIES:Webinar
END:VEVENT
BEGIN:VEVENT
DTSTART;VALUE=DATE:20251006
DTEND;VALUE=DATE:20251011
DTSTAMP:20260420T233501
CREATED:20250317T100627Z
LAST-MODIFIED:20250317T100627Z
UID:409854-1759708800-1760140799@www.recyclingmagazin.de
SUMMARY:Gefahrgutbeauftragte für Straße und Schiene
DESCRIPTION:
URL:https://www.recyclingmagazin.de/event/gefahrgutbeauftragte-fuer-strasse-und-schiene-4/
CATEGORIES:Seminar
ORGANIZER;CN="Concada":MAILTO:info@concada.de
END:VEVENT
BEGIN:VEVENT
DTSTART;VALUE=DATE:20251006
DTEND;VALUE=DATE:20251008
DTSTAMP:20260420T233501
CREATED:20250508T160114Z
LAST-MODIFIED:20250508T161817Z
UID:410637-1759708800-1759881599@www.recyclingmagazin.de
SUMMARY:Einführung rechtliche und technische Grundlagen der Abfallwirtschaft
DESCRIPTION:
URL:https://www.recyclingmagazin.de/event/einfuehrung-rechtliche-und-technische-grundlagen-der-abfallwirtschaft-57/
CATEGORIES:Webinar
END:VEVENT
BEGIN:VEVENT
DTSTART;VALUE=DATE:20251006
DTEND;VALUE=DATE:20251008
DTSTAMP:20260420T233501
CREATED:20250810T160635Z
LAST-MODIFIED:20250810T160635Z
UID:412104-1759708800-1759881599@www.recyclingmagazin.de
SUMMARY:Fortbildungslehrgang Abfallbeauftragte | EfbV | AbfAEV
DESCRIPTION:
URL:https://www.recyclingmagazin.de/event/fortbildungslehrgang-abfallbeauftragte-efbv-abfaev-6/
CATEGORIES:Webinar
ORGANIZER;CN="kenic GmbH":MAILTO:info@kenic.de
END:VEVENT
BEGIN:VEVENT
DTSTART;VALUE=DATE:20251006
DTEND;VALUE=DATE:20251007
DTSTAMP:20260420T233501
CREATED:20251017T164601Z
LAST-MODIFIED:20251017T164601Z
UID:413007-1759708800-1759795199@www.recyclingmagazin.de
SUMMARY:Plastics Summit – Global Event 2025
DESCRIPTION:
URL:https://www.recyclingmagazin.de/event/plastics-summit-global-event-2025/
LOCATION:Feira Internacional de Lisboa\, R. do Bojador\, Lissabon\, 1998-010\, Portugal
CATEGORIES:Konferenz
END:VEVENT
BEGIN:VEVENT
DTSTART;VALUE=DATE:20251007
DTEND;VALUE=DATE:20251011
DTSTAMP:20260420T233501
CREATED:20240903T182226Z
LAST-MODIFIED:20240903T182226Z
UID:406054-1759795200-1760140799@www.recyclingmagazin.de
SUMMARY:Pollutec 2025
DESCRIPTION:
URL:https://www.recyclingmagazin.de/event/pollutec-2025/
LOCATION:Eurexpo Lyon\, Bd de l'Europe\, Chassieu\, 69680\, Frankreich
CATEGORIES:Konferenz,Messe
END:VEVENT
BEGIN:VEVENT
DTSTART;VALUE=DATE:20251007
DTEND;VALUE=DATE:20251009
DTSTAMP:20260420T233501
CREATED:20241030T171817Z
LAST-MODIFIED:20241030T171817Z
UID:407042-1759795200-1759967999@www.recyclingmagazin.de
SUMMARY:Kombinierter Fortbildungslehrgang nach § 9 EfbV und § 5 AbfAEV sowie § 9 AbfBeauftrV (8)
DESCRIPTION:
URL:https://www.recyclingmagazin.de/event/kombinierter-fortbildungslehrgang-nach-%c2%a7-9-efbv-und-%c2%a7-5-abfaev-sowie-%c2%a7-9-abfbeauftrv-8-4/
CATEGORIES:Webinar
END:VEVENT
BEGIN:VEVENT
DTSTART;VALUE=DATE:20251007
DTEND;VALUE=DATE:20251009
DTSTAMP:20260420T233501
CREATED:20250316T165617Z
LAST-MODIFIED:20250316T165617Z
UID:409715-1759795200-1759967999@www.recyclingmagazin.de
SUMMARY:Kombinierter Fortbildungslehrgang nach § 9 EfbV und § 5 AbfAEV sowie § 9 AbfBeauftrV (8)
DESCRIPTION:
URL:https://www.recyclingmagazin.de/event/kombinierter-fortbildungslehrgang-nach-%c2%a7-9-efbv-und-%c2%a7-5-abfaev-sowie-%c2%a7-9-abfbeauftrv-8-5/
CATEGORIES:Webinar
END:VEVENT
BEGIN:VEVENT
DTSTART;VALUE=DATE:20251007
DTEND;VALUE=DATE:20251011
DTSTAMP:20260420T233501
CREATED:20250316T194126Z
LAST-MODIFIED:20250316T194126Z
UID:409810-1759795200-1760140799@www.recyclingmagazin.de
SUMMARY:Betriebsbeauftragte für Immissionsschutz
DESCRIPTION:
URL:https://www.recyclingmagazin.de/event/betriebsbeauftragte-fuer-immissionsschutz-9/
CATEGORIES:Seminar
ORGANIZER;CN="Concada":MAILTO:info@concada.de
END:VEVENT
BEGIN:VEVENT
DTSTART;VALUE=DATE:20251007
DTEND;VALUE=DATE:20251008
DTSTAMP:20260420T233501
CREATED:20250317T111521Z
LAST-MODIFIED:20250317T111521Z
UID:409924-1759795200-1759881599@www.recyclingmagazin.de
SUMMARY:Die Ersatzbaustoffverordnung (ErsatzbaustoffV)
DESCRIPTION:
URL:https://www.recyclingmagazin.de/event/die-ersatzbaustoffverordnung-ersatzbaustoffv-4/
CATEGORIES:Webinar
END:VEVENT
BEGIN:VEVENT
DTSTART;VALUE=DATE:20251007
DTEND;VALUE=DATE:20251008
DTSTAMP:20260420T233501
CREATED:20250508T140157Z
LAST-MODIFIED:20250508T140157Z
UID:410579-1759795200-1759881599@www.recyclingmagazin.de
SUMMARY:Abfallrecht aktuell - Was ändert sich?
DESCRIPTION:
URL:https://www.recyclingmagazin.de/event/abfallrecht-aktuell-was-aendert-sich-5/
CATEGORIES:Webinar
END:VEVENT
BEGIN:VEVENT
DTSTART;VALUE=DATE:20251007
DTEND;VALUE=DATE:20251008
DTSTAMP:20260420T233501
CREATED:20250612T132813Z
LAST-MODIFIED:20250612T132813Z
UID:411121-1759795200-1759881599@www.recyclingmagazin.de
SUMMARY:Die Ersatzbaustoffverordnung in der aktuellen Praxis
DESCRIPTION:
URL:https://www.recyclingmagazin.de/event/die-ersatzbaustoffverordnung-in-der-aktuellen-praxis-2/
CATEGORIES:Webinar
END:VEVENT
BEGIN:VEVENT
DTSTART;VALUE=DATE:20251007
DTEND;VALUE=DATE:20251009
DTSTAMP:20260420T233501
CREATED:20250612T134432Z
LAST-MODIFIED:20250612T134432Z
UID:411145-1759795200-1759967999@www.recyclingmagazin.de
SUMMARY:Kombinierter Fortbildungslehrgang nach § 9 EfbV und § 5 AbfAEV sowie § 9 AbfBeauftrV
DESCRIPTION:
URL:https://www.recyclingmagazin.de/event/kombinierter-fortbildungslehrgang-nach-%c2%a7-9-efbv-und-%c2%a7-5-abfaev-sowie-%c2%a7-9-abfbeauftrv-19/
CATEGORIES:Webinar
END:VEVENT
BEGIN:VEVENT
DTSTART;VALUE=DATE:20251007
DTEND;VALUE=DATE:20251008
DTSTAMP:20260420T233501
CREATED:20250709T152519Z
LAST-MODIFIED:20250709T152519Z
UID:411522-1759795200-1759881599@www.recyclingmagazin.de
SUMMARY:Einstufen und klassifizieren von gefährlichen Abfällen
DESCRIPTION:
URL:https://www.recyclingmagazin.de/event/einstufen-und-klassifizieren-von-gefaehrlichen-abfaellen-4/
LOCATION:Umweltinstitut Offenbach\, Frankfurter Straße 48\, Offenbach\, 63065\, Deutschland
CATEGORIES:Seminar
END:VEVENT
BEGIN:VEVENT
DTSTART;VALUE=DATE:20251007
DTEND;VALUE=DATE:20251008
DTSTAMP:20260420T233501
CREATED:20250710T121355Z
LAST-MODIFIED:20250710T121355Z
UID:411606-1759795200-1759881599@www.recyclingmagazin.de
SUMMARY:Basiswissen Chemie in der Schadstoffsammlung
DESCRIPTION:
URL:https://www.recyclingmagazin.de/event/basiswissen-chemie-in-der-schadstoffsammlung-6/
CATEGORIES:Webinar
END:VEVENT
BEGIN:VEVENT
DTSTART;VALUE=DATE:20251007
DTEND;VALUE=DATE:20251009
DTSTAMP:20260420T233501
CREATED:20250810T124215Z
LAST-MODIFIED:20250810T124215Z
UID:412069-1759795200-1759967999@www.recyclingmagazin.de
SUMMARY:Life Cycle Assessment (LCA) in der Bauindustrie
DESCRIPTION:Praxisorientierter Einstieg in die Produktökobilanz und die zukünftige Bauprodukte-Verordnung
URL:https://www.recyclingmagazin.de/event/life-cycle-assessment-lca-in-der-bauindustrie/
LOCATION:Haus der Technik Essen\, Hollestraße 1\, Essen\, Deutschland
CATEGORIES:Seminar
END:VEVENT
BEGIN:VEVENT
DTSTART;VALUE=DATE:20251007
DTEND;VALUE=DATE:20251008
DTSTAMP:20260420T233501
CREATED:20250810T124810Z
LAST-MODIFIED:20250810T124810Z
UID:412073-1759795200-1759881599@www.recyclingmagazin.de
SUMMARY:Das Lieferkettengesetz (LkSG) in der unternehmerischen Praxis
DESCRIPTION:Basisseminar: Überblick\, betriebliche Umsetzung\, Preview auf CSRD- u. CSDD-Richtlinie\, welche höchst relevant sind. Konkrete Handlungsempfehlungen.
URL:https://www.recyclingmagazin.de/event/das-lieferkettengesetz-lksg-in-der-unternehmerischen-praxis/
LOCATION:Haus der Technik Essen\, Hollestraße 1\, Essen\, Deutschland
CATEGORIES:Seminar
END:VEVENT
BEGIN:VEVENT
DTSTART;VALUE=DATE:20251008
DTEND;VALUE=DATE:20251016
DTSTAMP:20260420T233501
CREATED:20230831T131226Z
LAST-MODIFIED:20240912T091313Z
UID:399184-1759881600-1760572799@www.recyclingmagazin.de
SUMMARY:K 2025 - Die internationale Messe für die Innovationen der Kunststoffindustrie
DESCRIPTION:
URL:https://www.recyclingmagazin.de/event/k-the-worlds-no-1-trade-fair-for-plastics-and-rubber-2025/
LOCATION:Messe Düsseldorf GmbH\, Stockumer Kirchstraße 61\, Düsseldrof\, 40474\, Deutschland
CATEGORIES:Messe
END:VEVENT
BEGIN:VEVENT
DTSTART;VALUE=DATE:20251008
DTEND;VALUE=DATE:20251009
DTSTAMP:20260420T233501
CREATED:20250317T103436Z
LAST-MODIFIED:20250317T103436Z
UID:409887-1759881600-1759967999@www.recyclingmagazin.de
SUMMARY:Gefahrstoffe Update
DESCRIPTION:
URL:https://www.recyclingmagazin.de/event/gefahrstoffe-update-5/
CATEGORIES:Webinar
ORGANIZER;CN="Concada":MAILTO:info@concada.de
END:VEVENT
BEGIN:VEVENT
DTSTART;VALUE=DATE:20251008
DTEND;VALUE=DATE:20251009
DTSTAMP:20260420T233501
CREATED:20250508T141546Z
LAST-MODIFIED:20250508T141546Z
UID:410591-1759881600-1759967999@www.recyclingmagazin.de
SUMMARY:Abfallnachweisverfahren (eANV) und Abfallnachweisführung
DESCRIPTION:
URL:https://www.recyclingmagazin.de/event/abfallnachweisverfahren-eanv-und-abfallnachweisfuehrung-76/
CATEGORIES:Webinar
END:VEVENT
BEGIN:VEVENT
DTSTART;VALUE=DATE:20251008
DTEND;VALUE=DATE:20251009
DTSTAMP:20260420T233501
CREATED:20250510T124801Z
LAST-MODIFIED:20250510T124801Z
UID:410750-1759881600-1759967999@www.recyclingmagazin.de
SUMMARY:Öffentliche Ausschreibungen und Vergabeverfahren
DESCRIPTION:
URL:https://www.recyclingmagazin.de/event/oeffentliche-ausschreibungen-und-vergabeverfahren-12/
CATEGORIES:Webinar
END:VEVENT
END:VCALENDAR