BEGIN:VCALENDAR
VERSION:2.0
PRODID:-//RECYCLING magazin - ECPv6.15.20//NONSGML v1.0//EN
CALSCALE:GREGORIAN
METHOD:PUBLISH
X-WR-CALNAME:RECYCLING magazin
X-ORIGINAL-URL:https://www.recyclingmagazin.de
X-WR-CALDESC:Veranstaltungen für RECYCLING magazin
REFRESH-INTERVAL;VALUE=DURATION:PT1H
X-Robots-Tag:noindex
X-PUBLISHED-TTL:PT1H
BEGIN:VTIMEZONE
TZID:Europe/Berlin
BEGIN:DAYLIGHT
TZOFFSETFROM:+0100
TZOFFSETTO:+0200
TZNAME:CEST
DTSTART:20240331T010000
END:DAYLIGHT
BEGIN:STANDARD
TZOFFSETFROM:+0200
TZOFFSETTO:+0100
TZNAME:CET
DTSTART:20241027T010000
END:STANDARD
BEGIN:DAYLIGHT
TZOFFSETFROM:+0100
TZOFFSETTO:+0200
TZNAME:CEST
DTSTART:20250330T010000
END:DAYLIGHT
BEGIN:STANDARD
TZOFFSETFROM:+0200
TZOFFSETTO:+0100
TZNAME:CET
DTSTART:20251026T010000
END:STANDARD
BEGIN:DAYLIGHT
TZOFFSETFROM:+0100
TZOFFSETTO:+0200
TZNAME:CEST
DTSTART:20260329T010000
END:DAYLIGHT
BEGIN:STANDARD
TZOFFSETFROM:+0200
TZOFFSETTO:+0100
TZNAME:CET
DTSTART:20261025T010000
END:STANDARD
END:VTIMEZONE
BEGIN:VEVENT
DTSTART;VALUE=DATE:20250425
DTEND;VALUE=DATE:20251020
DTSTAMP:20260421T062700
CREATED:20241030T143859Z
LAST-MODIFIED:20241030T143859Z
UID:406937-1745539200-1760918399@www.recyclingmagazin.de
SUMMARY:Die GewAbfV - Gewerbeabfallverordnung in der Praxis
DESCRIPTION:
URL:https://www.recyclingmagazin.de/event/die-gewabfv-gewerbeabfallverordnung-in-der-praxis-26/
CATEGORIES:Webinar
END:VEVENT
BEGIN:VEVENT
DTSTART;VALUE=DATE:20250807
DTEND;VALUE=DATE:20250809
DTSTAMP:20260421T062700
CREATED:20250316T195611Z
LAST-MODIFIED:20250316T195611Z
UID:409820-1754524800-1754697599@www.recyclingmagazin.de
SUMMARY:Fortbildung für Entsorgungsfachbetriebe\, Sammler\, Beförderer\, Händler und Makler
DESCRIPTION:
URL:https://www.recyclingmagazin.de/event/fortbildung-fuer-entsorgungsfachbetriebe-sammler-befoerderer-haendler-und-makler-3/
CATEGORIES:Seminar
ORGANIZER;CN="Concada":MAILTO:info@concada.de
END:VEVENT
BEGIN:VEVENT
DTSTART;VALUE=DATE:20250807
DTEND;VALUE=DATE:20250808
DTSTAMP:20260421T062700
CREATED:20250508T173041Z
LAST-MODIFIED:20250508T173041Z
UID:410655-1754524800-1754611199@www.recyclingmagazin.de
SUMMARY:§ 53 KrWG Lehrgang zum Nachweis der Fachkunde
DESCRIPTION:
URL:https://www.recyclingmagazin.de/event/%c2%a7-53-krwg-lehrgang-zum-nachweis-der-fachkunde-38/
CATEGORIES:Webinar
END:VEVENT
BEGIN:VEVENT
DTSTART;TZID=Europe/Berlin:20250808T090000
DTEND;TZID=Europe/Berlin:20250808T140000
DTSTAMP:20260421T062700
CREATED:20250508T181645Z
LAST-MODIFIED:20250508T181645Z
UID:410686-1754643600-1754661600@www.recyclingmagazin.de
SUMMARY:Lehrgang zur Probenahme fester Abfälle nach LAGA PN 98
DESCRIPTION:
URL:https://www.recyclingmagazin.de/event/lehrgang-zur-probenahme-fester-abfaelle-nach-laga-pn-98-21/
CATEGORIES:Webinar
END:VEVENT
BEGIN:VEVENT
DTSTART;VALUE=DATE:20250811
DTEND;VALUE=DATE:20250813
DTSTAMP:20260421T062700
CREATED:20250508T154545Z
LAST-MODIFIED:20250508T154601Z
UID:410633-1754870400-1755043199@www.recyclingmagazin.de
SUMMARY:Einführung rechtliche und technische Grundlagen der Abfallwirtschaft
DESCRIPTION:
URL:https://www.recyclingmagazin.de/event/einfuehrung-rechtliche-und-technische-grundlagen-der-abfallwirtschaft-55/
CATEGORIES:Webinar
END:VEVENT
BEGIN:VEVENT
DTSTART;TZID=Europe/Berlin:20250812T090000
DTEND;TZID=Europe/Berlin:20250812T140000
DTSTAMP:20260421T062700
CREATED:20250508T202357Z
LAST-MODIFIED:20250508T202357Z
UID:410715-1754989200-1755007200@www.recyclingmagazin.de
SUMMARY:Befähigte Person zur Prüfung von Absetz- und Abrollbehältern (14 BetrSichV)
DESCRIPTION:
URL:https://www.recyclingmagazin.de/event/befaehigte-person-zur-pruefung-von-absetz-und-abrollbehaeltern-14-betrsichv-12/
CATEGORIES:Webinar
END:VEVENT
BEGIN:VEVENT
DTSTART;VALUE=DATE:20250813
DTEND;VALUE=DATE:20250815
DTSTAMP:20260421T062700
CREATED:20240902T093800Z
LAST-MODIFIED:20250508T132303Z
UID:405928-1755043200-1755215999@www.recyclingmagazin.de
SUMMARY:REWIMET Symposium zum Ressourcenmanagement 2025
DESCRIPTION:
URL:https://www.recyclingmagazin.de/event/rewimet-symposium-2025/
CATEGORIES:Kongress
END:VEVENT
BEGIN:VEVENT
DTSTART;VALUE=DATE:20250819
DTEND;VALUE=DATE:20250820
DTSTAMP:20260421T062700
CREATED:20250709T154245Z
LAST-MODIFIED:20250709T154245Z
UID:411537-1755561600-1755647999@www.recyclingmagazin.de
SUMMARY:Abfallannahme
DESCRIPTION:
URL:https://www.recyclingmagazin.de/event/abfallannahme-3/
CATEGORIES:Seminar
END:VEVENT
BEGIN:VEVENT
DTSTART;VALUE=DATE:20250820
DTEND;VALUE=DATE:20250821
DTSTAMP:20260421T062700
CREATED:20250508T194447Z
LAST-MODIFIED:20250508T194447Z
UID:410704-1755648000-1755734399@www.recyclingmagazin.de
SUMMARY:Probenahme flüssige Abfälle
DESCRIPTION:
URL:https://www.recyclingmagazin.de/event/probenahme-fluessige-abfaelle-17/
CATEGORIES:Webinar
END:VEVENT
BEGIN:VEVENT
DTSTART;VALUE=DATE:20250821
DTEND;VALUE=DATE:20250822
DTSTAMP:20260421T062700
CREATED:20250508T141129Z
LAST-MODIFIED:20250508T141321Z
UID:410585-1755734400-1755820799@www.recyclingmagazin.de
SUMMARY:Abfallnachweisverfahren (eANV) und Abfallnachweisführung
DESCRIPTION:
URL:https://www.recyclingmagazin.de/event/abfallnachweisverfahren-eanv-und-abfallnachweisfuehrung-74/
CATEGORIES:Webinar
END:VEVENT
BEGIN:VEVENT
DTSTART;VALUE=DATE:20250821
DTEND;VALUE=DATE:20250822
DTSTAMP:20260421T062700
CREATED:20250612T131028Z
LAST-MODIFIED:20250612T131028Z
UID:411105-1755734400-1755820799@www.recyclingmagazin.de
SUMMARY:Sachkundiger (befähigte Person) gemäß DGUV Information 214-017
DESCRIPTION:
URL:https://www.recyclingmagazin.de/event/sachkundiger-befaehigte-person-gemaess-dguv-information-214-017-5/
LOCATION:FAUN Umwelttechnik GmbH & Co. KG Augsburg\, Am Mittleren Moos 59\, Augsburg\, 86167\, Deutschland
CATEGORIES:Seminar
END:VEVENT
BEGIN:VEVENT
DTSTART;VALUE=DATE:20250821
DTEND;VALUE=DATE:20250822
DTSTAMP:20260421T062700
CREATED:20250709T124649Z
LAST-MODIFIED:20250709T124649Z
UID:411478-1755734400-1755820799@www.recyclingmagazin.de
SUMMARY:Sachkundiger (befähigte Person) gemäß DGUV Information 214-017
DESCRIPTION:
URL:https://www.recyclingmagazin.de/event/sachkundiger-befaehigte-person-gemaess-dguv-information-214-017-6/
CATEGORIES:Seminar
END:VEVENT
BEGIN:VEVENT
DTSTART;VALUE=DATE:20250822
DTEND;VALUE=DATE:20250823
DTSTAMP:20260421T062700
CREATED:20250709T124811Z
LAST-MODIFIED:20250709T124811Z
UID:411480-1755820800-1755907199@www.recyclingmagazin.de
SUMMARY:Sachkundiger (befähigte Person) gemäß DGUV Vorschrift 70
DESCRIPTION:
URL:https://www.recyclingmagazin.de/event/sachkundiger-befaehigte-person-gemaess-dguv-vorschrift-70-12/
CATEGORIES:Seminar
END:VEVENT
BEGIN:VEVENT
DTSTART;VALUE=DATE:20250825
DTEND;VALUE=DATE:20250826
DTSTAMP:20260421T062700
CREATED:20250612T134133Z
LAST-MODIFIED:20250612T134133Z
UID:411141-1756080000-1756166399@www.recyclingmagazin.de
SUMMARY:Ersatzbaustoffverordnung in der Praxis: 1x1 für Betreiber von mobilen und stationären Aufbereitungsanlagen für mineralische Bauabfälle\, (M5) 3\,5 UE
DESCRIPTION:
URL:https://www.recyclingmagazin.de/event/ersatzbaustoffverordnung-in-der-praxis-1x1-fuer-betreiber-von-mobilen-und-stationaeren-aufbereitungsanlagen-fuer-mineralische-bauabfaelle-m5-35-ue/
CATEGORIES:Webinar
END:VEVENT
BEGIN:VEVENT
DTSTART;TZID=Europe/Berlin:20250825T090000
DTEND;TZID=Europe/Berlin:20250825T150000
DTSTAMP:20260421T062700
CREATED:20250508T134117Z
LAST-MODIFIED:20250508T134117Z
UID:410568-1756112400-1756134000@www.recyclingmagazin.de
SUMMARY:Abfallanalysen lesen & verstehen
DESCRIPTION:
URL:https://www.recyclingmagazin.de/event/abfallanalysen-lesen-verstehen-4/
CATEGORIES:Webinar
END:VEVENT
BEGIN:VEVENT
DTSTART;VALUE=DATE:20250826
DTEND;VALUE=DATE:20250828
DTSTAMP:20260421T062700
CREATED:20250317T095826Z
LAST-MODIFIED:20250317T095826Z
UID:409836-1756166400-1756339199@www.recyclingmagazin.de
SUMMARY:Fortbildung für Immissionsschutz- und Störfallbeauftragte
DESCRIPTION:
URL:https://www.recyclingmagazin.de/event/fortbildung-fuer-immissionsschutz-und-stoerfallbeauftragte-32/
CATEGORIES:Seminar
ORGANIZER;CN="Concada":MAILTO:info@concada.de
END:VEVENT
BEGIN:VEVENT
DTSTART;VALUE=DATE:20250826
DTEND;VALUE=DATE:20250830
DTSTAMP:20260421T062700
CREATED:20250317T105237Z
LAST-MODIFIED:20250317T105237Z
UID:409909-1756166400-1756511999@www.recyclingmagazin.de
SUMMARY:Kombinierte Fortbildung für Mehrfachbeauftragte (Abfall\, Immissionsschutz\, Störfall\, Gewässer)
DESCRIPTION:
URL:https://www.recyclingmagazin.de/event/kombinierte-fortbildung-fuer-mehrfachbeauftragte-abfall-immissionsschutz-stoerfall-gewaesser-10/
CATEGORIES:Seminar
ORGANIZER;CN="Concada":MAILTO:info@concada.de
END:VEVENT
BEGIN:VEVENT
DTSTART;VALUE=DATE:20250826
DTEND;VALUE=DATE:20250827
DTSTAMP:20260421T062700
CREATED:20250508T165443Z
LAST-MODIFIED:20250508T165443Z
UID:410645-1756166400-1756252799@www.recyclingmagazin.de
SUMMARY:Neue Ersatzbaustoffverordnung in der Praxis
DESCRIPTION:
URL:https://www.recyclingmagazin.de/event/neue-ersatzbaustoffverordnung-in-der-praxis-14/
CATEGORIES:Webinar
END:VEVENT
BEGIN:VEVENT
DTSTART;VALUE=DATE:20250827
DTEND;VALUE=DATE:20250828
DTSTAMP:20260421T062700
CREATED:20250316T184912Z
LAST-MODIFIED:20250316T184912Z
UID:409774-1756252800-1756339199@www.recyclingmagazin.de
SUMMARY:Abfallrechtliche Nachweisführung
DESCRIPTION:
URL:https://www.recyclingmagazin.de/event/abfallrechtliche-nachweisfuehrung-15/
CATEGORIES:Seminar
END:VEVENT
BEGIN:VEVENT
DTSTART;VALUE=DATE:20250827
DTEND;VALUE=DATE:20250829
DTSTAMP:20260421T062700
CREATED:20250508T132051Z
LAST-MODIFIED:20250508T132051Z
UID:410564-1756252800-1756425599@www.recyclingmagazin.de
SUMMARY:Landesfachtagung Nordrhein-Westfalen 2025
DESCRIPTION:
URL:https://www.recyclingmagazin.de/event/landesfachtagung-nordrhein-westfalen-2025/
LOCATION:Vienna House Easy by Wyndham Wuppertal\, Auf dem Johannisberg 1\, Wuppertal\, Germany
CATEGORIES:Tagung
END:VEVENT
BEGIN:VEVENT
DTSTART;VALUE=DATE:20250827
DTEND;VALUE=DATE:20250829
DTSTAMP:20260421T062700
CREATED:20250612T131217Z
LAST-MODIFIED:20250612T131217Z
UID:411107-1756252800-1756425599@www.recyclingmagazin.de
SUMMARY:Landesfachtagung Nordrhein-Westfalen des VKU e.V. Abfallwirtschaft und Stadtsauberkeit VKS
DESCRIPTION:
URL:https://www.recyclingmagazin.de/event/landesfachtagung-nordrhein-westfalen-des-vku-e-v-abfallwirtschaft-und-stadtsauberkeit-vks/
LOCATION:Historischen Stadthalle Wuppertal\, Johannisberg 40\, Wuppertal\, 42103\, Deutschland
CATEGORIES:Tagung
END:VEVENT
BEGIN:VEVENT
DTSTART;VALUE=DATE:20250827
DTEND;VALUE=DATE:20250829
DTSTAMP:20260421T062700
CREATED:20250612T135538Z
LAST-MODIFIED:20250612T135707Z
UID:411160-1756252800-1756425599@www.recyclingmagazin.de
SUMMARY:Fortbildungslehrgang zur Auffrischung der Fachkunde gemäß § 54 KrWG\, § 9 EfbV und § 5 AbfAEV (Themen: Aktuelles Kreislaufwirtschaftsrecht und Nachweisverfahren)
DESCRIPTION:Aktualisierung der Fachkunde für Sammler\, Beförderer\, Händler\, Makler und Entsorger gefährlicher Abfälle (mit bundesweiter behördlicher Anerkennung)
URL:https://www.recyclingmagazin.de/event/fortbildungslehrgang-zur-auffrischung-der-fachkunde-gemaess-%c2%a7-54-krwg-%c2%a7-9-efbv-und-%c2%a7-5-abfaev-themen-aktuelles-kreislaufwirtschaftsrecht-und-nachweisverfahren/
CATEGORIES:Seminar
END:VEVENT
BEGIN:VEVENT
DTSTART;VALUE=DATE:20250827
DTEND;VALUE=DATE:20250828
DTSTAMP:20260421T062700
CREATED:20250710T151823Z
LAST-MODIFIED:20250710T151853Z
UID:411650-1756252800-1756339199@www.recyclingmagazin.de
SUMMARY:Die GewAbfV - Gewerbeabfallverordnung in der Praxis
DESCRIPTION:
URL:https://www.recyclingmagazin.de/event/die-gewabfv-gewerbeabfallverordnung-in-der-praxis-27/
CATEGORIES:Webinar
END:VEVENT
BEGIN:VEVENT
DTSTART;VALUE=DATE:20250828
DTEND;VALUE=DATE:20250829
DTSTAMP:20260421T062700
CREATED:20250508T144120Z
LAST-MODIFIED:20250508T144120Z
UID:410618-1756339200-1756425599@www.recyclingmagazin.de
SUMMARY:Grundlagen der Chemie von Abfall
DESCRIPTION:
URL:https://www.recyclingmagazin.de/event/grundlagen-der-chemie-von-abfall-19/
CATEGORIES:Webinar
END:VEVENT
BEGIN:VEVENT
DTSTART;VALUE=DATE:20250828
DTEND;VALUE=DATE:20250829
DTSTAMP:20260421T062700
CREATED:20250612T132922Z
LAST-MODIFIED:20250612T132922Z
UID:411124-1756339200-1756425599@www.recyclingmagazin.de
SUMMARY:Altholz qualifiziert erkennen\, sortieren und beproben
DESCRIPTION:
URL:https://www.recyclingmagazin.de/event/altholz-qualifiziert-erkennen-sortieren-und-beproben-20/
CATEGORIES:Webinar
END:VEVENT
BEGIN:VEVENT
DTSTART;TZID=Europe/Berlin:20250829T100000
DTEND;TZID=Europe/Berlin:20251019T123000
DTSTAMP:20260421T062700
CREATED:20250709T125311Z
LAST-MODIFIED:20250709T125311Z
UID:411482-1756461600-1760877000@www.recyclingmagazin.de
SUMMARY:Was tun\, wenn Sprengstoff\, Munition und Explosives auf den Wertstoffhof gelangt?
DESCRIPTION:
URL:https://www.recyclingmagazin.de/event/was-tun-wenn-sprengstoff-munition-und-explosives-auf-den-wertstoffhof-gelangt-4/
CATEGORIES:Webinar
END:VEVENT
END:VCALENDAR