BEGIN:VCALENDAR
VERSION:2.0
PRODID:-//RECYCLING magazin - ECPv6.15.20//NONSGML v1.0//EN
CALSCALE:GREGORIAN
METHOD:PUBLISH
X-ORIGINAL-URL:https://www.recyclingmagazin.de
X-WR-CALDESC:Veranstaltungen für RECYCLING magazin
REFRESH-INTERVAL;VALUE=DURATION:PT1H
X-Robots-Tag:noindex
X-PUBLISHED-TTL:PT1H
BEGIN:VTIMEZONE
TZID:Europe/Berlin
BEGIN:DAYLIGHT
TZOFFSETFROM:+0100
TZOFFSETTO:+0200
TZNAME:CEST
DTSTART:20240331T010000
END:DAYLIGHT
BEGIN:STANDARD
TZOFFSETFROM:+0200
TZOFFSETTO:+0100
TZNAME:CET
DTSTART:20241027T010000
END:STANDARD
BEGIN:DAYLIGHT
TZOFFSETFROM:+0100
TZOFFSETTO:+0200
TZNAME:CEST
DTSTART:20250330T010000
END:DAYLIGHT
BEGIN:STANDARD
TZOFFSETFROM:+0200
TZOFFSETTO:+0100
TZNAME:CET
DTSTART:20251026T010000
END:STANDARD
BEGIN:DAYLIGHT
TZOFFSETFROM:+0100
TZOFFSETTO:+0200
TZNAME:CEST
DTSTART:20260329T010000
END:DAYLIGHT
BEGIN:STANDARD
TZOFFSETFROM:+0200
TZOFFSETTO:+0100
TZNAME:CET
DTSTART:20261025T010000
END:STANDARD
END:VTIMEZONE
BEGIN:VEVENT
DTSTART;VALUE=DATE:20250325
DTEND;VALUE=DATE:20250708
DTSTAMP:20260421T080303
CREATED:20241211T151941Z
LAST-MODIFIED:20241211T151941Z
UID:407667-1742860800-1751932799@www.recyclingmagazin.de
SUMMARY:#LBFDeepDive
DESCRIPTION:Die Teilnahme am #LBFDeepDive steht exklusiv nur registrierten Teilnehmenden des 7. Praxisforums Kunststoffrezyklate (26. bis 27. März) offen und ist auf maximal\n20 Plätze begrenzt. \nDie Anmeldung erfolgt im Rahmen der Registrierung für das Praxisforum Kunststoffrezyklate.
URL:https://www.recyclingmagazin.de/event/lbfdeepdive/
CATEGORIES:Tagung
END:VEVENT
BEGIN:VEVENT
DTSTART;VALUE=DATE:20250425
DTEND;VALUE=DATE:20251020
DTSTAMP:20260421T080303
CREATED:20241030T143859Z
LAST-MODIFIED:20241030T143859Z
UID:406937-1745539200-1760918399@www.recyclingmagazin.de
SUMMARY:Die GewAbfV - Gewerbeabfallverordnung in der Praxis
DESCRIPTION:
URL:https://www.recyclingmagazin.de/event/die-gewabfv-gewerbeabfallverordnung-in-der-praxis-26/
CATEGORIES:Webinar
END:VEVENT
BEGIN:VEVENT
DTSTART;VALUE=DATE:20250602
DTEND;VALUE=DATE:20250607
DTSTAMP:20260421T080303
CREATED:20250316T182720Z
LAST-MODIFIED:20250316T182720Z
UID:409768-1748822400-1749254399@www.recyclingmagazin.de
SUMMARY:Branchenwissen Stadtsauberkeit
DESCRIPTION:
URL:https://www.recyclingmagazin.de/event/branchenwissen-stadtsauberkeit-3/
CATEGORIES:Webinar
END:VEVENT
BEGIN:VEVENT
DTSTART;VALUE=DATE:20250602
DTEND;VALUE=DATE:20250604
DTSTAMP:20260421T080303
CREATED:20250317T113314Z
LAST-MODIFIED:20250317T113314Z
UID:409935-1748822400-1748995199@www.recyclingmagazin.de
SUMMARY:Fortbildungslehrgang Abfallbeauftragte | EfbV | AbfAEV
DESCRIPTION:Bundesweit behördlich anerkannter Fortbildungslehrgang nach § 9 EfbV i.V. §§ 56\, 57 KrWG\, §§ 4\,5 AbfAEV i.V. §§ 53\, 54 KrWG \, § 9 AbfBeauftrV i. V. §§ 59\, 60 KrWG zur Aufrechterhaltung der Fachkunde – Voraussetzung Grundlehrgang –
URL:https://www.recyclingmagazin.de/event/fortbildungslehrgang-abfallbeauftragte-efbv-abfaev-3/
CATEGORIES:Seminar
ORGANIZER;CN="kenic GmbH":MAILTO:info@kenic.de
END:VEVENT
BEGIN:VEVENT
DTSTART;VALUE=DATE:20250603
DTEND;VALUE=DATE:20250606
DTSTAMP:20260421T080303
CREATED:20230831T130847Z
LAST-MODIFIED:20230831T130847Z
UID:399182-1748908800-1749167999@www.recyclingmagazin.de
SUMMARY:14. Klärschlammtage
DESCRIPTION:
URL:https://www.recyclingmagazin.de/event/14-klaerschlammtage/
LOCATION:Congress Centrum Würzburg\, Pleichertorstraße\, Würzburg\, 97070\, Deutschland
CATEGORIES:Tagung
END:VEVENT
BEGIN:VEVENT
DTSTART;VALUE=DATE:20250603
DTEND;VALUE=DATE:20250604
DTSTAMP:20260421T080303
CREATED:20241030T112734Z
LAST-MODIFIED:20241030T112734Z
UID:406894-1748908800-1748995199@www.recyclingmagazin.de
SUMMARY:Der Disponent in der Logistik
DESCRIPTION:
URL:https://www.recyclingmagazin.de/event/der-disponent-in-der-logistik-17/
CATEGORIES:Webinar
END:VEVENT
BEGIN:VEVENT
DTSTART;VALUE=DATE:20250603
DTEND;VALUE=DATE:20250605
DTSTAMP:20260421T080303
CREATED:20241030T175508Z
LAST-MODIFIED:20241030T175508Z
UID:407051-1748908800-1749081599@www.recyclingmagazin.de
SUMMARY:bvse-Branchenforum - Forum Schrott und Elektro(nik)-Altgerätetag 2025
DESCRIPTION:
URL:https://www.recyclingmagazin.de/event/bvse-branchenforum-forum-schrott-und-elektronik-altgeraetetag-2025/
CATEGORIES:Tagung
END:VEVENT
BEGIN:VEVENT
DTSTART;VALUE=DATE:20250603
DTEND;VALUE=DATE:20250604
DTSTAMP:20260421T080303
CREATED:20250317T111712Z
LAST-MODIFIED:20250317T111712Z
UID:409926-1748908800-1748995199@www.recyclingmagazin.de
SUMMARY:Anforderungen an den Explosionsschutz nach Betriebssicherheitsverordnung und Gefahrstoffverordnung
DESCRIPTION:
URL:https://www.recyclingmagazin.de/event/anforderungen-an-den-explosionsschutz-nach-betriebssicherheitsverordnung-und-gefahrstoffverordnung/
CATEGORIES:Webinar
END:VEVENT
BEGIN:VEVENT
DTSTART;VALUE=DATE:20250604
DTEND;VALUE=DATE:20250606
DTSTAMP:20260421T080303
CREATED:20240903T172344Z
LAST-MODIFIED:20240903T172344Z
UID:406027-1748995200-1749167999@www.recyclingmagazin.de
SUMMARY:Textiles Recycling Expo 2025
DESCRIPTION:
URL:https://www.recyclingmagazin.de/event/textiles-recycling-expo-2025/
END:VEVENT
BEGIN:VEVENT
DTSTART;VALUE=DATE:20250604
DTEND;VALUE=DATE:20250605
DTSTAMP:20260421T080303
CREATED:20241030T143239Z
LAST-MODIFIED:20241030T143239Z
UID:406930-1748995200-1749081599@www.recyclingmagazin.de
SUMMARY:§ 53 KrWG Lehrgang zum Nachweis der Fachkunde
DESCRIPTION:
URL:https://www.recyclingmagazin.de/event/%c2%a7-53-krwg-lehrgang-zum-nachweis-der-fachkunde-36/
CATEGORIES:Webinar
END:VEVENT
BEGIN:VEVENT
DTSTART;VALUE=DATE:20250604
DTEND;VALUE=DATE:20250606
DTSTAMP:20260421T080303
CREATED:20250316T195007Z
LAST-MODIFIED:20250316T195007Z
UID:409815-1748995200-1749167999@www.recyclingmagazin.de
SUMMARY:Fortbildung für Abfallbeauftragte
DESCRIPTION:
URL:https://www.recyclingmagazin.de/event/fortbildung-fuer-abfallbeauftragte-18/
CATEGORIES:Seminar
ORGANIZER;CN="Concada":MAILTO:info@concada.de
END:VEVENT
BEGIN:VEVENT
DTSTART;VALUE=DATE:20250605
DTEND;VALUE=DATE:20250607
DTSTAMP:20260421T080303
CREATED:20231201T133544Z
LAST-MODIFIED:20240903T173351Z
UID:400849-1749081600-1749254399@www.recyclingmagazin.de
SUMMARY:11th CEWEP Waste-to-Energy Congress 2025
DESCRIPTION:
URL:https://www.recyclingmagazin.de/event/11th-cewep-waste-to-energy-congress-2025/
CATEGORIES:Kongress
END:VEVENT
BEGIN:VEVENT
DTSTART;VALUE=DATE:20250605
DTEND;VALUE=DATE:20250606
DTSTAMP:20260421T080303
CREATED:20250508T120327Z
LAST-MODIFIED:20250508T131624Z
UID:410553-1749081600-1749167999@www.recyclingmagazin.de
SUMMARY:Tag der Kreislaufwirtschaft 2025
DESCRIPTION:
URL:https://www.recyclingmagazin.de/event/tag-der-kreislaufwirtschaft-2025/
LOCATION:AXICA Kongress- und Tagungszentrum im Hause der DZ Bank\, Pariser Platz 3\, Berlin\, 10117\, Germany
CATEGORIES:Tagung
END:VEVENT
BEGIN:VEVENT
DTSTART;VALUE=DATE:20250605
DTEND;VALUE=DATE:20250606
DTSTAMP:20260421T080303
CREATED:20250612T124924Z
LAST-MODIFIED:20250612T124958Z
UID:411091-1749081600-1749167999@www.recyclingmagazin.de
SUMMARY:BDE-Mitgliederversammlung 2025
DESCRIPTION:
URL:https://www.recyclingmagazin.de/event/bde-mitgliederversammlung-2025/
CATEGORIES:Tagung
END:VEVENT
BEGIN:VEVENT
DTSTART;TZID=Europe/Berlin:20250606T090000
DTEND;TZID=Europe/Berlin:20250606T140000
DTSTAMP:20260421T080303
CREATED:20241030T152850Z
LAST-MODIFIED:20241030T152850Z
UID:406980-1749200400-1749218400@www.recyclingmagazin.de
SUMMARY:Lehrgang zur Probenahme fester Abfälle nach LAGA PN 98
DESCRIPTION:
URL:https://www.recyclingmagazin.de/event/lehrgang-zur-probenahme-fester-abfaelle-nach-laga-pn-98-18/
CATEGORIES:Webinar
END:VEVENT
BEGIN:VEVENT
DTSTART;TZID=Europe/Berlin:20250606T090000
DTEND;TZID=Europe/Berlin:20250606T140000
DTSTAMP:20260421T080303
CREATED:20241030T161236Z
LAST-MODIFIED:20241030T161236Z
UID:407005-1749200400-1749218400@www.recyclingmagazin.de
SUMMARY:Befähigte Person zur Prüfung von Absetz- und Abrollbehältern (14 BetrSichV)
DESCRIPTION:
URL:https://www.recyclingmagazin.de/event/befaehigte-person-zur-pruefung-von-absetz-und-abrollbehaeltern-14-betrsichv-11/
CATEGORIES:Webinar
END:VEVENT
BEGIN:VEVENT
DTSTART;VALUE=DATE:20250609
DTEND;VALUE=DATE:20250613
DTSTAMP:20260421T080303
CREATED:20240903T174001Z
LAST-MODIFIED:20240903T174001Z
UID:406034-1749427200-1749772799@www.recyclingmagazin.de
SUMMARY:EUBCE 2025 - 33rd European Biomass Conference and Exhibition
DESCRIPTION:
URL:https://www.recyclingmagazin.de/event/eubce-2025-33rd-european-biomass-conference-and-exhibition/
LOCATION:Palacio de Congresos de Valencia\, Av. de les Corts Valencianes\, 60\, Pobles de l'Oest\, València\, València\, 46015\, Spain
CATEGORIES:Konferenz,Messe
END:VEVENT
BEGIN:VEVENT
DTSTART;VALUE=DATE:20250610
DTEND;VALUE=DATE:20250612
DTSTAMP:20260421T080303
CREATED:20241030T142353Z
LAST-MODIFIED:20241030T142353Z
UID:406914-1749513600-1749686399@www.recyclingmagazin.de
SUMMARY:Einführung rechtliche und technische Grundlagen der Abfallwirtschaft
DESCRIPTION:
URL:https://www.recyclingmagazin.de/event/einfuehrung-rechtliche-und-technische-grundlagen-der-abfallwirtschaft-53/
CATEGORIES:Seminar,Webinar
END:VEVENT
BEGIN:VEVENT
DTSTART;VALUE=DATE:20250610
DTEND;VALUE=DATE:20250612
DTSTAMP:20260421T080303
CREATED:20250316T182917Z
LAST-MODIFIED:20250316T183132Z
UID:409770-1749513600-1749686399@www.recyclingmagazin.de
SUMMARY:Grundseminar Abfallrecht
DESCRIPTION:
URL:https://www.recyclingmagazin.de/event/grundseminar-abfallrecht-20/
LOCATION:Dorint Hotel Leipzig\, Stephanstraße 6\, Leipzig\, 04103\, Deutschland
CATEGORIES:Seminar
END:VEVENT
BEGIN:VEVENT
DTSTART;VALUE=DATE:20250611
DTEND;VALUE=DATE:20250613
DTSTAMP:20260421T080303
CREATED:20240902T185553Z
LAST-MODIFIED:20240902T185731Z
UID:405967-1749600000-1749772799@www.recyclingmagazin.de
SUMMARY:Battery Recycling Conference & Expo 2025
DESCRIPTION:
URL:https://www.recyclingmagazin.de/event/battery-recycling-conference-expo-2025/
LOCATION:Messe Frankfurt GmbH\, Ludwig-Erhard-Anlage 1\, Frankfurt am Main\, 60327\, Deutschland
CATEGORIES:Konferenz,Messe
END:VEVENT
BEGIN:VEVENT
DTSTART;VALUE=DATE:20250611
DTEND;VALUE=DATE:20250613
DTSTAMP:20260421T080303
CREATED:20240902T190031Z
LAST-MODIFIED:20240902T190031Z
UID:405970-1749600000-1749772799@www.recyclingmagazin.de
SUMMARY:Metal Recycling Conference & Expo 2025
DESCRIPTION:
URL:https://www.recyclingmagazin.de/event/metal-recycling-conference-expo-2025/
LOCATION:Messe Frankfurt GmbH\, Ludwig-Erhard-Anlage 1\, Frankfurt am Main\, 60327\, Deutschland
CATEGORIES:Konferenz,Messe
END:VEVENT
BEGIN:VEVENT
DTSTART;VALUE=DATE:20250611
DTEND;VALUE=DATE:20250613
DTSTAMP:20260421T080303
CREATED:20240903T174740Z
LAST-MODIFIED:20240903T174740Z
UID:406038-1749600000-1749772799@www.recyclingmagazin.de
SUMMARY:E-Waste World Conference & Expo 2025
DESCRIPTION:
URL:https://www.recyclingmagazin.de/event/e-waste-world-conference-expo-2025/
LOCATION:Messe Frankfurt GmbH\, Ludwig-Erhard-Anlage 1\, Frankfurt am Main\, 60327\, Deutschland
CATEGORIES:Konferenz,Messe
END:VEVENT
BEGIN:VEVENT
DTSTART;VALUE=DATE:20250611
DTEND;VALUE=DATE:20250613
DTSTAMP:20260421T080303
CREATED:20241030T111654Z
LAST-MODIFIED:20241030T111654Z
UID:406880-1749600000-1749772799@www.recyclingmagazin.de
SUMMARY:Baustellenabfall richtig entsorgen
DESCRIPTION:
URL:https://www.recyclingmagazin.de/event/baustellenabfall-richtig-entsorgen-12/
CATEGORIES:Webinar
END:VEVENT
BEGIN:VEVENT
DTSTART;VALUE=DATE:20250612
DTEND;VALUE=DATE:20250614
DTSTAMP:20260421T080303
CREATED:20240903T175333Z
LAST-MODIFIED:20250318T101501Z
UID:406040-1749686400-1749859199@www.recyclingmagazin.de
SUMMARY:The Circular Future of Plastic: Circular and Competitive
DESCRIPTION:
URL:https://www.recyclingmagazin.de/event/a-circular-future-with-plastics-2025/
CATEGORIES:Kongress
END:VEVENT
BEGIN:VEVENT
DTSTART;VALUE=DATE:20250612
DTEND;VALUE=DATE:20250613
DTSTAMP:20260421T080303
CREATED:20241030T105522Z
LAST-MODIFIED:20241030T105522Z
UID:406864-1749686400-1749772799@www.recyclingmagazin.de
SUMMARY:Abfallrecht aktuell - Was ändert sich?
DESCRIPTION:
URL:https://www.recyclingmagazin.de/event/abfallrecht-aktuell-was-aendert-sich-3/
CATEGORIES:Webinar
END:VEVENT
BEGIN:VEVENT
DTSTART;VALUE=DATE:20250612
DTEND;VALUE=DATE:20250614
DTSTAMP:20260421T080303
CREATED:20250510T130548Z
LAST-MODIFIED:20250510T130548Z
UID:410764-1749686400-1749859199@www.recyclingmagazin.de
SUMMARY:The Future of Plastics: Circular and Competitive 2025
DESCRIPTION:
URL:https://www.recyclingmagazin.de/event/the-future-of-plastics-circular-and-competitive-2025/
LOCATION:Marriott Hotel Grand Place Brussels\, Rue Auguste Orts\, Grand Place 3-7\, Brüssel\, 1000\, Belgium
CATEGORIES:Kongress
END:VEVENT
BEGIN:VEVENT
DTSTART;VALUE=DATE:20250616
DTEND;VALUE=DATE:20250617
DTSTAMP:20260421T080303
CREATED:20250508T165345Z
LAST-MODIFIED:20250508T165345Z
UID:410643-1750032000-1750118399@www.recyclingmagazin.de
SUMMARY:Neue Ersatzbaustoffverordnung in der Praxis
DESCRIPTION:
URL:https://www.recyclingmagazin.de/event/neue-ersatzbaustoffverordnung-in-der-praxis-13/
CATEGORIES:Webinar
END:VEVENT
BEGIN:VEVENT
DTSTART;VALUE=DATE:20250617
DTEND;VALUE=DATE:20250619
DTSTAMP:20260421T080303
CREATED:20230831T130438Z
LAST-MODIFIED:20240901T212417Z
UID:399179-1750118400-1750291199@www.recyclingmagazin.de
SUMMARY:DeponieTage 2025
DESCRIPTION:
URL:https://www.recyclingmagazin.de/event/deponietage-2025/
LOCATION:ARCOTEL Camino Stuttgart\, Heilbronner Str. 21\, Stuttgart\, 70191\, Germany
CATEGORIES:Tagung
END:VEVENT
BEGIN:VEVENT
DTSTART;VALUE=DATE:20250617
DTEND;VALUE=DATE:20250619
DTSTAMP:20260421T080303
CREATED:20241030T171548Z
LAST-MODIFIED:20241030T171548Z
UID:407038-1750118400-1750291199@www.recyclingmagazin.de
SUMMARY:Kombinierter Fortbildungslehrgang nach § 9 EfbV und § 5 AbfAEV sowie § 9 AbfBeauftrV (6)
DESCRIPTION:
URL:https://www.recyclingmagazin.de/event/kombinierter-fortbildungslehrgang-nach-%c2%a7-9-efbv-und-%c2%a7-5-abfaev-sowie-%c2%a7-9-abfbeauftrv-6-5/
LOCATION:bvse-Bildungszentrum\, Fränkische Straße 2\, Bonn\, 53229\, Deutschland
CATEGORIES:Seminar
END:VEVENT
BEGIN:VEVENT
DTSTART;VALUE=DATE:20250617
DTEND;VALUE=DATE:20250619
DTSTAMP:20260421T080303
CREATED:20250316T165336Z
LAST-MODIFIED:20250316T165336Z
UID:409711-1750118400-1750291199@www.recyclingmagazin.de
SUMMARY:Kombinierter Fortbildungslehrgang nach § 9 EfbV und § 5 AbfAEV sowie § 9 AbfBeauftrV (6)
DESCRIPTION:
URL:https://www.recyclingmagazin.de/event/kombinierter-fortbildungslehrgang-nach-%c2%a7-9-efbv-und-%c2%a7-5-abfaev-sowie-%c2%a7-9-abfbeauftrv-6-6/
LOCATION:bvse-Bildungszentrum\, Fränkische Straße 2\, Bonn\, 53229\, Deutschland
CATEGORIES:Seminar
END:VEVENT
END:VCALENDAR