BEGIN:VCALENDAR
VERSION:2.0
PRODID:-//RECYCLING magazin - ECPv6.15.20//NONSGML v1.0//EN
CALSCALE:GREGORIAN
METHOD:PUBLISH
X-WR-CALNAME:RECYCLING magazin
X-ORIGINAL-URL:https://www.recyclingmagazin.de
X-WR-CALDESC:Veranstaltungen für RECYCLING magazin
REFRESH-INTERVAL;VALUE=DURATION:PT1H
X-Robots-Tag:noindex
X-PUBLISHED-TTL:PT1H
BEGIN:VTIMEZONE
TZID:Europe/Berlin
BEGIN:DAYLIGHT
TZOFFSETFROM:+0100
TZOFFSETTO:+0200
TZNAME:CEST
DTSTART:20240331T010000
END:DAYLIGHT
BEGIN:STANDARD
TZOFFSETFROM:+0200
TZOFFSETTO:+0100
TZNAME:CET
DTSTART:20241027T010000
END:STANDARD
BEGIN:DAYLIGHT
TZOFFSETFROM:+0100
TZOFFSETTO:+0200
TZNAME:CEST
DTSTART:20250330T010000
END:DAYLIGHT
BEGIN:STANDARD
TZOFFSETFROM:+0200
TZOFFSETTO:+0100
TZNAME:CET
DTSTART:20251026T010000
END:STANDARD
BEGIN:DAYLIGHT
TZOFFSETFROM:+0100
TZOFFSETTO:+0200
TZNAME:CEST
DTSTART:20260329T010000
END:DAYLIGHT
BEGIN:STANDARD
TZOFFSETFROM:+0200
TZOFFSETTO:+0100
TZNAME:CET
DTSTART:20261025T010000
END:STANDARD
END:VTIMEZONE
BEGIN:VEVENT
DTSTART;VALUE=DATE:20250325
DTEND;VALUE=DATE:20250708
DTSTAMP:20260423T104826
CREATED:20241211T151941Z
LAST-MODIFIED:20241211T151941Z
UID:407667-1742860800-1751932799@www.recyclingmagazin.de
SUMMARY:#LBFDeepDive
DESCRIPTION:Die Teilnahme am #LBFDeepDive steht exklusiv nur registrierten Teilnehmenden des 7. Praxisforums Kunststoffrezyklate (26. bis 27. März) offen und ist auf maximal\n20 Plätze begrenzt. \nDie Anmeldung erfolgt im Rahmen der Registrierung für das Praxisforum Kunststoffrezyklate.
URL:https://www.recyclingmagazin.de/event/lbfdeepdive/
CATEGORIES:Tagung
END:VEVENT
BEGIN:VEVENT
DTSTART;VALUE=DATE:20250425
DTEND;VALUE=DATE:20251020
DTSTAMP:20260423T104826
CREATED:20241030T143859Z
LAST-MODIFIED:20241030T143859Z
UID:406937-1745539200-1760918399@www.recyclingmagazin.de
SUMMARY:Die GewAbfV - Gewerbeabfallverordnung in der Praxis
DESCRIPTION:
URL:https://www.recyclingmagazin.de/event/die-gewabfv-gewerbeabfallverordnung-in-der-praxis-26/
CATEGORIES:Webinar
END:VEVENT
BEGIN:VEVENT
DTSTART;VALUE=DATE:20250505
DTEND;VALUE=DATE:20250510
DTSTAMP:20260423T104826
CREATED:20250316T174419Z
LAST-MODIFIED:20250316T175325Z
UID:409743-1746403200-1746835199@www.recyclingmagazin.de
SUMMARY:Branchenwissen Kreislaufwirtschaft
DESCRIPTION:
URL:https://www.recyclingmagazin.de/event/branchenwissen-kreislaufwirtschaft-7/
CATEGORIES:Webinar
END:VEVENT
BEGIN:VEVENT
DTSTART;VALUE=DATE:20250505
DTEND;VALUE=DATE:20250507
DTSTAMP:20260423T104826
CREATED:20250317T112454Z
LAST-MODIFIED:20250317T112555Z
UID:409932-1746403200-1746575999@www.recyclingmagazin.de
SUMMARY:Fortbildungslehrgang Abfallbeauftragte | EfbV | AbfAEV
DESCRIPTION:Bundesweit behördlich anerkannter Fortbildungslehrgang nach § 9 EfbV i.V. §§ 56\, 57 KrWG\, §§ 4\,5 AbfAEV i.V. §§ 53\, 54 KrWG \, § 9 AbfBeauftrV i. V. §§ 59\, 60 KrWG zur Aufrechterhaltung der Fachkunde – Voraussetzung Grundlehrgang –
URL:https://www.recyclingmagazin.de/event/fortbildungslehrgang-abfallbeauftragte-efbv-abfaev-2/
CATEGORIES:Seminar
ORGANIZER;CN="kenic GmbH":MAILTO:info@kenic.de
END:VEVENT
BEGIN:VEVENT
DTSTART;VALUE=DATE:20250506
DTEND;VALUE=DATE:20250508
DTSTAMP:20260423T104826
CREATED:20240903T163558Z
LAST-MODIFIED:20240903T163558Z
UID:406015-1746489600-1746662399@www.recyclingmagazin.de
SUMMARY:Rückbau von Windkraftanlagen – sauber\, nachhaltig und geordnet 2025
DESCRIPTION:
URL:https://www.recyclingmagazin.de/event/rueckbau-von-windkraftanlagen-sauber-nachhaltig-und-geordnet-2025/
CATEGORIES:Konferenz
END:VEVENT
BEGIN:VEVENT
DTSTART;VALUE=DATE:20250506
DTEND;VALUE=DATE:20250507
DTSTAMP:20260423T104826
CREATED:20250316T163159Z
LAST-MODIFIED:20250316T163225Z
UID:409694-1746489600-1746575999@www.recyclingmagazin.de
SUMMARY:QUBA-Grundkurs Qualitätssicherung und Zertifizierung von Recyclingbaustoffen in Pfaffenhofen
DESCRIPTION:
URL:https://www.recyclingmagazin.de/event/quba-grundkurs-qualitaetssicherung-und-zertifizierung-von-recyclingbaustoffen-in-pfaffenhofen/
LOCATION:Alea Eco Hotel\, Flachsbogen 1\, Pfaffenhofen an der Ilm\, 85276\, Deutschland
CATEGORIES:Seminar
END:VEVENT
BEGIN:VEVENT
DTSTART;VALUE=DATE:20250506
DTEND;VALUE=DATE:20250508
DTSTAMP:20260423T104826
CREATED:20250316T175617Z
LAST-MODIFIED:20250316T175617Z
UID:409745-1746489600-1746662399@www.recyclingmagazin.de
SUMMARY:Grundlehrgang für Sicherheitsbeauftragte gemäß § 22 SGB VII
DESCRIPTION:
URL:https://www.recyclingmagazin.de/event/grundlehrgang-fuer-sicherheitsbeauftragte-gemaess-%c2%a7-22-sgb-vii/
CATEGORIES:Seminar
END:VEVENT
BEGIN:VEVENT
DTSTART;VALUE=DATE:20250506
DTEND;VALUE=DATE:20250508
DTSTAMP:20260423T104826
CREATED:20250316T193127Z
LAST-MODIFIED:20250316T193127Z
UID:409801-1746489600-1746662399@www.recyclingmagazin.de
SUMMARY:Ausbildung zum Nachhaltigkeitsmanager
DESCRIPTION:
URL:https://www.recyclingmagazin.de/event/ausbildung-zum-nachhaltigkeitsmanager-5/
CATEGORIES:Seminar
ORGANIZER;CN="Concada":MAILTO:info@concada.de
END:VEVENT
BEGIN:VEVENT
DTSTART;VALUE=DATE:20250507
DTEND;VALUE=DATE:20250508
DTSTAMP:20260423T104826
CREATED:20241030T143156Z
LAST-MODIFIED:20241030T143156Z
UID:406928-1746576000-1746662399@www.recyclingmagazin.de
SUMMARY:§ 53 KrWG Lehrgang zum Nachweis der Fachkunde
DESCRIPTION:
URL:https://www.recyclingmagazin.de/event/%c2%a7-53-krwg-lehrgang-zum-nachweis-der-fachkunde-35/
CATEGORIES:Webinar
END:VEVENT
BEGIN:VEVENT
DTSTART;VALUE=DATE:20250507
DTEND;VALUE=DATE:20250508
DTSTAMP:20260423T104826
CREATED:20250316T163512Z
LAST-MODIFIED:20250316T163612Z
UID:409696-1746576000-1746662399@www.recyclingmagazin.de
SUMMARY:Doppel-Lehrgang Ersatzbaustoffverordnung in der Praxis: Modul 6 (für Verwender) und Modul 7 (Bodenaushub) in Pfaffenhofenen
DESCRIPTION:
URL:https://www.recyclingmagazin.de/event/doppel-lehrgang-ersatzbaustoffverordnung-in-der-praxis-modul-6-fuer-verwender-und-modul-7-bodenaushub-in-pfaffenhofenen/
LOCATION:Alea Eco Hotel\, Flachsbogen 1\, Pfaffenhofen an der Ilm\, 85276\, Deutschland
CATEGORIES:Seminar
END:VEVENT
BEGIN:VEVENT
DTSTART;VALUE=DATE:20250507
DTEND;VALUE=DATE:20250508
DTSTAMP:20260423T104826
CREATED:20250316T163907Z
LAST-MODIFIED:20250316T163907Z
UID:409698-1746576000-1746662399@www.recyclingmagazin.de
SUMMARY:Fachseminar Papierrecycling
DESCRIPTION:
URL:https://www.recyclingmagazin.de/event/fachseminar-papierrecycling-7/
CATEGORIES:Seminar
END:VEVENT
BEGIN:VEVENT
DTSTART;VALUE=DATE:20250507
DTEND;VALUE=DATE:20250508
DTSTAMP:20260423T104826
CREATED:20250316T190541Z
LAST-MODIFIED:20250316T190541Z
UID:409785-1746576000-1746662399@www.recyclingmagazin.de
SUMMARY:Fehler vermeiden
DESCRIPTION:
URL:https://www.recyclingmagazin.de/event/fehler-vermeiden-3/
CATEGORIES:Seminar
END:VEVENT
BEGIN:VEVENT
DTSTART;VALUE=DATE:20250508
DTEND;VALUE=DATE:20250509
DTSTAMP:20260423T104826
CREATED:20250316T164143Z
LAST-MODIFIED:20250316T164240Z
UID:409700-1746662400-1746748799@www.recyclingmagazin.de
SUMMARY:Crashkurs Kreislaufwirtschaft für Einsteiger
DESCRIPTION:
URL:https://www.recyclingmagazin.de/event/crashkurs-kreislaufwirtschaft-fuer-einsteiger/
LOCATION:Messecenter Rhein-Main\, Robert-Bosch-Straße 5\, Hofheim am Taunus\, 65719
CATEGORIES:Seminar
END:VEVENT
BEGIN:VEVENT
DTSTART;VALUE=DATE:20250509
DTEND;VALUE=DATE:20250510
DTSTAMP:20260423T104826
CREATED:20250317T114111Z
LAST-MODIFIED:20250317T114111Z
UID:409937-1746748800-1746835199@www.recyclingmagazin.de
SUMMARY:TRGS 520 Fortbildung zur Auffrischung der Fachkunde
DESCRIPTION:Eintägiges Seminar zum Erhalt der Fachkunde zur Errichtung und Betrieb von Sammelstellen für gefährliche Abfälle.
URL:https://www.recyclingmagazin.de/event/trgs-520-fortbildung-zur-auffrischung-der-fachkunde-11/
CATEGORIES:Webinar
ORGANIZER;CN="kenic GmbH":MAILTO:info@kenic.de
END:VEVENT
BEGIN:VEVENT
DTSTART;TZID=Europe/Berlin:20250509T090000
DTEND;TZID=Europe/Berlin:20250509T140000
DTSTAMP:20260423T104826
CREATED:20241030T152632Z
LAST-MODIFIED:20241030T152632Z
UID:406976-1746781200-1746799200@www.recyclingmagazin.de
SUMMARY:Lehrgang zur Probenahme fester Abfälle nach LAGA PN 98
DESCRIPTION:
URL:https://www.recyclingmagazin.de/event/lehrgang-zur-probenahme-fester-abfaelle-nach-laga-pn-98-16/
CATEGORIES:Webinar
END:VEVENT
BEGIN:VEVENT
DTSTART;VALUE=DATE:20250512
DTEND;VALUE=DATE:20250514
DTSTAMP:20260423T104826
CREATED:20241030T142254Z
LAST-MODIFIED:20241030T142254Z
UID:406912-1747008000-1747180799@www.recyclingmagazin.de
SUMMARY:Einführung rechtliche und technische Grundlagen der Abfallwirtschaft
DESCRIPTION:
URL:https://www.recyclingmagazin.de/event/einfuehrung-rechtliche-und-technische-grundlagen-der-abfallwirtschaft-52/
CATEGORIES:Webinar
END:VEVENT
BEGIN:VEVENT
DTSTART;VALUE=DATE:20250513
DTEND;VALUE=DATE:20250515
DTSTAMP:20260423T104826
CREATED:20240903T162929Z
LAST-MODIFIED:20240903T162929Z
UID:406013-1747094400-1747267199@www.recyclingmagazin.de
SUMMARY:12. Internationaler Alttextiltag 2025
DESCRIPTION:
URL:https://www.recyclingmagazin.de/event/12-internationaler-alttextiltag-2025/
CATEGORIES:Tagung
END:VEVENT
BEGIN:VEVENT
DTSTART;VALUE=DATE:20250513
DTEND;VALUE=DATE:20250514
DTSTAMP:20260423T104826
CREATED:20250316T180104Z
LAST-MODIFIED:20250316T180104Z
UID:409748-1747094400-1747180799@www.recyclingmagazin.de
SUMMARY:Basiswissen Chemie in der Schadstoffsammlung
DESCRIPTION:
URL:https://www.recyclingmagazin.de/event/basiswissen-chemie-in-der-schadstoffsammlung-5/
CATEGORIES:Webinar
END:VEVENT
BEGIN:VEVENT
DTSTART;VALUE=DATE:20250513
DTEND;VALUE=DATE:20250515
DTSTAMP:20260423T104826
CREATED:20250510T133031Z
LAST-MODIFIED:20250510T133039Z
UID:410774-1747094400-1747267199@www.recyclingmagazin.de
SUMMARY:22. VDI-Fachkonferenz Feuerung und Kessel - Beläge und Korrosion in Großfeuerungsanlagen
DESCRIPTION:
URL:https://www.recyclingmagazin.de/event/22-vdi-fachkonferenz-feuerung-und-kessel-belaege-und-korrosion-in-grossfeuerungsanlagen/
CATEGORIES:Konferenz
END:VEVENT
BEGIN:VEVENT
DTSTART;VALUE=DATE:20250513
DTEND;VALUE=DATE:20250514
DTSTAMP:20260423T104826
CREATED:20250316T180524Z
LAST-MODIFIED:20250316T180553Z
UID:409754-1747094400-1747180799@www.recyclingmagazin.de
SUMMARY:Sachkundiger (befähigte Person) gemäß DGUV Information 214-017
DESCRIPTION:
URL:https://www.recyclingmagazin.de/event/sachkundiger-befaehigte-person-gemaess-dguv-information-214-017-4/
LOCATION:FAUN Umwelttechnik GmbH & Co. KG Herne\, Castroper Straße 71\, Herne\, 44628
CATEGORIES:Seminar
END:VEVENT
BEGIN:VEVENT
DTSTART;TZID=Europe/Berlin:20250513T090000
DTEND;TZID=Europe/Berlin:20250513T110000
DTSTAMP:20260423T104826
CREATED:20241030T162709Z
LAST-MODIFIED:20241030T162709Z
UID:407019-1747126800-1747134000@www.recyclingmagazin.de
SUMMARY:Fachgerechter Umgang mit der Waage in der Abfallannahme
DESCRIPTION:
URL:https://www.recyclingmagazin.de/event/fachgerechter-umgang-mit-der-waage-in-der-abfallannahme-12/
CATEGORIES:Webinar
END:VEVENT
BEGIN:VEVENT
DTSTART;TZID=Europe/Berlin:20250513T090000
DTEND;TZID=Europe/Berlin:20250513T150000
DTSTAMP:20260423T104826
CREATED:20250316T180253Z
LAST-MODIFIED:20250316T180253Z
UID:409751-1747126800-1747148400@www.recyclingmagazin.de
SUMMARY:2025 Gefahrgut aktuell – ADR Änderungen im Überblick
DESCRIPTION:
URL:https://www.recyclingmagazin.de/event/2025-gefahrgut-aktuell-adr-aenderungen-im-ueberblick/
CATEGORIES:Webinar
END:VEVENT
BEGIN:VEVENT
DTSTART;TZID=Europe/Berlin:20250513T120000
DTEND;TZID=Europe/Berlin:20250513T150000
DTSTAMP:20260423T104826
CREATED:20241030T161725Z
LAST-MODIFIED:20241030T161725Z
UID:407011-1747137600-1747148400@www.recyclingmagazin.de
SUMMARY:Sachkunde gemäß Altholzverordnung
DESCRIPTION:
URL:https://www.recyclingmagazin.de/event/sachkunde-gemaess-altholzverordnung-10/
CATEGORIES:Webinar
END:VEVENT
BEGIN:VEVENT
DTSTART;VALUE=DATE:20250514
DTEND;VALUE=DATE:20250516
DTSTAMP:20260423T104826
CREATED:20240903T164355Z
LAST-MODIFIED:20240903T164355Z
UID:406017-1747180800-1747353599@www.recyclingmagazin.de
SUMMARY:Metalogie-Forum 2025: Safety & Security
DESCRIPTION:
URL:https://www.recyclingmagazin.de/event/metalogie-forum-2025-safety-security/
END:VEVENT
BEGIN:VEVENT
DTSTART;VALUE=DATE:20250514
DTEND;VALUE=DATE:20250517
DTSTAMP:20260423T104826
CREATED:20240903T165223Z
LAST-MODIFIED:20240903T165223Z
UID:406020-1747180800-1747439999@www.recyclingmagazin.de
SUMMARY:Waste Management Europe Exhibition & Conference 2025
DESCRIPTION:
URL:https://www.recyclingmagazin.de/event/waste-management-europe-exhibition-conference-2025/
LOCATION:Fiera di Bergamo\, Via Lunga\, Bergamo\, 24125\, Italien
CATEGORIES:Konferenz,Messe
END:VEVENT
BEGIN:VEVENT
DTSTART;VALUE=DATE:20250514
DTEND;VALUE=DATE:20250515
DTSTAMP:20260423T104826
CREATED:20250316T164737Z
LAST-MODIFIED:20250316T164737Z
UID:409705-1747180800-1747267199@www.recyclingmagazin.de
SUMMARY:QUBA-Grundkurs Qualitätssicherung und Zertifizierung von Recyclingbaustoffen
DESCRIPTION:
URL:https://www.recyclingmagazin.de/event/quba-grundkurs-qualitaetssicherung-und-zertifizierung-von-recyclingbaustoffen/
LOCATION:bvse-Bildungszentrum\, Fränkische Straße 2\, Bonn\, 53229\, Deutschland
CATEGORIES:Seminar
END:VEVENT
BEGIN:VEVENT
DTSTART;VALUE=DATE:20250514
DTEND;VALUE=DATE:20250515
DTSTAMP:20260423T104826
CREATED:20250316T181020Z
LAST-MODIFIED:20250316T181020Z
UID:409759-1747180800-1747267199@www.recyclingmagazin.de
SUMMARY:Sachkundiger (befähigte Person) gemäß DGUV Vorschrift 70
DESCRIPTION:
URL:https://www.recyclingmagazin.de/event/sachkundiger-befaehigte-person-gemaess-dguv-vorschrift-70-11/
LOCATION:FAUN Umwelttechnik GmbH & Co. KG Herne\, Castroper Straße 71\, Herne\, 44628
CATEGORIES:Seminar
END:VEVENT
BEGIN:VEVENT
DTSTART;VALUE=DATE:20250514
DTEND;VALUE=DATE:20250515
DTSTAMP:20260423T104826
CREATED:20250510T131623Z
LAST-MODIFIED:20250510T132101Z
UID:410768-1747180800-1747267199@www.recyclingmagazin.de
SUMMARY:ECP4 2025 Conference
DESCRIPTION:Trends in Polymers and Composites Circularity – From Advanced Materials to Industrial Applications
URL:https://www.recyclingmagazin.de/event/ecp4-2025-conference/
LOCATION:Lyon University Campus\, Building Edgar Lederer\, Lyon\, France
CATEGORIES:Konferenz
END:VEVENT
BEGIN:VEVENT
DTSTART;TZID=Europe/Berlin:20250514T090000
DTEND;TZID=Europe/Berlin:20250514T150000
DTSTAMP:20260423T104826
CREATED:20250316T180748Z
LAST-MODIFIED:20250316T180748Z
UID:409757-1747213200-1747234800@www.recyclingmagazin.de
SUMMARY:Branchenregel Abfallwirtschaft Teil I Abfallsammlung
DESCRIPTION:
URL:https://www.recyclingmagazin.de/event/branchenregel-abfallwirtschaft-teil-i-abfallsammlung-4/
CATEGORIES:Webinar
END:VEVENT
BEGIN:VEVENT
DTSTART;VALUE=DATE:20250515
DTEND;VALUE=DATE:20250516
DTSTAMP:20260423T104826
CREATED:20230828T092056Z
LAST-MODIFIED:20230828T093627Z
UID:398998-1747267200-1747353599@www.recyclingmagazin.de
SUMMARY:VDM-Mitgliederversammlung 2025
DESCRIPTION:
URL:https://www.recyclingmagazin.de/event/vdm-mitgliederversammlung-2025/
CATEGORIES:Kongress
ORGANIZER;CN="Verband Deutscher Metallh%C3%A4ndler (VDM)":MAILTO:vdm@vdm.Berlin
END:VEVENT
END:VCALENDAR