BEGIN:VCALENDAR
VERSION:2.0
PRODID:-//RECYCLING magazin - ECPv6.15.20//NONSGML v1.0//EN
CALSCALE:GREGORIAN
METHOD:PUBLISH
X-WR-CALNAME:RECYCLING magazin
X-ORIGINAL-URL:https://www.recyclingmagazin.de
X-WR-CALDESC:Veranstaltungen für RECYCLING magazin
REFRESH-INTERVAL;VALUE=DURATION:PT1H
X-Robots-Tag:noindex
X-PUBLISHED-TTL:PT1H
BEGIN:VTIMEZONE
TZID:Europe/Berlin
BEGIN:DAYLIGHT
TZOFFSETFROM:+0100
TZOFFSETTO:+0200
TZNAME:CEST
DTSTART:20230326T010000
END:DAYLIGHT
BEGIN:STANDARD
TZOFFSETFROM:+0200
TZOFFSETTO:+0100
TZNAME:CET
DTSTART:20231029T010000
END:STANDARD
BEGIN:DAYLIGHT
TZOFFSETFROM:+0100
TZOFFSETTO:+0200
TZNAME:CEST
DTSTART:20240331T010000
END:DAYLIGHT
BEGIN:STANDARD
TZOFFSETFROM:+0200
TZOFFSETTO:+0100
TZNAME:CET
DTSTART:20241027T010000
END:STANDARD
BEGIN:DAYLIGHT
TZOFFSETFROM:+0100
TZOFFSETTO:+0200
TZNAME:CEST
DTSTART:20250330T010000
END:DAYLIGHT
BEGIN:STANDARD
TZOFFSETFROM:+0200
TZOFFSETTO:+0100
TZNAME:CET
DTSTART:20251026T010000
END:STANDARD
BEGIN:DAYLIGHT
TZOFFSETFROM:+0100
TZOFFSETTO:+0200
TZNAME:CEST
DTSTART:20260329T010000
END:DAYLIGHT
BEGIN:STANDARD
TZOFFSETFROM:+0200
TZOFFSETTO:+0100
TZNAME:CET
DTSTART:20261025T010000
END:STANDARD
END:VTIMEZONE
BEGIN:VEVENT
DTSTART;TZID=Europe/Berlin:20240917T090000
DTEND;TZID=Europe/Berlin:20250408T130000
DTSTAMP:20260424T032011
CREATED:20240227T145442Z
LAST-MODIFIED:20240227T145838Z
UID:402280-1726563600-1744117200@www.recyclingmagazin.de
SUMMARY:Die neue Mantelverordnung für Ersatzbaustoffe und Bodenschutz
DESCRIPTION:
URL:https://www.recyclingmagazin.de/event/die-neue-mantelverordnung-fuer-ersatzbaustoffe-und-bodenschutz-2/
CATEGORIES:Webinar
END:VEVENT
BEGIN:VEVENT
DTSTART;VALUE=DATE:20250325
DTEND;VALUE=DATE:20250708
DTSTAMP:20260424T032011
CREATED:20241211T151941Z
LAST-MODIFIED:20241211T151941Z
UID:407667-1742860800-1751932799@www.recyclingmagazin.de
SUMMARY:#LBFDeepDive
DESCRIPTION:Die Teilnahme am #LBFDeepDive steht exklusiv nur registrierten Teilnehmenden des 7. Praxisforums Kunststoffrezyklate (26. bis 27. März) offen und ist auf maximal\n20 Plätze begrenzt. \nDie Anmeldung erfolgt im Rahmen der Registrierung für das Praxisforum Kunststoffrezyklate.
URL:https://www.recyclingmagazin.de/event/lbfdeepdive/
CATEGORIES:Tagung
END:VEVENT
BEGIN:VEVENT
DTSTART;VALUE=DATE:20250331
DTEND;VALUE=DATE:20250405
DTSTAMP:20260424T032011
CREATED:20231201T180634Z
LAST-MODIFIED:20231201T180634Z
UID:400988-1743379200-1743811199@www.recyclingmagazin.de
SUMMARY:Abfallbeauftragte Grundlehrgang
DESCRIPTION:
URL:https://www.recyclingmagazin.de/event/abfallbeauftragte-grundlehrgang-3/
LOCATION:Haus der Technik Essen\, Hollestraße 1\, Essen\, Deutschland
CATEGORIES:Seminar,Webinar
END:VEVENT
BEGIN:VEVENT
DTSTART;VALUE=DATE:20250401
DTEND;VALUE=DATE:20250403
DTSTAMP:20260424T032011
CREATED:20240702T173652Z
LAST-MODIFIED:20240702T173652Z
UID:405231-1743465600-1743638399@www.recyclingmagazin.de
SUMMARY:Plastics Recycling Show Europe - PRSE 2025
DESCRIPTION:
URL:https://www.recyclingmagazin.de/event/plastics-recycling-show-europe-prse-2025/
LOCATION:RAI Amsterdam Exhibition and Convention Center\, Europaplein 22\, Amsterdam\, 1078\, Niederlande
CATEGORIES:Messe
END:VEVENT
BEGIN:VEVENT
DTSTART;VALUE=DATE:20250401
DTEND;VALUE=DATE:20250402
DTSTAMP:20260424T032011
CREATED:20240903T155559Z
LAST-MODIFIED:20250316T153647Z
UID:406004-1743465600-1743551999@www.recyclingmagazin.de
SUMMARY:27. Internationaler Altpapiertag 2025
DESCRIPTION:
URL:https://www.recyclingmagazin.de/event/27-internationaler-altpapiertag-2025/
CATEGORIES:Tagung
END:VEVENT
BEGIN:VEVENT
DTSTART;TZID=Europe/Berlin:20250401T090000
DTEND;TZID=Europe/Berlin:20250401T150000
DTSTAMP:20260424T032011
CREATED:20241030T103407Z
LAST-MODIFIED:20241030T103407Z
UID:406841-1743498000-1743519600@www.recyclingmagazin.de
SUMMARY:Abfallanalysen lesen & verstehen
DESCRIPTION:
URL:https://www.recyclingmagazin.de/event/abfallanalysen-lesen-verstehen-2/
CATEGORIES:Webinar
END:VEVENT
BEGIN:VEVENT
DTSTART;TZID=Europe/Berlin:20250401T143000
DTEND;TZID=Europe/Berlin:20250401T160000
DTSTAMP:20260424T032011
CREATED:20250316T171207Z
LAST-MODIFIED:20250316T171233Z
UID:409723-1743517800-1743523200@www.recyclingmagazin.de
SUMMARY:Die Circular Economy im kommunalen Nachhaltigkeitsmanagement
DESCRIPTION:
URL:https://www.recyclingmagazin.de/event/die-circular-economy-im-kommunalen-nachhaltigkeitsmanagement-2/
CATEGORIES:Webinar
END:VEVENT
BEGIN:VEVENT
DTSTART;VALUE=DATE:20250402
DTEND;VALUE=DATE:20250404
DTSTAMP:20260424T032011
CREATED:20240903T155911Z
LAST-MODIFIED:20240903T155911Z
UID:406006-1743552000-1743724799@www.recyclingmagazin.de
SUMMARY:BKM 2025 - Berliner Konferenz Metallkreisläufe
DESCRIPTION:
URL:https://www.recyclingmagazin.de/event/bkm-2025-berliner-konferenz-metallkreislaeufe/
LOCATION:Tagungswerk\, Lindenstraße 85\, Berlin\, 10969\, Deutschland
CATEGORIES:Konferenz
END:VEVENT
BEGIN:VEVENT
DTSTART;VALUE=DATE:20250402
DTEND;VALUE=DATE:20250405
DTSTAMP:20260424T032011
CREATED:20240903T160340Z
LAST-MODIFIED:20240903T160340Z
UID:406008-1743552000-1743811199@www.recyclingmagazin.de
SUMMARY:Altlastensymposium 2025
DESCRIPTION:
URL:https://www.recyclingmagazin.de/event/altlastensymposium-2025/
LOCATION:Kongresshalle am Zoo Leipzig\, Pfaffendorfer Str. 31\, Leipzig\, 04105
CATEGORIES:Kongress
END:VEVENT
BEGIN:VEVENT
DTSTART;VALUE=DATE:20250402
DTEND;VALUE=DATE:20250403
DTSTAMP:20260424T032011
CREATED:20241030T143104Z
LAST-MODIFIED:20241030T143104Z
UID:406926-1743552000-1743638399@www.recyclingmagazin.de
SUMMARY:§ 53 KrWG Lehrgang zum Nachweis der Fachkunde
DESCRIPTION:
URL:https://www.recyclingmagazin.de/event/%c2%a7-53-krwg-lehrgang-zum-nachweis-der-fachkunde-34/
CATEGORIES:Webinar
END:VEVENT
BEGIN:VEVENT
DTSTART;VALUE=DATE:20250402
DTEND;VALUE=DATE:20250404
DTSTAMP:20260424T032011
CREATED:20250316T162627Z
LAST-MODIFIED:20250316T162736Z
UID:409691-1743552000-1743724799@www.recyclingmagazin.de
SUMMARY:Kombinierter Fortbildungslehrgang nach § 9 EfbV und § 5 AbfAEV sowie § 9 AbfBeauftrV (10)
DESCRIPTION:
URL:https://www.recyclingmagazin.de/event/kombinierter-fortbildungslehrgang-nach-%c2%a7-9-efbv-und-%c2%a7-5-abfaev-sowie-%c2%a7-9-abfbeauftrv-18/
CATEGORIES:Webinar
END:VEVENT
BEGIN:VEVENT
DTSTART;VALUE=DATE:20250402
DTEND;VALUE=DATE:20250403
DTSTAMP:20260424T032011
CREATED:20250316T171511Z
LAST-MODIFIED:20250316T171652Z
UID:409725-1743552000-1743638399@www.recyclingmagazin.de
SUMMARY:Das Verpackungsgesetz von A bis Z
DESCRIPTION:
URL:https://www.recyclingmagazin.de/event/das-verpackungsgesetz-von-a-bis-z-5/
CATEGORIES:Webinar
END:VEVENT
BEGIN:VEVENT
DTSTART;VALUE=DATE:20250403
DTEND;VALUE=DATE:20250404
DTSTAMP:20260424T032011
CREATED:20250316T185823Z
LAST-MODIFIED:20250316T185823Z
UID:409778-1743638400-1743724799@www.recyclingmagazin.de
SUMMARY:Grenzüberschreitende Abfallverbringung
DESCRIPTION:
URL:https://www.recyclingmagazin.de/event/grenzueberschreitende-abfallverbringung-57/
CATEGORIES:Workshop
END:VEVENT
BEGIN:VEVENT
DTSTART;VALUE=DATE:20250403
DTEND;VALUE=DATE:20250404
DTSTAMP:20260424T032011
CREATED:20250316T190157Z
LAST-MODIFIED:20250316T190157Z
UID:409780-1743638400-1743724799@www.recyclingmagazin.de
SUMMARY:Grenzüberschreitende Abfallverbringung
DESCRIPTION:
URL:https://www.recyclingmagazin.de/event/grenzueberschreitende-abfallverbringung-58/
CATEGORIES:Workshop
END:VEVENT
BEGIN:VEVENT
DTSTART;TZID=Europe/Berlin:20250403T090000
DTEND;TZID=Europe/Berlin:20250403T140000
DTSTAMP:20260424T032011
CREATED:20241030T152530Z
LAST-MODIFIED:20241030T152530Z
UID:406974-1743670800-1743688800@www.recyclingmagazin.de
SUMMARY:Lehrgang zur Probenahme fester Abfälle nach LAGA PN 98
DESCRIPTION:
URL:https://www.recyclingmagazin.de/event/lehrgang-zur-probenahme-fester-abfaelle-nach-laga-pn-98-15/
CATEGORIES:Webinar
END:VEVENT
BEGIN:VEVENT
DTSTART;TZID=Europe/Berlin:20250404T090000
DTEND;TZID=Europe/Berlin:20250404T140000
DTSTAMP:20260424T032011
CREATED:20241030T161002Z
LAST-MODIFIED:20241030T161002Z
UID:407001-1743757200-1743775200@www.recyclingmagazin.de
SUMMARY:Befähigte Person zur Prüfung von Absetz- und Abrollbehältern (14 BetrSichV)
DESCRIPTION:
URL:https://www.recyclingmagazin.de/event/befaehigte-person-zur-pruefung-von-absetz-und-abrollbehaeltern-14-betrsichv-9/
CATEGORIES:Webinar
END:VEVENT
BEGIN:VEVENT
DTSTART;TZID=Europe/Berlin:20250404T110000
DTEND;TZID=Europe/Berlin:20250404T123000
DTSTAMP:20260424T032011
CREATED:20250316T171904Z
LAST-MODIFIED:20250316T171904Z
UID:409727-1743764400-1743769800@www.recyclingmagazin.de
SUMMARY:Der Intelligente Wertstoffhof
DESCRIPTION:
URL:https://www.recyclingmagazin.de/event/der-intelligente-wertstoffhof/
CATEGORIES:Webinar
END:VEVENT
BEGIN:VEVENT
DTSTART;VALUE=DATE:20250407
DTEND;VALUE=DATE:20250414
DTSTAMP:20260424T032011
CREATED:20230829T163033Z
LAST-MODIFIED:20230829T163544Z
UID:399127-1743984000-1744588799@www.recyclingmagazin.de
SUMMARY:bauma 2025
DESCRIPTION:
URL:https://www.recyclingmagazin.de/event/bauma-2025/
LOCATION:Messe München\, Messegelände\, München\, 81823
CATEGORIES:Messe
ORGANIZER;CN="Messe M%C3%BCnchen":MAILTO:info@messe-muenchen.de
END:VEVENT
BEGIN:VEVENT
DTSTART;VALUE=DATE:20250408
DTEND;VALUE=DATE:20250411
DTSTAMP:20260424T032011
CREATED:20240903T161832Z
LAST-MODIFIED:20240903T162745Z
UID:406011-1744070400-1744329599@www.recyclingmagazin.de
SUMMARY:36. Kasseler Abfall- und Ressourcenforum 2025
DESCRIPTION:
URL:https://www.recyclingmagazin.de/event/36-kasseler-abfall-und-ressourcenforum-2025/
LOCATION:Kongress Palais Kassel\, Holger-Börner-Platz 1\, Kassel\, 34119\, Deutschland
CATEGORIES:Kongress
END:VEVENT
BEGIN:VEVENT
DTSTART;VALUE=DATE:20250408
DTEND;VALUE=DATE:20250409
DTSTAMP:20260424T032011
CREATED:20241030T105431Z
LAST-MODIFIED:20241030T105431Z
UID:406862-1744070400-1744156799@www.recyclingmagazin.de
SUMMARY:Abfallrecht aktuell - Was ändert sich?
DESCRIPTION:
URL:https://www.recyclingmagazin.de/event/abfallrecht-aktuell-was-aendert-sich-2/
CATEGORIES:Webinar
END:VEVENT
BEGIN:VEVENT
DTSTART;VALUE=DATE:20250408
DTEND;VALUE=DATE:20250409
DTSTAMP:20260424T032012
CREATED:20241030T145330Z
LAST-MODIFIED:20241030T145330Z
UID:406962-1744070400-1744156799@www.recyclingmagazin.de
SUMMARY:Preiserhöhungsgespräche in der Entsorgungswirtschaft
DESCRIPTION:
URL:https://www.recyclingmagazin.de/event/preiserhoehungsgespraeche-in-der-entsorgungswirtschaft-9/
CATEGORIES:Webinar
END:VEVENT
BEGIN:VEVENT
DTSTART;VALUE=DATE:20250408
DTEND;VALUE=DATE:20250410
DTSTAMP:20260424T032012
CREATED:20250317T095300Z
LAST-MODIFIED:20250317T095300Z
UID:409826-1744070400-1744243199@www.recyclingmagazin.de
SUMMARY:Fortbildung für Immissionsschutz- und Störfallbeauftragte
DESCRIPTION:
URL:https://www.recyclingmagazin.de/event/fortbildung-fuer-immissionsschutz-und-stoerfallbeauftragte-28/
CATEGORIES:Seminar
ORGANIZER;CN="Concada":MAILTO:info@concada.de
END:VEVENT
BEGIN:VEVENT
DTSTART;VALUE=DATE:20250408
DTEND;VALUE=DATE:20250412
DTSTAMP:20260424T032012
CREATED:20250317T104657Z
LAST-MODIFIED:20250317T104657Z
UID:409900-1744070400-1744415999@www.recyclingmagazin.de
SUMMARY:Kombinierte Fortbildung für Mehrfachbeauftragte (Abfall\, Immissionsschutz\, Störfall\, Gewässer)
DESCRIPTION:
URL:https://www.recyclingmagazin.de/event/kombinierte-fortbildung-fuer-mehrfachbeauftragte-abfall-immissionsschutz-stoerfall-gewaesser-6/
CATEGORIES:Seminar
ORGANIZER;CN="Concada":MAILTO:info@concada.de
END:VEVENT
BEGIN:VEVENT
DTSTART;TZID=Europe/Berlin:20250408T090000
DTEND;TZID=Europe/Berlin:20250408T130000
DTSTAMP:20260424T032012
CREATED:20250316T172105Z
LAST-MODIFIED:20250316T172150Z
UID:409729-1744102800-1744117200@www.recyclingmagazin.de
SUMMARY:Abfallvermeidung: Handlungsoptionen und Erfolgspotenziale für Kommunen
DESCRIPTION:
URL:https://www.recyclingmagazin.de/event/abfallvermeidung-handlungsoptionen-und-erfolgspotenziale-fuer-kommunen-3/
CATEGORIES:Webinar
END:VEVENT
BEGIN:VEVENT
DTSTART;VALUE=DATE:20250409
DTEND;VALUE=DATE:20250410
DTSTAMP:20260424T032012
CREATED:20250316T172557Z
LAST-MODIFIED:20250316T172557Z
UID:409733-1744156800-1744243199@www.recyclingmagazin.de
SUMMARY:TRGS 520 Auffrischung - Beauftragte Personen – Kapitel 1.3 ADR
DESCRIPTION:
URL:https://www.recyclingmagazin.de/event/trgs-520-auffrischung-beauftragte-personen-kapitel-1-3-adr-5/
CATEGORIES:Webinar
END:VEVENT
BEGIN:VEVENT
DTSTART;TZID=Europe/Berlin:20250409T090000
DTEND;TZID=Europe/Berlin:20250409T150000
DTSTAMP:20260424T032012
CREATED:20250316T172724Z
LAST-MODIFIED:20250316T172724Z
UID:409736-1744189200-1744210800@www.recyclingmagazin.de
SUMMARY:Die Sammlung und Verwertung von Alttextilien am Rand eines möglichen Kollapses
DESCRIPTION:
URL:https://www.recyclingmagazin.de/event/die-sammlung-und-verwertung-von-alttextilien-am-rand-eines-moeglichen-kollapses/
CATEGORIES:Webinar
END:VEVENT
BEGIN:VEVENT
DTSTART;TZID=Europe/Berlin:20250409T110000
DTEND;TZID=Europe/Berlin:20250409T123000
DTSTAMP:20260424T032012
CREATED:20250316T172427Z
LAST-MODIFIED:20250316T172427Z
UID:409731-1744196400-1744201800@www.recyclingmagazin.de
SUMMARY:Störstoffe in der Biotonne erkennen
DESCRIPTION:
URL:https://www.recyclingmagazin.de/event/stoerstoffe-in-der-biotonne-erkennen-2/
CATEGORIES:Webinar
END:VEVENT
BEGIN:VEVENT
DTSTART;VALUE=DATE:20250410
DTEND;VALUE=DATE:20250411
DTSTAMP:20260424T032012
CREATED:20250316T173326Z
LAST-MODIFIED:20250316T173326Z
UID:409738-1744243200-1744329599@www.recyclingmagazin.de
SUMMARY:Wilder Müll
DESCRIPTION:
URL:https://www.recyclingmagazin.de/event/wilder-muell-7/
CATEGORIES:Webinar
END:VEVENT
BEGIN:VEVENT
DTSTART;VALUE=DATE:20250423
DTEND;VALUE=DATE:20250425
DTSTAMP:20260424T032012
CREATED:20241030T141232Z
LAST-MODIFIED:20241030T141232Z
UID:406910-1745366400-1745539199@www.recyclingmagazin.de
SUMMARY:Einführung rechtliche und technische Grundlagen der Abfallwirtschaft
DESCRIPTION:
URL:https://www.recyclingmagazin.de/event/einfuehrung-rechtliche-und-technische-grundlagen-der-abfallwirtschaft-51/
CATEGORIES:Webinar
END:VEVENT
BEGIN:VEVENT
DTSTART;VALUE=DATE:20250423
DTEND;VALUE=DATE:20250424
DTSTAMP:20260424T032012
CREATED:20241030T154408Z
LAST-MODIFIED:20241030T154408Z
UID:406993-1745366400-1745452799@www.recyclingmagazin.de
SUMMARY:Rechtliche Neuerungen rund um den Transport
DESCRIPTION:
URL:https://www.recyclingmagazin.de/event/rechtliche-neuerungen-rund-um-den-transport-20/
CATEGORIES:Webinar
END:VEVENT
END:VCALENDAR