BEGIN:VCALENDAR
VERSION:2.0
PRODID:-//RECYCLING magazin - ECPv6.15.20//NONSGML v1.0//EN
CALSCALE:GREGORIAN
METHOD:PUBLISH
X-WR-CALNAME:RECYCLING magazin
X-ORIGINAL-URL:https://www.recyclingmagazin.de
X-WR-CALDESC:Veranstaltungen für RECYCLING magazin
REFRESH-INTERVAL;VALUE=DURATION:PT1H
X-Robots-Tag:noindex
X-PUBLISHED-TTL:PT1H
BEGIN:VTIMEZONE
TZID:Europe/Berlin
BEGIN:DAYLIGHT
TZOFFSETFROM:+0100
TZOFFSETTO:+0200
TZNAME:CEST
DTSTART:20230326T010000
END:DAYLIGHT
BEGIN:STANDARD
TZOFFSETFROM:+0200
TZOFFSETTO:+0100
TZNAME:CET
DTSTART:20231029T010000
END:STANDARD
BEGIN:DAYLIGHT
TZOFFSETFROM:+0100
TZOFFSETTO:+0200
TZNAME:CEST
DTSTART:20240331T010000
END:DAYLIGHT
BEGIN:STANDARD
TZOFFSETFROM:+0200
TZOFFSETTO:+0100
TZNAME:CET
DTSTART:20241027T010000
END:STANDARD
BEGIN:DAYLIGHT
TZOFFSETFROM:+0100
TZOFFSETTO:+0200
TZNAME:CEST
DTSTART:20250330T010000
END:DAYLIGHT
BEGIN:STANDARD
TZOFFSETFROM:+0200
TZOFFSETTO:+0100
TZNAME:CET
DTSTART:20251026T010000
END:STANDARD
BEGIN:DAYLIGHT
TZOFFSETFROM:+0100
TZOFFSETTO:+0200
TZNAME:CEST
DTSTART:20260329T010000
END:DAYLIGHT
BEGIN:STANDARD
TZOFFSETFROM:+0200
TZOFFSETTO:+0100
TZNAME:CET
DTSTART:20261025T010000
END:STANDARD
END:VTIMEZONE
BEGIN:VEVENT
DTSTART;TZID=Europe/Berlin:20240917T090000
DTEND;TZID=Europe/Berlin:20250408T130000
DTSTAMP:20260424T131314
CREATED:20240227T145442Z
LAST-MODIFIED:20240227T145838Z
UID:402280-1726563600-1744117200@www.recyclingmagazin.de
SUMMARY:Die neue Mantelverordnung für Ersatzbaustoffe und Bodenschutz
DESCRIPTION:
URL:https://www.recyclingmagazin.de/event/die-neue-mantelverordnung-fuer-ersatzbaustoffe-und-bodenschutz-2/
CATEGORIES:Webinar
END:VEVENT
BEGIN:VEVENT
DTSTART;VALUE=DATE:20250304
DTEND;VALUE=DATE:20250307
DTSTAMP:20260424T131314
CREATED:20240902T184431Z
LAST-MODIFIED:20240902T184941Z
UID:405964-1741046400-1741305599@www.recyclingmagazin.de
SUMMARY:Go Circular 2025 - 6th Business Summit
DESCRIPTION:
URL:https://www.recyclingmagazin.de/event/go-circular-2025-6th-business-summit/
LOCATION:Postillion Hotel & Convention Center WTC Rotterdam\, Beursplein 37\, Meent 110\, Rotterdam\, 3011 AA\, Netherlands
CATEGORIES:Kongress
END:VEVENT
BEGIN:VEVENT
DTSTART;VALUE=DATE:20250305
DTEND;VALUE=DATE:20250307
DTSTAMP:20260424T131314
CREATED:20240628T173608Z
LAST-MODIFIED:20240628T173608Z
UID:405200-1741132800-1741305599@www.recyclingmagazin.de
SUMMARY:Battery Recycling Europe 2025
DESCRIPTION:
URL:https://www.recyclingmagazin.de/event/battery-recycling-europe-2025/
CATEGORIES:Konferenz
END:VEVENT
BEGIN:VEVENT
DTSTART;VALUE=DATE:20250305
DTEND;VALUE=DATE:20250307
DTSTAMP:20260424T131314
CREATED:20240902T190546Z
LAST-MODIFIED:20240902T190546Z
UID:405972-1741132800-1741305599@www.recyclingmagazin.de
SUMMARY:Energy from Waste 2025
DESCRIPTION:
URL:https://www.recyclingmagazin.de/event/energy-from-waste-2025/
LOCATION:ETC Venues\, 155 Bishopsgate Liverpool Street\, London\, EC2M 3YD\, Großbritannien
CATEGORIES:Konferenz
END:VEVENT
BEGIN:VEVENT
DTSTART;VALUE=DATE:20250306
DTEND;VALUE=DATE:20250307
DTSTAMP:20260424T131314
CREATED:20241030T143011Z
LAST-MODIFIED:20241030T143011Z
UID:406924-1741219200-1741305599@www.recyclingmagazin.de
SUMMARY:§ 53 KrWG Lehrgang zum Nachweis der Fachkunde
DESCRIPTION:
URL:https://www.recyclingmagazin.de/event/%c2%a7-53-krwg-lehrgang-zum-nachweis-der-fachkunde-33/
CATEGORIES:Webinar
END:VEVENT
BEGIN:VEVENT
DTSTART;TZID=Europe/Berlin:20250307T090000
DTEND;TZID=Europe/Berlin:20250307T140000
DTSTAMP:20260424T131314
CREATED:20241030T152259Z
LAST-MODIFIED:20241030T152259Z
UID:406970-1741338000-1741356000@www.recyclingmagazin.de
SUMMARY:Lehrgang zur Probenahme fester Abfälle nach LAGA PN 98
DESCRIPTION:
URL:https://www.recyclingmagazin.de/event/lehrgang-zur-probenahme-fester-abfaelle-nach-laga-pn-98-13/
CATEGORIES:Webinar
END:VEVENT
BEGIN:VEVENT
DTSTART;TZID=Europe/Berlin:20250307T090000
DTEND;TZID=Europe/Berlin:20250307T140000
DTSTAMP:20260424T131314
CREATED:20241030T160814Z
LAST-MODIFIED:20241030T160814Z
UID:406999-1741338000-1741356000@www.recyclingmagazin.de
SUMMARY:Befähigte Person zur Prüfung von Absetz- und Abrollbehältern (14 BetrSichV)
DESCRIPTION:
URL:https://www.recyclingmagazin.de/event/befaehigte-person-zur-pruefung-von-absetz-und-abrollbehaeltern-14-betrsichv-8/
CATEGORIES:Webinar
END:VEVENT
BEGIN:VEVENT
DTSTART;TZID=Europe/Berlin:20250307T110000
DTEND;TZID=Europe/Berlin:20250307T123000
DTSTAMP:20260424T131314
CREATED:20241211T154827Z
LAST-MODIFIED:20241211T154827Z
UID:407685-1741345200-1741350600@www.recyclingmagazin.de
SUMMARY:Rund um die Uhr zugänglich: Self-Service-Lösungen für Wertstoffhöfe
DESCRIPTION:
URL:https://www.recyclingmagazin.de/event/rund-um-die-uhr-zugaenglich-self-service-loesungen-fuer-wertstoffhoefe/
CATEGORIES:Webinar
END:VEVENT
BEGIN:VEVENT
DTSTART;VALUE=DATE:20250310
DTEND;VALUE=DATE:20250314
DTSTAMP:20260424T131314
CREATED:20241030T170732Z
LAST-MODIFIED:20241030T170732Z
UID:407027-1741564800-1741910399@www.recyclingmagazin.de
SUMMARY:Grundkurs nach § 9 EfbV und § 5 AbfAEV
DESCRIPTION:
URL:https://www.recyclingmagazin.de/event/grundkurs-nach-%c2%a7-9-efbv-und-%c2%a7-5-abfaev-6/
LOCATION:bvse-Bildungszentrum\, Fränkische Straße 2\, Bonn\, 53229\, Deutschland
CATEGORIES:Seminar
END:VEVENT
BEGIN:VEVENT
DTSTART;VALUE=DATE:20250311
DTEND;VALUE=DATE:20250313
DTSTAMP:20260424T131314
CREATED:20240902T191047Z
LAST-MODIFIED:20240902T191126Z
UID:405974-1741651200-1741823999@www.recyclingmagazin.de
SUMMARY:VKU-Verbandstagung 2025
DESCRIPTION:
URL:https://www.recyclingmagazin.de/event/vku-verbandstagung-2025/
LOCATION:Estrel Berlin\, Sonnenallee 225\, Berlin\, 12057\, Deutschland
CATEGORIES:Tagung
END:VEVENT
BEGIN:VEVENT
DTSTART;VALUE=DATE:20250311
DTEND;VALUE=DATE:20250313
DTSTAMP:20260424T131314
CREATED:20241030T143550Z
LAST-MODIFIED:20241030T143550Z
UID:406932-1741651200-1741823999@www.recyclingmagazin.de
SUMMARY:Disposition und Fuhrparksteuerung
DESCRIPTION:
URL:https://www.recyclingmagazin.de/event/disposition-und-fuhrparksteuerung-7/
CATEGORIES:Webinar
END:VEVENT
BEGIN:VEVENT
DTSTART;VALUE=DATE:20250311
DTEND;VALUE=DATE:20250312
DTSTAMP:20260424T131314
CREATED:20250219T110239Z
LAST-MODIFIED:20250219T110706Z
UID:409328-1741651200-1741737599@www.recyclingmagazin.de
SUMMARY:Circular Design Summit
DESCRIPTION:
URL:https://www.recyclingmagazin.de/event/circular-design-summit/
LOCATION:Hospitalhof Stuttgart\, Büchsenstraße 33\, Stuttgart\, 70174\, Germany
CATEGORIES:Konferenz
END:VEVENT
BEGIN:VEVENT
DTSTART;TZID=Europe/Berlin:20250311T093000
DTEND;TZID=Europe/Berlin:20250311T113000
DTSTAMP:20260424T131314
CREATED:20241030T162841Z
LAST-MODIFIED:20241030T162901Z
UID:407021-1741685400-1741692600@www.recyclingmagazin.de
SUMMARY:Fachgerechter Umgang mit der Waage in der Abfallannahme
DESCRIPTION:
URL:https://www.recyclingmagazin.de/event/fachgerechter-umgang-mit-der-waage-in-der-abfallannahme-13/
CATEGORIES:Webinar
END:VEVENT
BEGIN:VEVENT
DTSTART;TZID=Europe/Berlin:20250311T120000
DTEND;TZID=Europe/Berlin:20250311T150000
DTSTAMP:20260424T131314
CREATED:20241030T161546Z
LAST-MODIFIED:20241030T161546Z
UID:407009-1741694400-1741705200@www.recyclingmagazin.de
SUMMARY:Sachkunde gemäß Altholzverordnung
DESCRIPTION:
URL:https://www.recyclingmagazin.de/event/sachkunde-gemaess-altholzverordnung-9/
CATEGORIES:Webinar
END:VEVENT
BEGIN:VEVENT
DTSTART;TZID=Europe/Berlin:20250311T143000
DTEND;TZID=Europe/Berlin:20250311T160000
DTSTAMP:20260424T131314
CREATED:20241211T155058Z
LAST-MODIFIED:20241211T155058Z
UID:407687-1741703400-1741708800@www.recyclingmagazin.de
SUMMARY:Lebensmittelverschwendung – eine Herausforderung an die Abfallvermeidung
DESCRIPTION:
URL:https://www.recyclingmagazin.de/event/lebensmittelverschwendung-eine-herausforderung-an-die-abfallvermeidung-2/
CATEGORIES:Webinar
END:VEVENT
BEGIN:VEVENT
DTSTART;VALUE=DATE:20250312
DTEND;VALUE=DATE:20250314
DTSTAMP:20260424T131314
CREATED:20240903T151658Z
LAST-MODIFIED:20240903T151946Z
UID:405988-1741737600-1741910399@www.recyclingmagazin.de
SUMMARY:Circular Valley Convention 2025
DESCRIPTION:
URL:https://www.recyclingmagazin.de/event/circular-valley-convention-uniting-industries-for-a-circular-tomorrow/
LOCATION:Areal Böhler\, Böhlerstraße 1\, Meerbusch\, 40667\, Germany
CATEGORIES:Konferenz
END:VEVENT
BEGIN:VEVENT
DTSTART;VALUE=DATE:20250312
DTEND;VALUE=DATE:20250314
DTSTAMP:20260424T131314
CREATED:20241030T111601Z
LAST-MODIFIED:20241030T111601Z
UID:406878-1741737600-1741910399@www.recyclingmagazin.de
SUMMARY:Baustellenabfall richtig entsorgen
DESCRIPTION:
URL:https://www.recyclingmagazin.de/event/baustellenabfall-richtig-entsorgen-11/
CATEGORIES:Webinar
END:VEVENT
BEGIN:VEVENT
DTSTART;VALUE=DATE:20250312
DTEND;VALUE=DATE:20250313
DTSTAMP:20260424T131314
CREATED:20241211T155324Z
LAST-MODIFIED:20241211T155324Z
UID:407690-1741737600-1741823999@www.recyclingmagazin.de
SUMMARY:Abfallgebühren
DESCRIPTION:
URL:https://www.recyclingmagazin.de/event/abfallgebuehren-4/
CATEGORIES:Webinar
END:VEVENT
BEGIN:VEVENT
DTSTART;VALUE=DATE:20250312
DTEND;VALUE=DATE:20250314
DTSTAMP:20260424T131314
CREATED:20250316T151349Z
LAST-MODIFIED:20250316T151409Z
UID:409674-1741737600-1741910399@www.recyclingmagazin.de
SUMMARY:Circular Valley Convetion
DESCRIPTION:
URL:https://www.recyclingmagazin.de/event/circular-valley-convetion/
LOCATION:Areal Böhler\, Böhlerstraße 1\, Meerbusch\, 40667\, Germany
CATEGORIES:Kongress
END:VEVENT
BEGIN:VEVENT
DTSTART;VALUE=DATE:20250313
DTEND;VALUE=DATE:20250314
DTSTAMP:20260424T131314
CREATED:20241211T155532Z
LAST-MODIFIED:20241211T155558Z
UID:407692-1741824000-1741910399@www.recyclingmagazin.de
SUMMARY:21. Fachkonferenz Sammeln\, Verwerten und Entsorgen von Sperrmüll
DESCRIPTION:
URL:https://www.recyclingmagazin.de/event/21-fachkonferenz-sammeln-verwerten-und-entsorgen-von-sperrmuell/
LOCATION:Reichshof Hamburg\, Kirchenallee 34-36\, Hamburg\, 20099\, Germany
CATEGORIES:Konferenz,Webinar
END:VEVENT
BEGIN:VEVENT
DTSTART;VALUE=DATE:20250313
DTEND;VALUE=DATE:20250314
DTSTAMP:20260424T131314
CREATED:20250123T105338Z
LAST-MODIFIED:20250123T105338Z
UID:409032-1741824000-1741910399@www.recyclingmagazin.de
SUMMARY:Faserverbundwerkstoffe im Fokus
DESCRIPTION:
URL:https://www.recyclingmagazin.de/event/faserverbundwerkstoffe-im-fokus/
CATEGORIES:Tagung
END:VEVENT
BEGIN:VEVENT
DTSTART;VALUE=DATE:20250314
DTEND;VALUE=DATE:20250315
DTSTAMP:20260424T131314
CREATED:20240903T152311Z
LAST-MODIFIED:20240903T152351Z
UID:405993-1741910400-1741996799@www.recyclingmagazin.de
SUMMARY:Fachtagung Abbruch 2025
DESCRIPTION:
URL:https://www.recyclingmagazin.de/event/fachtagung-abbruch-2025/
LOCATION:STATION-Berlin\, Luckenwalder Straße 4-6\, Berlin\, 10963\, Germany
CATEGORIES:Tagung
ORGANIZER;CN="Deutscher Abbruchverband":MAILTO:ridderbusch@deutscher-abbruchverband.de
END:VEVENT
BEGIN:VEVENT
DTSTART;VALUE=DATE:20250314
DTEND;VALUE=DATE:20250315
DTSTAMP:20260424T131314
CREATED:20241030T170837Z
LAST-MODIFIED:20241030T170837Z
UID:407029-1741910400-1741996799@www.recyclingmagazin.de
SUMMARY:Lehrgangsmodul Betriebsbeauftragter für Abfall
DESCRIPTION:
URL:https://www.recyclingmagazin.de/event/lehrgangsmodul-betriebsbeauftragter-fuer-abfall-9/
LOCATION:bvse-Bildungszentrum\, Fränkische Straße 2\, Bonn\, 53229\, Deutschland
CATEGORIES:Seminar
END:VEVENT
BEGIN:VEVENT
DTSTART;TZID=Europe/Berlin:20250314T110000
DTEND;TZID=Europe/Berlin:20250314T123000
DTSTAMP:20260424T131314
CREATED:20241211T155748Z
LAST-MODIFIED:20241211T155748Z
UID:407694-1741950000-1741955400@www.recyclingmagazin.de
SUMMARY:Sammlung und Recycling von PU-Schaumdosen: Wie Kommunen die aktuellen Probleme meistern können
DESCRIPTION:
URL:https://www.recyclingmagazin.de/event/sammlung-und-recycling-von-pu-schaumdosen-wie-kommunen-die-aktuellen-probleme-meistern-koennen/
CATEGORIES:Webinar
END:VEVENT
BEGIN:VEVENT
DTSTART;TZID=Europe/Berlin:20250315T090000
DTEND;TZID=Europe/Berlin:20250316T123000
DTSTAMP:20260424T131314
CREATED:20250316T182245Z
LAST-MODIFIED:20250316T182245Z
UID:409764-1742029200-1742128200@www.recyclingmagazin.de
SUMMARY:Gefährdungsbeurteilung effektiv erstellen: Risiken erkennen\, Sicherheit schaffen
DESCRIPTION:
URL:https://www.recyclingmagazin.de/event/gefaehrdungsbeurteilung-effektiv-erstellen-risiken-erkennen-sicherheit-schaffen/
CATEGORIES:Webinar
END:VEVENT
BEGIN:VEVENT
DTSTART;VALUE=DATE:20250317
DTEND;VALUE=DATE:20250319
DTSTAMP:20260424T131314
CREATED:20241030T103822Z
LAST-MODIFIED:20241030T103822Z
UID:406847-1742169600-1742342399@www.recyclingmagazin.de
SUMMARY:Abfall einstufen nach AVV
DESCRIPTION:
URL:https://www.recyclingmagazin.de/event/abfall-einstufen-nach-avv-9/
CATEGORIES:Webinar
END:VEVENT
BEGIN:VEVENT
DTSTART;VALUE=DATE:20250318
DTEND;VALUE=DATE:20250319
DTSTAMP:20260424T131314
CREATED:20241030T105111Z
LAST-MODIFIED:20241030T105111Z
UID:406854-1742256000-1742342399@www.recyclingmagazin.de
SUMMARY:Abfallnachweisverfahren (eANV) und Abfallnachweisführung
DESCRIPTION:
URL:https://www.recyclingmagazin.de/event/abfallnachweisverfahren-eanv-und-abfallnachweisfuehrung-71/
CATEGORIES:Webinar
END:VEVENT
BEGIN:VEVENT
DTSTART;VALUE=DATE:20250318
DTEND;VALUE=DATE:20250319
DTSTAMP:20260424T131314
CREATED:20241030T105929Z
LAST-MODIFIED:20241030T105929Z
UID:406868-1742256000-1742342399@www.recyclingmagazin.de
SUMMARY:Grenzüberschreitende Abfallverbringung
DESCRIPTION:
URL:https://www.recyclingmagazin.de/event/grenzueberschreitende-abfallverbringung-55/
CATEGORIES:Webinar
END:VEVENT
BEGIN:VEVENT
DTSTART;VALUE=DATE:20250318
DTEND;VALUE=DATE:20250319
DTSTAMP:20260424T131314
CREATED:20241211T155950Z
LAST-MODIFIED:20241211T155950Z
UID:407696-1742256000-1742342399@www.recyclingmagazin.de
SUMMARY:Entsorgung von Abfällen aus Krankenhaus\, Pflege und Forschung
DESCRIPTION:
URL:https://www.recyclingmagazin.de/event/entsorgung-von-abfaellen-aus-krankenhaus-pflege-und-forschung-4/
CATEGORIES:Webinar
END:VEVENT
BEGIN:VEVENT
DTSTART;VALUE=DATE:20250318
DTEND;VALUE=DATE:20250319
DTSTAMP:20260424T131314
CREATED:20241211T160258Z
LAST-MODIFIED:20241211T160401Z
UID:407699-1742256000-1742342399@www.recyclingmagazin.de
SUMMARY:Fachkonferenz Die saubere Stadt
DESCRIPTION:
URL:https://www.recyclingmagazin.de/event/fachkonferenz-die-saubere-stadt-5/
LOCATION:Stadthaus Ulm\, Münsterplatz 50\, Ulm\, 89073\, Germany
CATEGORIES:Konferenz,Webinar
END:VEVENT
END:VCALENDAR