BEGIN:VCALENDAR
VERSION:2.0
PRODID:-//RECYCLING magazin - ECPv6.15.20//NONSGML v1.0//EN
CALSCALE:GREGORIAN
METHOD:PUBLISH
X-ORIGINAL-URL:https://www.recyclingmagazin.de
X-WR-CALDESC:Veranstaltungen für RECYCLING magazin
REFRESH-INTERVAL;VALUE=DURATION:PT1H
X-Robots-Tag:noindex
X-PUBLISHED-TTL:PT1H
BEGIN:VTIMEZONE
TZID:Europe/Berlin
BEGIN:DAYLIGHT
TZOFFSETFROM:+0100
TZOFFSETTO:+0200
TZNAME:CEST
DTSTART:20160327T010000
END:DAYLIGHT
BEGIN:STANDARD
TZOFFSETFROM:+0200
TZOFFSETTO:+0100
TZNAME:CET
DTSTART:20161030T010000
END:STANDARD
BEGIN:DAYLIGHT
TZOFFSETFROM:+0100
TZOFFSETTO:+0200
TZNAME:CEST
DTSTART:20170326T010000
END:DAYLIGHT
BEGIN:STANDARD
TZOFFSETFROM:+0200
TZOFFSETTO:+0100
TZNAME:CET
DTSTART:20171029T010000
END:STANDARD
BEGIN:DAYLIGHT
TZOFFSETFROM:+0100
TZOFFSETTO:+0200
TZNAME:CEST
DTSTART:20180325T010000
END:DAYLIGHT
BEGIN:STANDARD
TZOFFSETFROM:+0200
TZOFFSETTO:+0100
TZNAME:CET
DTSTART:20181028T010000
END:STANDARD
END:VTIMEZONE
BEGIN:VEVENT
DTSTART;VALUE=DATE:20170703
DTEND;VALUE=DATE:20170707
DTSTAMP:20260419T210035
CREATED:20170203T151430Z
LAST-MODIFIED:20170203T151430Z
UID:354978-1499040000-1499385599@www.recyclingmagazin.de
SUMMARY:Fachkraft für Abfallentsorgung
DESCRIPTION:Grundlagen und Tipps für alle Praktiker in Gewerbe-\, Industrie-\, Dienstleistungs-\, Transport- und Entsorgungsbetrieben.
URL:https://www.recyclingmagazin.de/event/fachkraft-fuer-abfallentsorgung-3/
LOCATION:BEW GmbH Bildungszentrum Duisburg\, Dr.-Detlev-Karsten-Rohwedder-Str. 70\, Duisburg\, 47228 \, Deutschland
CATEGORIES:Seminar
END:VEVENT
BEGIN:VEVENT
DTSTART;VALUE=DATE:20170703
DTEND;VALUE=DATE:20170708
DTSTAMP:20260419T210035
CREATED:20170317T121749Z
LAST-MODIFIED:20170317T121749Z
UID:355823-1499040000-1499471999@www.recyclingmagazin.de
SUMMARY:Grünanlagen und Forsten
DESCRIPTION:Das öffentliche Grün bildet Oasen mitten in der Stadt. Es schafft Lebensqualität.  Es ermöglicht Erholung. Es ist stets einzigartig. Somit ist öffentliches Grün das Ergebnis großen handwerklichen Geschicks. Leider vergessen dies oft Politiker und Kämmerer\, indem sie die finanziellen Möglichkeiten oft erheblich einengen. Das Ergebnis ist eine zunehmende Abkehr vom kreativen Parkkonzept und eine Hinwendung zu einfacher Gestaltung\, die mit intensivem maschinellen Einsatz kostengünstig pflegbar ist. Zurzeit ist somit Management gefordert\, wie mit begrenzten Mitteln das öffentliche Grün gut wirken kann.
URL:https://www.recyclingmagazin.de/event/gruenanlagen-und-forsten/
LOCATION:LÜNTEC-Technologiezentrum Lünen\, Brambauer\, Am Brambusch 24\, Lünen\, 44536 \, Deutschland
CATEGORIES:Seminar
END:VEVENT
BEGIN:VEVENT
DTSTART;VALUE=DATE:20170703
DTEND;VALUE=DATE:20170704
DTSTAMP:20260419T210035
CREATED:20170613T104900Z
LAST-MODIFIED:20170613T104955Z
UID:357283-1499040000-1499126399@www.recyclingmagazin.de
SUMMARY:Die neue AwSV - Konsequenzen für Anlagenbetreiber
DESCRIPTION:Mit der Schaffung einer bundeseinheitlichen Regelung zum gewässerschutzbezogenen Anlagenrecht ab dem 01.08.2017 steht auch die Abfallwirtschaft vor neuen Herausforderungen. \nDa Abfälle grundsätzlich als sogenannte feste Gemische gelten dürften\, stellt sich im Einzelfall die Frage\, ob es sich um wassergefährdende Stoffe handelt. \nZiel der Veranstaltung ist es\, aus rechtlicher und aus technischer Sicht darüber aufzuklären\, ob und inwieweit Betriebe der Kreislaufwirtschaft von der Neuregelung betroffen sind.
URL:https://www.recyclingmagazin.de/event/die-neue-awsv-konsequenzen-fuer-anlagenbetreiber/
LOCATION:bvse-Bildungszentrum\, Hohe Straße 73\, Bonn\, 53119
CATEGORIES:Seminar
END:VEVENT
BEGIN:VEVENT
DTSTART;VALUE=DATE:20170704
DTEND;VALUE=DATE:20170705
DTSTAMP:20260419T210035
CREATED:20161223T113030Z
LAST-MODIFIED:20161223T113030Z
UID:354063-1499126400-1499212799@www.recyclingmagazin.de
SUMMARY:Chemisches Grundlagenwissen für Mitarbeiter in Unternehmen der Recycling- und Entsorgungswirtschaft
DESCRIPTION:
URL:https://www.recyclingmagazin.de/event/chemisches-grundlagenwissen-fuer-mitarbeiter-in-unternehmen-der-recycling-und-entsorgungswirtschaft-6/
LOCATION:SASE Iserlohn\, Max-Planck-Str. 11\, Iserlohn\, 58638
CATEGORIES:Seminar
ORGANIZER;CN="BDE Bundesverband der Deutschen Entsorgungs-%2C Wasser- und Rohstoffwirtschaft":MAILTO:info@bde.de
END:VEVENT
BEGIN:VEVENT
DTSTART;VALUE=DATE:20170704
DTEND;VALUE=DATE:20170705
DTSTAMP:20260419T210035
CREATED:20170203T140908Z
LAST-MODIFIED:20170203T140908Z
UID:354934-1499126400-1499212799@www.recyclingmagazin.de
SUMMARY:Praxistipps zur Umsetzung der Nachweis- und Registerpflichten bei der Abfallentsorgung
DESCRIPTION:Schulung und praktische Übungen zur Anwendung des elektronischen Abfallnachweisverfahrens (eANV).
URL:https://www.recyclingmagazin.de/event/praxistipps-zur-umsetzung-der-nachweis-und-registerpflichten-bei-der-abfallentsorgung-2/
LOCATION:BEW GmbH Bildungszentrum Duisburg\, Dr.-Detlev-Karsten-Rohwedder-Str. 70\, Duisburg\, 47228 \, Deutschland
CATEGORIES:Seminar
END:VEVENT
BEGIN:VEVENT
DTSTART;VALUE=DATE:20170704
DTEND;VALUE=DATE:20170706
DTSTAMP:20260419T210035
CREATED:20170203T150537Z
LAST-MODIFIED:20170203T150537Z
UID:354960-1499126400-1499299199@www.recyclingmagazin.de
SUMMARY:Neuigkeiten für Abfallbeauftragte (Fortbildungslehrgang)
DESCRIPTION:2-tägiges Seminar zur Auffrischung der Fachkunde im Sinne der §§ 59 und 60 Kreislaufwirtschaftsgesetz (KrWG).
URL:https://www.recyclingmagazin.de/event/neuigkeiten-fuer-abfallbeauftragte-fortbildungslehrgang-3/
LOCATION:BEW GmbH Bildungszentrum Duisburg\, Dr.-Detlev-Karsten-Rohwedder-Str. 70\, Duisburg\, 47228 \, Deutschland
CATEGORIES:Seminar
END:VEVENT
BEGIN:VEVENT
DTSTART;VALUE=DATE:20170704
DTEND;VALUE=DATE:20170705
DTSTAMP:20260419T210035
CREATED:20170510T122630Z
LAST-MODIFIED:20170510T122630Z
UID:356538-1499126400-1499212799@www.recyclingmagazin.de
SUMMARY:Gefahrgutrecht in der Entsorgungswirtschaft
DESCRIPTION:Im Umgang mit Gefahrgut beeinflussen die anzuwendenden Überwachungs-\, Kennzeichnungs-\, Mitteilungs- oder Meldepflichten die Wirtschaftlichkeitsberechnung einer Abfallfraktion in erheblichem Umfang. Zudem bergen Verstöße gegen die gesetzlichen Vorschriften ein Haftungsrisiko. Das Seminar gibt Vertriebsmitarbeitern\, Disponenten\, Lager- und Innendienstmitarbeitern einen Überblick.
URL:https://www.recyclingmagazin.de/event/gefahrgutrecht-in-der-entsorgungswirtschaft/
LOCATION:BDE-Geschäftsstelle\, Behrenstraße 29 \, Berlin\, 10117
CATEGORIES:Seminar
ORGANIZER;CN="BDE Bundesverband der Deutschen Entsorgungs-%2C Wasser- und Rohstoffwirtschaft":MAILTO:info@bde.de
END:VEVENT
BEGIN:VEVENT
DTSTART;VALUE=DATE:20170704
DTEND;VALUE=DATE:20170705
DTSTAMP:20260419T210035
CREATED:20170613T102819Z
LAST-MODIFIED:20170613T102850Z
UID:357270-1499126400-1499212799@www.recyclingmagazin.de
SUMMARY:USA – ein Markt für Abfall- und Recyclingtechnik
DESCRIPTION:Auch unter Donald Trump sind die USA ein lukrativer Absatzmarkt für europäische Recyclingtechnik. Nicht zuletzt weil die einzelnen Bundesstaaten die Hoheit über die Festlegung von Verwertungsquoten\, Deponierungsverboten und Recycling-Förderprogrammen haben. Alleine Kalifornien ist mit 39 Millionen Einwohnern ein größerer Markt als die meisten EU-Staaten (nur 7 Mitgliedstaaten sind größer als Kalifornien\, darunter Deutschland). Der kalifornische Gouverneur Jerry Brown führt nach Trumps Absage an das Pariser Abkommen eine breite Front für den Klimaschutz an\, zusammen mit einer wachsenden Anzahl weiterer US-Bundesstaaten und Kanada. \nMehr Informationen über den amerikanischen Recyclingmarkt und Hilfestellung bei der Erschließung von Absatzpotenzialen bietet ein Tagesseminar des VDMA am 4. Juli 2017 in Frankfurt. Experten referieren über Situation und Trends in der US-Entsorgung und geben Auskunft über Marktzugangsbedingungen und Produktanforderungen. Erfahrungsberichte von Firmen\, die bereits in den USA aktiv sind\, geben praktische Einblicke in einen der größten Exportmärkte für Abfall- und Recyclingtechnik.
URL:https://www.recyclingmagazin.de/event/usa-ein-markt-fuer-abfall-und-recyclingtechnik/
LOCATION:VDMA Verband Deutscher Maschinen- und Anlagenbau e. V.\, Lyoner Straße 18\, Frankfurt am Main\, 60528\, Deutschland
CATEGORIES:Seminar
END:VEVENT
BEGIN:VEVENT
DTSTART;VALUE=DATE:20170705
DTEND;VALUE=DATE:20170706
DTSTAMP:20260419T210035
CREATED:20161223T113342Z
LAST-MODIFIED:20161223T113342Z
UID:354071-1499212800-1499299199@www.recyclingmagazin.de
SUMMARY:Probenahme fester Abfälle auf Basis der LAGA Richtlinie PN 98 und der DIN EN 932-1
DESCRIPTION:
URL:https://www.recyclingmagazin.de/event/probenahme-fester-abfaelle-auf-basis-der-laga-richtlinie-pn-98-und-der-din-en-932-1-3/
LOCATION:SASE Iserlohn\, Max-Planck-Str. 11\, Iserlohn\, 58638
CATEGORIES:Seminar
ORGANIZER;CN="BDE Bundesverband der Deutschen Entsorgungs-%2C Wasser- und Rohstoffwirtschaft":MAILTO:info@bde.de
END:VEVENT
BEGIN:VEVENT
DTSTART;VALUE=DATE:20170705
DTEND;VALUE=DATE:20170706
DTSTAMP:20260419T210035
CREATED:20161223T113451Z
LAST-MODIFIED:20161223T113451Z
UID:354073-1499212800-1499299199@www.recyclingmagazin.de
SUMMARY:Gefahrgutrecht in der Abfallwirtschaft - Ein Überblick für Vertriebsmitarbeiter
DESCRIPTION:
URL:https://www.recyclingmagazin.de/event/gefahrgutrecht-in-der-abfallwirtschaft-ein-ueberblick-fuer-vertriebsmitarbeiter-5/
LOCATION:BDE-Geschäftsstelle\, Behrenstraße 29 \, Berlin\, 10117
CATEGORIES:Seminar
ORGANIZER;CN="BDE Bundesverband der Deutschen Entsorgungs-%2C Wasser- und Rohstoffwirtschaft":MAILTO:info@bde.de
END:VEVENT
BEGIN:VEVENT
DTSTART;VALUE=DATE:20170705
DTEND;VALUE=DATE:20170707
DTSTAMP:20260419T210035
CREATED:20170310T112940Z
LAST-MODIFIED:20170310T112940Z
UID:355610-1499212800-1499385599@www.recyclingmagazin.de
SUMMARY:Fortbildung gemäß EfbV/AbfAEV\, für Abfall- und Immissionsschutzbeauftragte
DESCRIPTION:
URL:https://www.recyclingmagazin.de/event/fortbildung-gemaess-efbvabfaev-fuer-abfall-und-immissionsschutzbeauftragte-9/
LOCATION:SUHM\, Hämmerlestraße 14 + 16\, Gäufelden\, 71126\, Deutschland
CATEGORIES:Seminar
ORGANIZER;CN="SUHM":MAILTO:info@suhm.info
END:VEVENT
BEGIN:VEVENT
DTSTART;VALUE=DATE:20170705
DTEND;VALUE=DATE:20170706
DTSTAMP:20260419T210035
CREATED:20170510T122748Z
LAST-MODIFIED:20170510T122748Z
UID:356540-1499212800-1499299199@www.recyclingmagazin.de
SUMMARY:Probenahme fester Abfälle gemäß LAGA PN 98
DESCRIPTION:Die LAGA PN 98 bzw. die DIN EN 932-1 fordern\, dass Probenentnahmen von Personen durchgeführt werden\, die über die erforderliche Sachkunde verfügen. Das Tagesseminar vermittelt diese in Theorie und Praxis.
URL:https://www.recyclingmagazin.de/event/probenahme-fester-abfaelle-gemaess-laga-pn-98/
LOCATION:SASE Iserlohn\, Max-Planck-Str. 11\, Iserlohn\, 58638
CATEGORIES:Seminar
ORGANIZER;CN="BDE Bundesverband der Deutschen Entsorgungs-%2C Wasser- und Rohstoffwirtschaft":MAILTO:info@bde.de
END:VEVENT
BEGIN:VEVENT
DTSTART;TZID=Europe/Berlin:20170705T163000
DTEND;TZID=Europe/Berlin:20170705T190000
DTSTAMP:20260419T210035
CREATED:20170524T102821Z
LAST-MODIFIED:20170524T102851Z
UID:356850-1499272200-1499281200@www.recyclingmagazin.de
SUMMARY:Die neue Gewerbeabfallverordnung und ihre Auswirkungen - Podiumsdiskussion mit MdB Michael Thews
DESCRIPTION:Die novellierte Gewerbeabfallverordnung wurde am 21. April 2017 im Bundesgesetzblatt verkündet und tritt am 1. August 2017 in Kraft. Vor diesem Hintergrund organisiert das WFZruhr am 5. Juli 2017 eine Podiumsdiskussion mit dem Keynote-Speaker Michael Thews. Michael Thews ist Mitglied des Bundestages und Berichterstatter für Kreislaufwirtschaft und Nachhaltigkeit der SPD-Bundesfraktion. \nZusammen mit Michael Thews auf dem Podium diskutieren Vertreter kommunaler und privater Entsorger sowie die jeweiligen Verbandsvertreter: Christian Kley (USB Bochum) und Dr. Holger Thärichen (VKU) für die kommunale sowie Ernst-Peter Rahlenbeck (BDE\, Lobbe) und Herwart Wilms (BDE\, Remondis) für die privaten Entsorgungswirtschaft.
URL:https://www.recyclingmagazin.de/event/die-neue-gewerbeabfallverordnung-und-ihre-auswirkungen-podiumsdiskussion-mit-mdb-michael-thews/
LOCATION:Technologiezentrum Lünen\, Am Brambusch 24\, Lünen\, 44536\, Deutschland
CATEGORIES:Podiumsdiskussion
ORGANIZER;CN="WFZruhr":MAILTO:info@WFZ-ruhr.de
END:VEVENT
BEGIN:VEVENT
DTSTART;VALUE=DATE:20170706
DTEND;VALUE=DATE:20170708
DTSTAMP:20260419T210035
CREATED:20170301T144420Z
LAST-MODIFIED:20170301T144420Z
UID:355419-1499299200-1499471999@www.recyclingmagazin.de
SUMMARY:Fachkunde Energiemanagement- Beauftragte(r) nach DIN EN ISO 50001
DESCRIPTION:
URL:https://www.recyclingmagazin.de/event/fachkunde-energiemanagement-beauftragter-nach-din-en-iso-50001/
LOCATION:kenic GmbH – Akademie für Wirtschaft und Umwelt\, Linienstraße 130\, Berlin\, 10115\, Deutschland
CATEGORIES:Seminar
ORGANIZER;CN="kenic GmbH":MAILTO:info@kenic.de
END:VEVENT
BEGIN:VEVENT
DTSTART;VALUE=DATE:20170706
DTEND;VALUE=DATE:20170708
DTSTAMP:20260419T210035
CREATED:20170510T123246Z
LAST-MODIFIED:20170510T123246Z
UID:356542-1499299200-1499471999@www.recyclingmagazin.de
SUMMARY:Energiemanagement-Beauftragte(r) nach DIN EN ISO 50001
DESCRIPTION:Der Lehrgang ermöglicht es Ihnen\, die energiewirtschaftlichen Kenngrößen Ihres Unternehmens zu erfassen und zu bewerten. So erhalten Sie sowohl die Möglichkeit auf Schwachstellen frühzeitig zu reagieren\, als auch Ihre Energieeinsparpotentiale zu erkennen und diese kontinuierlich zu optimieren.
URL:https://www.recyclingmagazin.de/event/energiemanagement-beauftragter-nach-din-en-iso-50001-4/
LOCATION:kenic GmbH – Akademie für Wirtschaft und Umwelt\, Linienstraße 130\, Berlin\, 10115\, Deutschland
CATEGORIES:Seminar
ORGANIZER;CN="BDE Bundesverband der Deutschen Entsorgungs-%2C Wasser- und Rohstoffwirtschaft":MAILTO:info@bde.de
END:VEVENT
BEGIN:VEVENT
DTSTART;VALUE=DATE:20170707
DTEND;VALUE=DATE:20170708
DTSTAMP:20260419T210035
CREATED:20170607T172525Z
LAST-MODIFIED:20170607T172525Z
UID:357190-1499385600-1499471999@www.recyclingmagazin.de
SUMMARY:Kreislaufgerechtes Bauen
DESCRIPTION:Die Veranstaltung wird von der IRR GmbH in Kooperation mit der Juniorprofessur Rezykliergerechtes Bauen der RWTH Aachen sowie der Faktor X Agentur der Entwicklungsgesellschaft Indeland GmbH organisiert. Insgesamt berichten neun Referentinnen und Referenten aus Forschung\, Wirtschaft und Politik zum neuesten Stand folgender Themenschwerpunkte: \n\nMETHODEN: Welche Bewertungsmöglichkeiten eignen sich zum Planen von kreislaufgerechten und ressourcenschonenden Bauten?\nPROJEKTE: Wie wird heute schon die Kreislaufwirtschaft im Bauwesen umgesetzt?\nAUSBLICKE: Wie wird die Zukunft des Bauens aussehen und wie können sich Regionen und Bauherren als Vorreiter beim nachhaltigen Bauen positionieren?\n\nIn der begleitenden Ausstellung werden neue kreislaufgerechte und ressourcenschonende Bauprodukte vorgestellt. Ein gemeinsamer Rundgang findet am Vormittag der Veranstaltung statt. \nNähere Informationen finden Sie hier im Programmheft.  \nAnmeldungen zur Veranstaltung bitte unter diesem Link. \nAnmeldeschluss ist der 16.06.2017
URL:https://www.recyclingmagazin.de/event/kreislaufgerechtes-bauen/
LOCATION:Depot Talstraße\, Aachen\, Deutschland
CATEGORIES:Konferenz
END:VEVENT
BEGIN:VEVENT
DTSTART;VALUE=DATE:20170710
DTEND;VALUE=DATE:20170714
DTSTAMP:20260419T210035
CREATED:20170203T122238Z
LAST-MODIFIED:20170203T122238Z
UID:354857-1499644800-1499990399@www.recyclingmagazin.de
SUMMARY:Grundlehrgang zur Erlangung der Fachkunde gemäß § 9 EfbV\, § 54 KrWG und § 5 AbfAEV
DESCRIPTION:Fachkunde für Entsorgungsfachbetriebe sowie Sammler\, Beförderer\, Händler und Makler von gefährlichen Abfällen – Bundesweit behördlich anerkannt.
URL:https://www.recyclingmagazin.de/event/grundlehrgang-zur-erlangung-der-fachkunde-gemaess-%c2%a7-9-efbv-%c2%a7-54-krwg-und-%c2%a7-5-abfaev-4/
LOCATION:BEW GmbH Bildungszentrum Duisburg\, Dr.-Detlev-Karsten-Rohwedder-Str. 70\, Duisburg\, 47228 \, Deutschland
CATEGORIES:Seminar
END:VEVENT
BEGIN:VEVENT
DTSTART;VALUE=DATE:20170710
DTEND;VALUE=DATE:20170712
DTSTAMP:20260419T210035
CREATED:20170310T124235Z
LAST-MODIFIED:20170310T124235Z
UID:355643-1499644800-1499817599@www.recyclingmagazin.de
SUMMARY:Ressource: Sie und die DNA Ihres Teams
DESCRIPTION:
URL:https://www.recyclingmagazin.de/event/ressource-sie-und-die-dna-ihres-teams/
CATEGORIES:Seminar
ORGANIZER;CN="Verband Deutscher Metallh%C3%A4ndler (VDM)":MAILTO:vdm@vdm.Berlin
END:VEVENT
BEGIN:VEVENT
DTSTART;VALUE=DATE:20170710
DTEND;VALUE=DATE:20170711
DTSTAMP:20260419T210035
CREATED:20170710T132856Z
LAST-MODIFIED:20170710T133117Z
UID:357837-1499644800-1499731199@www.recyclingmagazin.de
SUMMARY:VKU-Infotag: Die neue Gewerbeabfallverordnung
DESCRIPTION:Am 1. August 2017 tritt die novellierte Gewerbeabfallverordnung in Kraft. Die Teilnehmer erfahren aus erster Hand mehr zu den Zielen und Hintergründen der Novelle sowie zu den Erwartungen des Verordnungsgebers. Referenten aus der Praxis widmen sich den neuen Pflichten und geben Empfehlungen für die Umsetzung in den Betrieben\, denn viele Fragen zum Vollzug sind noch unbeantwortet\, wie zum Beispiel zur Durchsetzbarkeit der Pflichtrestmülltonne.
URL:https://www.recyclingmagazin.de/event/vku-infotag-die-neue-gewerbeabfallverordnung/
LOCATION:Günnewig Hotel Residence Bonn by Centro\, Kaiserplatz 11\, Bonn\, 53113\, Deutschland
CATEGORIES:Seminar
END:VEVENT
BEGIN:VEVENT
DTSTART;VALUE=DATE:20170711
DTEND;VALUE=DATE:20170713
DTSTAMP:20260419T210035
CREATED:20161206T105235Z
LAST-MODIFIED:20161206T105235Z
UID:353789-1499731200-1499903999@www.recyclingmagazin.de
SUMMARY:Crash-Kurs Abfallrecht und Abfallmanagement in der Praxis
DESCRIPTION:
URL:https://www.recyclingmagazin.de/event/crash-kurs-abfallrecht-und-abfallmanagement-in-der-praxis-2/
LOCATION:Leonardo Hotel Düsseldorf City Center\, Ludwig-Erhard-Allee 3\, Düsseldorf\, 40227\, Deutschland
CATEGORIES:Seminar
END:VEVENT
BEGIN:VEVENT
DTSTART;VALUE=DATE:20170711
DTEND;VALUE=DATE:20170713
DTSTAMP:20260419T210035
CREATED:20170203T125314Z
LAST-MODIFIED:20170203T125407Z
UID:354881-1499731200-1499903999@www.recyclingmagazin.de
SUMMARY:Fortbildungslehrgang zur Auffrischung der Fachkunde gemäß § 11 EfbV und § 5 AbfAEV (Themen: Aktuelles Abfallrecht und Nachweisverfahren)
DESCRIPTION:Aktualisierung der Fachkunde für Sammler\, Beförderer\, Händler\, Makler und Entsorger gefährlicher Abfälle — Bundesweit behördlich anerkannt.
URL:https://www.recyclingmagazin.de/event/fortbildungslehrgang-zur-auffrischung-der-fachkunde-gemaess-%c2%a7-11-efbv-und-%c2%a7-5-abfaev-themen-aktuelles-abfallrecht-und-nachweisverfahren/
LOCATION:BEW GmbH Bildungszentrum Duisburg\, Dr.-Detlev-Karsten-Rohwedder-Str. 70\, Duisburg\, 47228 \, Deutschland
CATEGORIES:Seminar
END:VEVENT
BEGIN:VEVENT
DTSTART;VALUE=DATE:20170711
DTEND;VALUE=DATE:20170713
DTSTAMP:20260419T210035
CREATED:20170317T110156Z
LAST-MODIFIED:20170317T110156Z
UID:355768-1499731200-1499903999@www.recyclingmagazin.de
SUMMARY:Energieprognosen für Strom\, Wärme und Energiepreise
DESCRIPTION:Ob in virtuellen Kraftwerken\, in der industriellen Energieversorgung\, in Wärmenetzen oder in öffentlichen konventionellen Kraftwerksverbünden\, ohne zuverlässige Prognosen kommt keiner der Bereiche aus. In dem VDI-Seminar „Energieprognosen für Strom\, Wärme und Energiepreise gezielt einsetzen“ wird aufgezeigt\, wie Energieflüsse und Energiepreise mit Prognosen kalkulierbar werden und Unsicherheiten reduziert werden können. Die Besonderheit des Seminars ist\, das die Darstellungen und Erläuterungen überwiegend anhand von Fallbeispielen erfolgen.
URL:https://www.recyclingmagazin.de/event/energieprognosen-fuer-strom-waerme-und-energiepreise-2/
LOCATION:Novotel Düsseldorf City West\, Niederkasseler Lohweg 179\, Düsseldorf\, 40547\, Deutschland
CATEGORIES:Seminar
END:VEVENT
BEGIN:VEVENT
DTSTART;VALUE=DATE:20170711
DTEND;VALUE=DATE:20170712
DTSTAMP:20260419T210035
CREATED:20170510T123415Z
LAST-MODIFIED:20170510T123415Z
UID:356544-1499731200-1499817599@www.recyclingmagazin.de
SUMMARY:Effiziente Tourenplanung: Optimierungspotentiale identifizieren und ausschöpfen
DESCRIPTION:Das Seminar gibt einen Überblick zu den Grundlagen der Planungsmethoden bis zu den wichtigsten Neuerungen im technischen wie auch im organisatorischen Bereich. Die Optimierung der logistischen Prozesse steht dabei immer im Mittelpunkt.
URL:https://www.recyclingmagazin.de/event/effiziente-tourenplanung-optimierungspotentiale-identifizieren-und-ausschoepfen-2/
LOCATION:Remondis GmbH & Co. KG – Mannheim\, Antwerpener Straße 24\, Mannheim\, 68219 \, Deutschland
CATEGORIES:Seminar
ORGANIZER;CN="BDE Bundesverband der Deutschen Entsorgungs-%2C Wasser- und Rohstoffwirtschaft":MAILTO:info@bde.de
END:VEVENT
BEGIN:VEVENT
DTSTART;VALUE=DATE:20170711
DTEND;VALUE=DATE:20170713
DTSTAMP:20260419T210035
CREATED:20170510T123552Z
LAST-MODIFIED:20170510T123552Z
UID:356546-1499731200-1499903999@www.recyclingmagazin.de
SUMMARY:Revision Qualitätsmanagementnorm ISO 9001:2015 Aktualisierung Umweltmanagementnorm DIN EN ISO 14001
DESCRIPTION:Umsetzung in die betriebliche Praxis der Entsorgungswirtschaft: beide internationalen Normen wurden kürzlich umfassend übearbeitet. Das Seminar zeigt\, wie die neuen Versionen aufgebaut sind und welche Änderungen sich ergeben. Unsicherheiten hinsichtlich des aktuellen Handlungsbedarfes und der Übergangsfristen für nach ISO 14001 zertifizierte Unternehmen werden ausgeräumt.
URL:https://www.recyclingmagazin.de/event/revision-qualitaetsmanagementnorm-iso-90012015-aktualisierung-umweltmanagementnorm-din-en-iso-14001/
LOCATION:BDE-Geschäftsstelle\, Behrenstraße 29 \, Berlin\, 10117
CATEGORIES:Seminar
ORGANIZER;CN="BDE Bundesverband der Deutschen Entsorgungs-%2C Wasser- und Rohstoffwirtschaft":MAILTO:info@bde.de
END:VEVENT
BEGIN:VEVENT
DTSTART;VALUE=DATE:20170711
DTEND;VALUE=DATE:20170712
DTSTAMP:20260419T210035
CREATED:20170510T124209Z
LAST-MODIFIED:20170602T132329Z
UID:356548-1499731200-1499817599@www.recyclingmagazin.de
SUMMARY:Kunststoffland NRW Innovationstag 2017
DESCRIPTION:Gerade beim Thema Digitalisierung ist der Schulterschluss entlang der Wertschöpfungskette besonders wichtig. Beim kunststoffland Innovationstag 2017 engagieren sich die TOP-Kunststofferzeuger aus NRW deshalb mit den mittelständischen Verarbeitern\, um sich gemeinsam für die digitale Zukunft fit zu machen. Unternehmen erhalten Gelegenheit\, sich über Praxisbeispiele erfolgreicher Prozessoptimierungen\, neue Geschäftsmodelle sowie Finanzierungsmöglichkeiten auszutauschen. Außerdem beleuchten wir mögliche Auswirkungen der Digitalisierung auf die Beschäftigten.
URL:https://www.recyclingmagazin.de/event/kunststoffland-nrw-innovationstag-2017/
LOCATION:Murtfeldt Kunststoffe GmbH & Co. KG\, Heßlingsweg 14-16\, Dortmund\, 44309\, Deutschland
CATEGORIES:Tagung
END:VEVENT
BEGIN:VEVENT
DTSTART;VALUE=DATE:20170711
DTEND;VALUE=DATE:20170712
DTSTAMP:20260419T210035
CREATED:20170602T133822Z
LAST-MODIFIED:20170602T134104Z
UID:357080-1499731200-1499817599@www.recyclingmagazin.de
SUMMARY:Grundlagen-Intensivschulung für Abfallerzeuger
DESCRIPTION:Die regelmäßig stattfindenden Intensiv-Seminare der SBB geben allen Abfallerzeugern die Möglichkeit\, die notwendigen Grundlagen bei Nachweisführung und Andienung sicher zu beherrschen. \nFolgende Themen werden besprochen: \nRechtliche Grundlagen auf EU-\, Bundes- und Landesebene\nRollen im Entsorgungsprozess\nAblauf eines Entsorgungsvorganges\n– Abfalldeklaration\n– Beantragung und Nutzung von Erzeuger-Nummern\n– Sammel- und Einzelentsorgungsnachweisverfahren\n– Kriterien für die Auswahl eines geeigneten Einsammlers/Beförderers und Entsorgers\n– Begleit- und Übernahmescheine\n– Registerführung\n– Behördliche Kriterien\n– Umgehung von „Stolpersteinen“ bei der Beantragung von Nachweisen und Zuweisungen
URL:https://www.recyclingmagazin.de/event/grundlagen-intensivschulung-fuer-abfallerzeuger/
LOCATION:SBB – Sonderabfallgesellschaft Brandenburg/Berlin mbH\, Großbeerenstraße 231\, 14480\, Potsdam\, Deutschland
CATEGORIES:Seminar
END:VEVENT
BEGIN:VEVENT
DTSTART;VALUE=DATE:20170711
DTEND;VALUE=DATE:20170712
DTSTAMP:20260419T210035
CREATED:20170613T103422Z
LAST-MODIFIED:20170613T103515Z
UID:357275-1499731200-1499817599@www.recyclingmagazin.de
SUMMARY:4. Brandschutz- und Sicherheitsseminar für Altholzanlagen
DESCRIPTION:Der BAV e. V. und der TÜV SÜD Industrie Service GmbH veranstalten am 11. Juli 2017 das 4. Brandschutz- und Sicherheitsseminar in Berlin. Im Rahmen dieser Fachtagung erhalten Sie Einblicke in die Bereiche Brandschutz\, Sicherheitstechnik und Altholzbehandlung. Weiter informieren Sie die Referenten über aktuelle Fragen zum Schutz Ihrer Altholzanlagen. Die Teilnehmer erhalten eine Teilnahmebestätigung als Fortbildungsnachweis.
URL:https://www.recyclingmagazin.de/event/4-brandschutz-und-sicherheitsseminar-fuer-altholzanlagen/
LOCATION:GLS Campus Berlin\, Kastanienallee 82\, Berlin\, 10435\, Deutschland
CATEGORIES:Tagung
END:VEVENT
BEGIN:VEVENT
DTSTART;VALUE=DATE:20170711
DTEND;VALUE=DATE:20170712
DTSTAMP:20260419T210035
CREATED:20170613T105141Z
LAST-MODIFIED:20170613T105141Z
UID:357286-1499731200-1499817599@www.recyclingmagazin.de
SUMMARY:Gewerbeabfallverordnung - Was ändert sich ab August 2017?
DESCRIPTION:Die Gewerbeabfallverordnung wird derzeit novelliert. Vorgesehen ist die Erweiterung des Anwendungsbereichs indem grundsätzlich alle gewerblichen Siedlungsabfälle von der Gewerbeabfallverordnung erfasst werden. Abfälle sollen in Zukunft soweit wie möglich getrennt erfasst werden. Außerdem sollen technische Mindestvoraussetzungen für die Anlagentechnik verbindlich vorgegeben werden. Die neuen Vorgaben sollen im August 2017 in Kraft treten.
URL:https://www.recyclingmagazin.de/event/gewerbeabfallverordnung-was-aendert-sich-ab-august-2017/
LOCATION:bvse-Bildungszentrum\, Hohe Straße 73\, Bonn\, 53119
CATEGORIES:Seminar
END:VEVENT
BEGIN:VEVENT
DTSTART;VALUE=DATE:20170712
DTEND;VALUE=DATE:20170714
DTSTAMP:20260419T210035
CREATED:20161206T111256Z
LAST-MODIFIED:20161206T125842Z
UID:353797-1499817600-1499990399@www.recyclingmagazin.de
SUMMARY:Vergabe von Entsorgungsleistungen
DESCRIPTION:
URL:https://www.recyclingmagazin.de/event/vergabe-von-entsorgungsleistungen-2/
LOCATION:Holiday Inn Berlin City West\, Rohrdamm 80\, Berlin\, 13629 \, Deutschland
CATEGORIES:Seminar
END:VEVENT
BEGIN:VEVENT
DTSTART;VALUE=DATE:20170712
DTEND;VALUE=DATE:20170714
DTSTAMP:20260419T210035
CREATED:20170317T111819Z
LAST-MODIFIED:20170317T111819Z
UID:355780-1499817600-1499990399@www.recyclingmagazin.de
SUMMARY:Kraftwerkschemie für den wirtschaftlichen Betrieb von Groß-\, Heiz- und Industriekraftwerken
DESCRIPTION:In dem 2-tägigen Seminar zum Thema Kraftwerkschemie erfahren Sie sehr praxisnah\, anhand von Schadensbeispiele\, wie Sie Schäden durch Korrosion\, Ablagerungen und Verschleiß vermeiden. Das Seminar hilft Ihnen\, Ihre Kraftwerksanlagen zukünftig sicher\, umweltfreundlich und wirtschaftlich zu betreiben und nachhaltig vor Verschleiß oder Korrosionsschäden zu schützen.
URL:https://www.recyclingmagazin.de/event/kraftwerkschemie-fuer-den-wirtschaftlichen-betrieb-von-gross-heiz-und-industriekraftwerken-2/
LOCATION:NH Berlin Alexanderplatz\, Landsberger Allee 26-32\, Berlin\, 10249 \, Deutschland
CATEGORIES:Seminar
END:VEVENT
END:VCALENDAR