BEGIN:VCALENDAR
VERSION:2.0
PRODID:-//RECYCLING magazin - ECPv6.15.20//NONSGML v1.0//EN
CALSCALE:GREGORIAN
METHOD:PUBLISH
X-ORIGINAL-URL:https://www.recyclingmagazin.de
X-WR-CALDESC:Veranstaltungen für RECYCLING magazin
REFRESH-INTERVAL;VALUE=DURATION:PT1H
X-Robots-Tag:noindex
X-PUBLISHED-TTL:PT1H
BEGIN:VTIMEZONE
TZID:Europe/Berlin
BEGIN:DAYLIGHT
TZOFFSETFROM:+0100
TZOFFSETTO:+0200
TZNAME:CEST
DTSTART:20160327T010000
END:DAYLIGHT
BEGIN:STANDARD
TZOFFSETFROM:+0200
TZOFFSETTO:+0100
TZNAME:CET
DTSTART:20161030T010000
END:STANDARD
BEGIN:DAYLIGHT
TZOFFSETFROM:+0100
TZOFFSETTO:+0200
TZNAME:CEST
DTSTART:20170326T010000
END:DAYLIGHT
BEGIN:STANDARD
TZOFFSETFROM:+0200
TZOFFSETTO:+0100
TZNAME:CET
DTSTART:20171029T010000
END:STANDARD
BEGIN:DAYLIGHT
TZOFFSETFROM:+0100
TZOFFSETTO:+0200
TZNAME:CEST
DTSTART:20180325T010000
END:DAYLIGHT
BEGIN:STANDARD
TZOFFSETFROM:+0200
TZOFFSETTO:+0100
TZNAME:CET
DTSTART:20181028T010000
END:STANDARD
END:VTIMEZONE
BEGIN:VEVENT
DTSTART;VALUE=DATE:20170201
DTEND;VALUE=DATE:20170617
DTSTAMP:20260420T025924
CREATED:20161221T083705Z
LAST-MODIFIED:20161221T083705Z
UID:354020-1485907200-1497657599@www.recyclingmagazin.de
SUMMARY:Entsorgungs- und Recyclingmanager
DESCRIPTION:Berufsbegleitende Managementausbildung mit Zertifikat (CAS) an der Universität St. Gallen\, Februar bis Juni 2017.
URL:https://www.recyclingmagazin.de/event/entsorgungs-und-recyclingmanager/
LOCATION:Universität St. Gallen\, Bodanstraße 1\, St. Gallen\, CH-9000\, Schweiz
CATEGORIES:Seminar
END:VEVENT
BEGIN:VEVENT
DTSTART;VALUE=DATE:20170502
DTEND;VALUE=DATE:20170505
DTSTAMP:20260420T025924
CREATED:20170203T141351Z
LAST-MODIFIED:20170203T141351Z
UID:354940-1493683200-1493942399@www.recyclingmagazin.de
SUMMARY:Grundlagen der Abfallwirtschaft
DESCRIPTION:Fachwissen\, Branchenkenntnisse und Praxisanwendungen für Einsteiger/-innen\, Assistenten/-innen und weitere Mitarbeiter/-innen aus der Entsorgungsbranche.
URL:https://www.recyclingmagazin.de/event/grundlagen-der-abfallwirtschaft-3/
LOCATION:BEW GmbH Bildungszentrum Duisburg\, Dr.-Detlev-Karsten-Rohwedder-Str. 70\, Duisburg\, 47228 \, Deutschland
CATEGORIES:Seminar
END:VEVENT
BEGIN:VEVENT
DTSTART;VALUE=DATE:20170502
DTEND;VALUE=DATE:20170505
DTSTAMP:20260420T025924
CREATED:20170209T131029Z
LAST-MODIFIED:20170411T134726Z
UID:355176-1493683200-1493942399@www.recyclingmagazin.de
SUMMARY:Öffentlichkeitsarbeit planen und gestalten
DESCRIPTION:Der Lehrgang richtet sich an Mitarbeiterinnen und Mitarbeiter in kommunalen Unternehmen\, die Kenntnisse über Methoden und Medien der Öffentlichkeitsarbeit erweitern und an Hand von Fallbeispielen praktisch vertiefen möchten.
URL:https://www.recyclingmagazin.de/event/355176/
LOCATION:Akademie Dr. Obladen GmbH\, Tauentziestraße 7a\, Berlin\, 10789\, Deutschland
CATEGORIES:Seminar
END:VEVENT
BEGIN:VEVENT
DTSTART;VALUE=DATE:20170502
DTEND;VALUE=DATE:20170503
DTSTAMP:20260420T025924
CREATED:20160727T133628Z
LAST-MODIFIED:20160727T133628Z
UID:351716-1493683200-1493769599@www.recyclingmagazin.de
SUMMARY:Entsorgung von Baustellenabfällen Bodenmanagement | Bauleiterschulung
DESCRIPTION:
URL:https://www.recyclingmagazin.de/event/entsorgung-von-baustellenabfaellen-bodenmanagement-bauleiterschulung-5/
LOCATION:München\, Deutschland
CATEGORIES:Seminar
END:VEVENT
BEGIN:VEVENT
DTSTART;VALUE=DATE:20170503
DTEND;VALUE=DATE:20170505
DTSTAMP:20260420T025924
CREATED:20161206T104415Z
LAST-MODIFIED:20161206T104415Z
UID:353784-1493769600-1493942399@www.recyclingmagazin.de
SUMMARY:Einführung in die rechtlichen und technischen Grundlagen der Recycling- und Entsorgungswirtschaft
DESCRIPTION:
URL:https://www.recyclingmagazin.de/event/einfuehrung-in-die-rechtlichen-und-technischen-grundlagen-der-recycling-und-entsorgungswirtschaft-9/
LOCATION:Remondis GmbH & Co. KG – Mannheim\, Antwerpener Straße 24\, Mannheim\, 68219 \, Deutschland
CATEGORIES:Seminar
ORGANIZER;CN="BDE Bundesverband der Deutschen Entsorgungs-%2C Wasser- und Rohstoffwirtschaft":MAILTO:info@bde.de
END:VEVENT
BEGIN:VEVENT
DTSTART;VALUE=DATE:20170503
DTEND;VALUE=DATE:20170505
DTSTAMP:20260420T025924
CREATED:20161223T124514Z
LAST-MODIFIED:20161223T124514Z
UID:354146-1493769600-1493942399@www.recyclingmagazin.de
SUMMARY:Kombinierter Fortbildungslehrgang
DESCRIPTION:nach § 11 Entsorgungsfachbetriebeverordnung und \nnach §§ 4 und 5 AbfAEV (vorher: BefErlV bzw. TgV) \nund für Betriebsbauftragte für Abfall
URL:https://www.recyclingmagazin.de/event/kombinierter-fortbildungslehrgang-5/
LOCATION:bvse-Bildungszentrum\, Hohe Straße 73\, Bonn\, 53119
CATEGORIES:Seminar
END:VEVENT
BEGIN:VEVENT
DTSTART;VALUE=DATE:20170503
DTEND;VALUE=DATE:20170505
DTSTAMP:20260420T025924
CREATED:20170104T141414Z
LAST-MODIFIED:20170104T141414Z
UID:354260-1493769600-1493942399@www.recyclingmagazin.de
SUMMARY:EFB-Fachkundeseminar
DESCRIPTION:
URL:https://www.recyclingmagazin.de/event/efb-fachkundeseminar-3/
LOCATION:Ingolstadt\, Deutschland
CATEGORIES:Seminar
END:VEVENT
BEGIN:VEVENT
DTSTART;VALUE=DATE:20170503
DTEND;VALUE=DATE:20170504
DTSTAMP:20260420T025924
CREATED:20170209T131251Z
LAST-MODIFIED:20170209T131251Z
UID:355178-1493769600-1493855999@www.recyclingmagazin.de
SUMMARY:Der wirtschaftliche Betriebshof
DESCRIPTION:Die Konferenz richtet sich Werk- und Betriebsleiter kommunaler Unternehmen\, Leiter Baubetriebshöfe\, leitende Angestellte sowie Personal- und Betriebsräte.
URL:https://www.recyclingmagazin.de/event/der-wirtschaftliche-betriebshof/
CATEGORIES:Seminar
END:VEVENT
BEGIN:VEVENT
DTSTART;VALUE=DATE:20170504
DTEND;VALUE=DATE:20170505
DTSTAMP:20260420T025924
CREATED:20161125T141909Z
LAST-MODIFIED:20170731T132128Z
UID:353549-1493856000-1493942399@www.recyclingmagazin.de
SUMMARY:VDM-Mitgliederversammlung 2017
DESCRIPTION:
URL:https://www.recyclingmagazin.de/event/vdm-mitgliederversammlung-3/
LOCATION:Berlin\, Deutschland
CATEGORIES:Tagung
ORGANIZER;CN="Verband Deutscher Metallh%C3%A4ndler (VDM)":MAILTO:vdm@vdm.Berlin
END:VEVENT
BEGIN:VEVENT
DTSTART;VALUE=DATE:20170504
DTEND;VALUE=DATE:20170505
DTSTAMP:20260420T025924
CREATED:20170301T150804Z
LAST-MODIFIED:20170301T150804Z
UID:355452-1493856000-1493942399@www.recyclingmagazin.de
SUMMARY:ElektroG- Was ändert sich?
DESCRIPTION:
URL:https://www.recyclingmagazin.de/event/elektrog-was-aendert-sich/
LOCATION:PÜG mbH\, Hämmerlestraße 14 + 16\, Gäufelden\, 71126 
CATEGORIES:Seminar
ORGANIZER;CN="P%C3%9CG mbh":MAILTO:info@pueg.de
END:VEVENT
BEGIN:VEVENT
DTSTART;VALUE=DATE:20170504
DTEND;VALUE=DATE:20170505
DTSTAMP:20260420T025924
CREATED:20170310T130919Z
LAST-MODIFIED:20170310T131011Z
UID:355656-1493856000-1493942399@www.recyclingmagazin.de
SUMMARY:VKU-Infotag: BWL für Nichtkaufleute
DESCRIPTION:Betriebswirtschaftliches Know-how ist in vielen Fach- und Führungspositionen unentbehrlich – besonders mit Blick auf abteilungsübergreifendes und projektbezogenes Arbeiten. \nGerade in kommunalen Unternehmen gibt es eine Vielzahl an Spezialisten mit technischem\, naturwissenschaftlichem oder juristischem Hintergrund. Nicht selten tragen viele dabei auch erstmals wirtschaftliche Verantwortung.
URL:https://www.recyclingmagazin.de/event/vku-infotag-bwl-fuer-nichtkaufleute/
LOCATION:InterCityHotel Frankfurt\, Poststraße 8\, Frankfurt am Main\, 60329 \, Deutschland
CATEGORIES:Seminar
END:VEVENT
BEGIN:VEVENT
DTSTART;VALUE=DATE:20170508
DTEND;VALUE=DATE:20170512
DTSTAMP:20260420T025924
CREATED:20170301T144039Z
LAST-MODIFIED:20170301T144039Z
UID:355409-1494201600-1494547199@www.recyclingmagazin.de
SUMMARY:Grundlehrgang zur Erlangung der Fachkunde nach § 9 EfbV und §§ 4\, 5 AbfAEV
DESCRIPTION:
URL:https://www.recyclingmagazin.de/event/grundlehrgang-zur-erlangung-der-fachkunde-nach-%c2%a7-9-efbv-und-%c2%a7%c2%a7-4-5-abfaev/
LOCATION:kenic GmbH – Akademie für Wirtschaft und Umwelt\, Linienstraße 130\, Berlin\, 10115\, Deutschland
CATEGORIES:Seminar
ORGANIZER;CN="kenic GmbH":MAILTO:info@kenic.de
END:VEVENT
BEGIN:VEVENT
DTSTART;VALUE=DATE:20170508
DTEND;VALUE=DATE:20170513
DTSTAMP:20260420T025924
CREATED:20170301T144123Z
LAST-MODIFIED:20170301T144123Z
UID:355411-1494201600-1494633599@www.recyclingmagazin.de
SUMMARY:Grundlehrgang zur Erlangung der Fachkunde Betriebsbeauftragte(r) für Abfall nach §§ 58\, 59\, 60 KrWG\, § 4 DepV\, § 11 EfbV\, §§ 4\,5 AbfAEV
DESCRIPTION:
URL:https://www.recyclingmagazin.de/event/grundlehrgang-zur-erlangung-der-fachkunde-betriebsbeauftragter-fuer-abfall-nach-%c2%a7%c2%a7-58-59-60-krwg-%c2%a7-4-depv-%c2%a7-11-efbv-%c2%a7%c2%a7-45-abfaev/
LOCATION:kenic GmbH – Akademie für Wirtschaft und Umwelt\, Linienstraße 130\, Berlin\, 10115\, Deutschland
CATEGORIES:Seminar
ORGANIZER;CN="kenic GmbH":MAILTO:info@kenic.de
END:VEVENT
BEGIN:VEVENT
DTSTART;VALUE=DATE:20170508
DTEND;VALUE=DATE:20170512
DTSTAMP:20260420T025924
CREATED:20170310T114924Z
LAST-MODIFIED:20170310T114924Z
UID:355617-1494201600-1494547199@www.recyclingmagazin.de
SUMMARY:Grundlehrgang zur Erlangung der Fachkunde im Sinne der § 9 EfbV und §§ 4\, 5 AbfAEV
DESCRIPTION:
URL:https://www.recyclingmagazin.de/event/grundlehrgang-zur-erlangung-der-fachkunde-im-sinne-der-%c2%a7-9-efbv-und-%c2%a7%c2%a7-4-5-abfaev/
LOCATION:kenic GmbH – Akademie für Wirtschaft und Umwelt\, Linienstraße 130\, Berlin\, 10115\, Deutschland
CATEGORIES:Seminar
ORGANIZER;CN="BDE Bundesverband der Deutschen Entsorgungs-%2C Wasser- und Rohstoffwirtschaft":MAILTO:info@bde.de
END:VEVENT
BEGIN:VEVENT
DTSTART;VALUE=DATE:20170509
DTEND;VALUE=DATE:20170510
DTSTAMP:20260420T025924
CREATED:20161223T112942Z
LAST-MODIFIED:20161223T112942Z
UID:354061-1494288000-1494374399@www.recyclingmagazin.de
SUMMARY:Chemisches Grundlagenwissen für Mitarbeiter in Unternehmen der Recycling- und Entsorgungswirtschaft
DESCRIPTION:
URL:https://www.recyclingmagazin.de/event/chemisches-grundlagenwissen-fuer-mitarbeiter-in-unternehmen-der-recycling-und-entsorgungswirtschaft-5/
LOCATION:Hotel Krauthof\, Beihingerstraße 27\, Ludwigsburg \, 71642\, Deutschland
CATEGORIES:Seminar
ORGANIZER;CN="BDE Bundesverband der Deutschen Entsorgungs-%2C Wasser- und Rohstoffwirtschaft":MAILTO:info@bde.de
END:VEVENT
BEGIN:VEVENT
DTSTART;VALUE=DATE:20170509
DTEND;VALUE=DATE:20170510
DTSTAMP:20260420T025924
CREATED:20161223T113249Z
LAST-MODIFIED:20161223T113249Z
UID:354068-1494288000-1494374399@www.recyclingmagazin.de
SUMMARY:Probenahme fester Abfälle auf Basis der LAGA Richtlinie PN 98 und der DIN EN 932-1
DESCRIPTION:
URL:https://www.recyclingmagazin.de/event/probenahme-fester-abfaelle-auf-basis-der-laga-richtlinie-pn-98-und-der-din-en-932-1-2/
LOCATION:Alba Berlin GmbH\, Marzahner Straße 35\, Berlin \, 13053\, Deutschland
CATEGORIES:Seminar
ORGANIZER;CN="BDE Bundesverband der Deutschen Entsorgungs-%2C Wasser- und Rohstoffwirtschaft":MAILTO:info@bde.de
END:VEVENT
BEGIN:VEVENT
DTSTART;VALUE=DATE:20170509
DTEND;VALUE=DATE:20170510
DTSTAMP:20260420T025924
CREATED:20170104T153346Z
LAST-MODIFIED:20170104T153346Z
UID:354329-1494288000-1494374399@www.recyclingmagazin.de
SUMMARY:Produktionsintegrierter Umweltschutz (PIUS)
DESCRIPTION:
URL:https://www.recyclingmagazin.de/event/produktionsintegrierter-umweltschutz-pius/
LOCATION:Birkenfeld\, Deutschland
CATEGORIES:Seminar
END:VEVENT
BEGIN:VEVENT
DTSTART;VALUE=DATE:20170509
DTEND;VALUE=DATE:20170511
DTSTAMP:20260420T025924
CREATED:20170203T150443Z
LAST-MODIFIED:20170203T150443Z
UID:354958-1494288000-1494460799@www.recyclingmagazin.de
SUMMARY:Neuigkeiten für Abfallbeauftragte (Fortbildungslehrgang)
DESCRIPTION:2-tägiges Seminar zur Auffrischung der Fachkunde im Sinne der §§ 59 und 60 Kreislaufwirtschaftsgesetz (KrWG).
URL:https://www.recyclingmagazin.de/event/neuigkeiten-fuer-abfallbeauftragte-fortbildungslehrgang-2/
LOCATION:BEW GmbH Bildungszentrum Duisburg\, Dr.-Detlev-Karsten-Rohwedder-Str. 70\, Duisburg\, 47228 \, Deutschland
CATEGORIES:Seminar
END:VEVENT
BEGIN:VEVENT
DTSTART;VALUE=DATE:20170509
DTEND;VALUE=DATE:20170510
DTSTAMP:20260420T025924
CREATED:20170301T151348Z
LAST-MODIFIED:20170301T151348Z
UID:355456-1494288000-1494374399@www.recyclingmagazin.de
SUMMARY:Fachkonferenz Sammeln\, Verwerten und Entsorgen von Sperrmüll
DESCRIPTION:
URL:https://www.recyclingmagazin.de/event/fachkonferenz-sammeln-verwerten-und-entsorgen-von-sperrmuell-2/
LOCATION:Leonardo Hotel Heidelberg\,  Bergheimer Straße 63\, Heidelberg\, 69115
CATEGORIES:Konferenz
END:VEVENT
BEGIN:VEVENT
DTSTART;VALUE=DATE:20170509
DTEND;VALUE=DATE:20170510
DTSTAMP:20260420T025924
CREATED:20170310T120252Z
LAST-MODIFIED:20170310T120252Z
UID:355621-1494288000-1494374399@www.recyclingmagazin.de
SUMMARY:Datenschutz-Grundverordnung
DESCRIPTION:
URL:https://www.recyclingmagazin.de/event/datenschutz-grundverordnung-2/
LOCATION:Stadthotel am Römerturm\, St. Apern-Str. 32\, Köln\, 50667 
CATEGORIES:Seminar
ORGANIZER;CN="BDE Bundesverband der Deutschen Entsorgungs-%2C Wasser- und Rohstoffwirtschaft":MAILTO:info@bde.de
END:VEVENT
BEGIN:VEVENT
DTSTART;VALUE=DATE:20170509
DTEND;VALUE=DATE:20170510
DTSTAMP:20260420T025924
CREATED:20170310T125256Z
LAST-MODIFIED:20170310T125730Z
UID:355648-1494288000-1494374399@www.recyclingmagazin.de
SUMMARY:VKU-Infotag: Kundenservice in kommunalen Unternehmen professionalisieren
DESCRIPTION:Ein wesentlicher Wettbewerbsvorteil kommunaler Unternehmen bildet zweifellos ihre Kundennähe. Motivierte und geschulte Mitarbeiterinnen und Mitarbeiter im Kundenservice sind dabei ein Schlüssel zum Erfolg. Für eine zeitgemäße Kundenansprache stellt sich die Frage\, auf welchen Kanälen funken welche Kunden? Mit welchen Maßnahmen und neuen Prozessen kann die Digitalisierung des Kundenservices erfolgreich gelingen? Wie können gerade Mehrspartenunternehmen mit kompletten „Umsorger-Angeboten“ Kunden für sich gewinnen?
URL:https://www.recyclingmagazin.de/event/vku-infotag-kundenservice-in-kommunalen-unternehmen-professionalisieren/
LOCATION:Radisson Blu Dortmund\, An der Buschmühle 1\, Dortmund\, 44139
CATEGORIES:Seminar
END:VEVENT
BEGIN:VEVENT
DTSTART;VALUE=DATE:20170509
DTEND;VALUE=DATE:20170513
DTSTAMP:20260420T025924
CREATED:20170407T112004Z
LAST-MODIFIED:20170407T112040Z
UID:356121-1494288000-1494633599@www.recyclingmagazin.de
SUMMARY:Trainingsprogramm 2017: Abfallsammelfahrzeuge
DESCRIPTION:
URL:https://www.recyclingmagazin.de/event/abfallsammelfahrzeuge-2/
LOCATION:FAUN Umwelttechnik GmbH |12| Co. KG – Werk Osterholz\, Feldhorst 4\, Osterholz-Scharmbeck \, 27711\, Deutschland
CATEGORIES:Seminar
END:VEVENT
BEGIN:VEVENT
DTSTART;VALUE=DATE:20170509
DTEND;VALUE=DATE:20170510
DTSTAMP:20260420T025924
CREATED:20160906T092121Z
LAST-MODIFIED:20170301T143600Z
UID:352161-1494288000-1494374399@www.recyclingmagazin.de
SUMMARY:Altersgerechtes Arbeiten in der Müllabfuhr
DESCRIPTION:
URL:https://www.recyclingmagazin.de/event/altersgerechtes-arbeiten-in-der-muellabfuhr-2/
LOCATION:InterCityHotel Essen\, Hachestraße 10\, Essen\, 45127\, Deutschland
CATEGORIES:Seminar
END:VEVENT
BEGIN:VEVENT
DTSTART;VALUE=DATE:20170509
DTEND;VALUE=DATE:20170510
DTSTAMP:20260420T025924
CREATED:20160906T102241Z
LAST-MODIFIED:20160906T102241Z
UID:352238-1494288000-1494374399@www.recyclingmagazin.de
SUMMARY:Abfallrecht aktuell
DESCRIPTION:
URL:https://www.recyclingmagazin.de/event/abfallrecht-aktuell-3/
LOCATION:Radisson Blu Dortmund\, An der Buschmühle 1\, Dortmund\, 44139
CATEGORIES:Seminar
ORGANIZER;CN="Concada":MAILTO:info@concada.de
END:VEVENT
BEGIN:VEVENT
DTSTART;VALUE=DATE:20170510
DTEND;VALUE=DATE:20170511
DTSTAMP:20260420T025924
CREATED:20161125T133204Z
LAST-MODIFIED:20161125T133204Z
UID:353498-1494374400-1494460799@www.recyclingmagazin.de
SUMMARY:Das künftige Verpackungsgesetz und die Wertstofftonne
DESCRIPTION:
URL:https://www.recyclingmagazin.de/event/das-kuenftige-verpackungsgesetz-und-die-wertstofftonne/
LOCATION:InterCity Hotel Hannover\, Rosenstraße 1\, Hannover\, 30159\, Deutschland
CATEGORIES:Seminar
END:VEVENT
BEGIN:VEVENT
DTSTART;VALUE=DATE:20170510
DTEND;VALUE=DATE:20170513
DTSTAMP:20260420T025924
CREATED:20170310T103115Z
LAST-MODIFIED:20170310T103115Z
UID:355594-1494374400-1494633599@www.recyclingmagazin.de
SUMMARY:Ausbildung zum Brandschutzbeauftragen
DESCRIPTION:
URL:https://www.recyclingmagazin.de/event/ausbildung-zum-brandschutzbeauftragen-2/
LOCATION:SUHM\, Hämmerlestraße 14 + 16\, Gäufelden\, 71126\, Deutschland
CATEGORIES:Seminar
ORGANIZER;CN="SUHM":MAILTO:info@suhm.info
END:VEVENT
BEGIN:VEVENT
DTSTART;VALUE=DATE:20170510
DTEND;VALUE=DATE:20170511
DTSTAMP:20260420T025924
CREATED:20170310T120406Z
LAST-MODIFIED:20170310T120406Z
UID:355623-1494374400-1494460799@www.recyclingmagazin.de
SUMMARY:Probenahme flüssiger Abfälle
DESCRIPTION:
URL:https://www.recyclingmagazin.de/event/probenahme-fluessiger-abfaelle/
LOCATION:BDE-Geschäftsstelle\, Behrenstraße 29 \, Berlin\, 10117
CATEGORIES:Seminar
ORGANIZER;CN="BDE Bundesverband der Deutschen Entsorgungs-%2C Wasser- und Rohstoffwirtschaft":MAILTO:info@bde.de
END:VEVENT
BEGIN:VEVENT
DTSTART;VALUE=DATE:20170510
DTEND;VALUE=DATE:20170512
DTSTAMP:20260420T025924
CREATED:20170317T112517Z
LAST-MODIFIED:20170317T112517Z
UID:355789-1494374400-1494547199@www.recyclingmagazin.de
SUMMARY:Stationäre Batteriespeicher - sicher und wirtschaftlich
DESCRIPTION:Im Seminar „Stationäre Batteriespeicher“ lernen Sie aktuelle Batterietechnologien für den stationären Einsatz kennen. Die Anwenderweiterbildung versetzt Sie in die Lage\, zuverlässig sichere von unsicheren Batteriespeichern zu unterscheiden. Zudem wissen Sie nach dem Seminar\, wie Sie wirtschaftliche Speichersysteme nach EEG Novelle gestalten.
URL:https://www.recyclingmagazin.de/event/stationaere-batteriespeicher-sicher-und-wirtschaftlich/
LOCATION:NH Frankfurt Airport West (ehemals Rhein-Main)\, Kelsterbacher Str. 19-21\, Raunheim\, 65479\, Deutschland
CATEGORIES:Seminar
END:VEVENT
BEGIN:VEVENT
DTSTART;VALUE=DATE:20170510
DTEND;VALUE=DATE:20170511
DTSTAMP:20260420T025924
CREATED:20170419T112959Z
LAST-MODIFIED:20170419T112959Z
UID:356269-1494374400-1494460799@www.recyclingmagazin.de
SUMMARY:Novelle der Gewerbeabfallverordnung
DESCRIPTION:Die GewerbeabfallVO\, die am 1. August in Kraft treten wird\, stellt Entsorger und Anlagenbetreiber vor neue Herausforderungen. Sie bietet die Chance für deutlich mehr Recycling\, wenn auch der Vollzug seine Aufgaben endlich wahrnimmt. \nFür die Mitgliedsunternehmen des BDE ist die neue Verordnung das zentrale Verordnungsvorhaben der zu Ende gehenden Legislaturperiode. Die verbleibenden Monate sollten genutzt werden\, um Entsorger und Kunden auf die Änderungen optimal vorzubereiten.
URL:https://www.recyclingmagazin.de/event/novelle-der-gewerbeabfallverordnung-3/
LOCATION:Best Western Hotel Domicil\, Thomas-Mann-Straße 24-26\, Bonn\, 53111\, Deutschland
CATEGORIES:Seminar
ORGANIZER;CN="BDE Bundesverband der Deutschen Entsorgungs-%2C Wasser- und Rohstoffwirtschaft":MAILTO:info@bde.de
END:VEVENT
BEGIN:VEVENT
DTSTART;VALUE=DATE:20170510
DTEND;VALUE=DATE:20170511
DTSTAMP:20260420T025924
CREATED:20160906T101937Z
LAST-MODIFIED:20160906T101937Z
UID:352234-1494374400-1494460799@www.recyclingmagazin.de
SUMMARY:Abfallwirtschaft für Quereinsteiger
DESCRIPTION:
URL:https://www.recyclingmagazin.de/event/abfallwirtschaft-fuer-quereinsteiger-3/
LOCATION:Radisson Blu Dortmund\, An der Buschmühle 1\, Dortmund\, 44139
CATEGORIES:Seminar
ORGANIZER;CN="Concada":MAILTO:info@concada.de
END:VEVENT
END:VCALENDAR