BEGIN:VCALENDAR
VERSION:2.0
PRODID:-//RECYCLING magazin - ECPv6.15.20//NONSGML v1.0//EN
CALSCALE:GREGORIAN
METHOD:PUBLISH
X-WR-CALNAME:RECYCLING magazin
X-ORIGINAL-URL:https://www.recyclingmagazin.de
X-WR-CALDESC:Veranstaltungen für RECYCLING magazin
REFRESH-INTERVAL;VALUE=DURATION:PT1H
X-Robots-Tag:noindex
X-PUBLISHED-TTL:PT1H
BEGIN:VTIMEZONE
TZID:Europe/Berlin
BEGIN:DAYLIGHT
TZOFFSETFROM:+0100
TZOFFSETTO:+0200
TZNAME:CEST
DTSTART:20160327T010000
END:DAYLIGHT
BEGIN:STANDARD
TZOFFSETFROM:+0200
TZOFFSETTO:+0100
TZNAME:CET
DTSTART:20161030T010000
END:STANDARD
BEGIN:DAYLIGHT
TZOFFSETFROM:+0100
TZOFFSETTO:+0200
TZNAME:CEST
DTSTART:20170326T010000
END:DAYLIGHT
BEGIN:STANDARD
TZOFFSETFROM:+0200
TZOFFSETTO:+0100
TZNAME:CET
DTSTART:20171029T010000
END:STANDARD
BEGIN:DAYLIGHT
TZOFFSETFROM:+0100
TZOFFSETTO:+0200
TZNAME:CEST
DTSTART:20180325T010000
END:DAYLIGHT
BEGIN:STANDARD
TZOFFSETFROM:+0200
TZOFFSETTO:+0100
TZNAME:CET
DTSTART:20181028T010000
END:STANDARD
END:VTIMEZONE
BEGIN:VEVENT
DTSTART;VALUE=DATE:20170201
DTEND;VALUE=DATE:20170617
DTSTAMP:20260420T043608
CREATED:20161221T083705Z
LAST-MODIFIED:20161221T083705Z
UID:354020-1485907200-1497657599@www.recyclingmagazin.de
SUMMARY:Entsorgungs- und Recyclingmanager
DESCRIPTION:Berufsbegleitende Managementausbildung mit Zertifikat (CAS) an der Universität St. Gallen\, Februar bis Juni 2017.
URL:https://www.recyclingmagazin.de/event/entsorgungs-und-recyclingmanager/
LOCATION:Universität St. Gallen\, Bodanstraße 1\, St. Gallen\, CH-9000\, Schweiz
CATEGORIES:Seminar
END:VEVENT
BEGIN:VEVENT
DTSTART;VALUE=DATE:20170331
DTEND;VALUE=DATE:20170409
DTSTAMP:20260420T043608
CREATED:20160906T101319Z
LAST-MODIFIED:20160906T101319Z
UID:352224-1490918400-1491695999@www.recyclingmagazin.de
SUMMARY:Fachkundelehrgang für Entsorgungsfachbetriebe und zur Erlangung der für Sammler\, Beförderer\, Händler und Makler Teil 1 + 2
DESCRIPTION:
URL:https://www.recyclingmagazin.de/event/fachkundelehrgang-fuer-entsorgungsfachbetriebe-und-zur-erlangung-der-fuer-sammler-befoerderer-haendler-und-makler-teil-1-2-2/
LOCATION:Radisson Blu Dortmund\, An der Buschmühle 1\, Dortmund\, 44139
CATEGORIES:Seminar
ORGANIZER;CN="Concada":MAILTO:info@concada.de
END:VEVENT
BEGIN:VEVENT
DTSTART;VALUE=DATE:20170401
DTEND;VALUE=DATE:20170402
DTSTAMP:20260420T043608
CREATED:20170111T145309Z
LAST-MODIFIED:20170111T145414Z
UID:354464-1491004800-1491091199@www.recyclingmagazin.de
SUMMARY:Fernstudienkurs „Deutsches Umweltrecht
DESCRIPTION:Im Sommersemester 2017 bietet die Universität Koblenz-Landau einen berufsbegleitenden Fernstudienkurs „Deutsches Umweltrecht“ an. Der Kurs startet am 1. April 2017\, Anmeldeschluss ist der 15. März 2017.
URL:https://www.recyclingmagazin.de/event/fernstudienkurs-deutsches-umweltrecht/
LOCATION:Universität Koblenz-Landau\, Universitätsstraße 1\, Koblenz\, 56070 \, Deutschland
CATEGORIES:Seminar
END:VEVENT
BEGIN:VEVENT
DTSTART;VALUE=DATE:20170403
DTEND;VALUE=DATE:20170404
DTSTAMP:20260420T043608
CREATED:20170104T124541Z
LAST-MODIFIED:20170104T124541Z
UID:354220-1491177600-1491263999@www.recyclingmagazin.de
SUMMARY:Der Disponent - Eine Schlüsselposition in der Entsorgungswirtschaft
DESCRIPTION:
URL:https://www.recyclingmagazin.de/event/der-disponent-eine-schluesselposition-in-der-entsorgungswirtschaft-3/
LOCATION:Hotel Krauthof\, Beihingerstraße 27\, Ludwigsburg \, 71642\, Deutschland
CATEGORIES:Seminar
ORGANIZER;CN="BDE Bundesverband der Deutschen Entsorgungs-%2C Wasser- und Rohstoffwirtschaft":MAILTO:info@bde.de
END:VEVENT
BEGIN:VEVENT
DTSTART;VALUE=DATE:20170403
DTEND;VALUE=DATE:20170404
DTSTAMP:20260420T043608
CREATED:20170104T144924Z
LAST-MODIFIED:20170104T144924Z
UID:354294-1491177600-1491263999@www.recyclingmagazin.de
SUMMARY:Dual-Use: Export- und Embargorecht
DESCRIPTION:
URL:https://www.recyclingmagazin.de/event/dual-use-export-und-embargorecht/
LOCATION:Berlin\, Deutschland
CATEGORIES:Seminar
ORGANIZER;CN="Verband Deutscher Metallh%C3%A4ndler (VDM)":MAILTO:vdm@vdm.Berlin
END:VEVENT
BEGIN:VEVENT
DTSTART;VALUE=DATE:20170403
DTEND;VALUE=DATE:20170404
DTSTAMP:20260420T043608
CREATED:20170207T104025Z
LAST-MODIFIED:20170207T104025Z
UID:355070-1491177600-1491263999@www.recyclingmagazin.de
SUMMARY:Die korrekte betriebliche Unterweisung
DESCRIPTION:Die Sachkundevermittlung an Mitarbeiter dient der Führsorgepflicht\, und sichert Qualität und Wirtschaftlichkeit der Arbeitsabläufe. Welche Mindestanforderungen zu erfüllen sind\, wie Unterweisungen effektiv und zielführend gestaltet werden können und welcher formale Rahmen/Dokumentationspflichten eingehalten werden muss\, zeigt das Seminar.
URL:https://www.recyclingmagazin.de/event/die-korrekte-betriebliche-unterweisung/
LOCATION:SASE Iserlohn\, Max-Planck-Str. 11\, Iserlohn\, 58638
CATEGORIES:Seminar
ORGANIZER;CN="BDE Bundesverband der Deutschen Entsorgungs-%2C Wasser- und Rohstoffwirtschaft":MAILTO:info@bde.de
END:VEVENT
BEGIN:VEVENT
DTSTART;VALUE=DATE:20170404
DTEND;VALUE=DATE:20170405
DTSTAMP:20260420T043608
CREATED:20161125T131940Z
LAST-MODIFIED:20161125T131940Z
UID:353495-1491264000-1491350399@www.recyclingmagazin.de
SUMMARY:Sachkunde zur Prüfung von Absetz-\, Abrollbehältern und Abfallpressen
DESCRIPTION:
URL:https://www.recyclingmagazin.de/event/sachkunde-zur-pruefung-von-absetz-abrollbehaeltern-und-abfallpressen-5/
LOCATION:SASE gGmbH\, Max-Planck-Straße 11\, Iserlohn\, 58638 \, Deutschland
CATEGORIES:Seminar
ORGANIZER;CN="BDE Bundesverband der Deutschen Entsorgungs-%2C Wasser- und Rohstoffwirtschaft":MAILTO:info@bde.de
END:VEVENT
BEGIN:VEVENT
DTSTART;VALUE=DATE:20170404
DTEND;VALUE=DATE:20170405
DTSTAMP:20260420T043608
CREATED:20170203T152019Z
LAST-MODIFIED:20170203T152019Z
UID:354988-1491264000-1491350399@www.recyclingmagazin.de
SUMMARY:Brandschutz in der Entsorgungs- und Recyclingwirtschaft
DESCRIPTION:Kompaktseminar zur Vermeidung von Bränden und zu wirkungsvollen Vorsorgemaßnahmen\, falls es dennoch zu einem Brand kommt.
URL:https://www.recyclingmagazin.de/event/brandschutz-in-der-entsorgungs-und-recyclingwirtschaft-2/
LOCATION:BEW GmbH Bildungszentrum Duisburg\, Dr.-Detlev-Karsten-Rohwedder-Str. 70\, Duisburg\, 47228 \, Deutschland
CATEGORIES:Seminar
END:VEVENT
BEGIN:VEVENT
DTSTART;VALUE=DATE:20170404
DTEND;VALUE=DATE:20170405
DTSTAMP:20260420T043608
CREATED:20170203T152639Z
LAST-MODIFIED:20170203T152639Z
UID:354996-1491264000-1491350399@www.recyclingmagazin.de
SUMMARY:Datenschutz in Unternehmen der Entsorgungs- und Recyclingwirtschaft
DESCRIPTION:Workshop zur Wissensvertiefung und zum Erhalt der Fachkunde des Datenschutzbeauftragten gemäß §4f Abs. 3 Bundesdatenschutzgesetz.
URL:https://www.recyclingmagazin.de/event/datenschutz-in-unternehmen-der-entsorgungs-und-recyclingwirtschaft/
LOCATION:BEW GmbH Bildungszentrum Duisburg\, Dr.-Detlev-Karsten-Rohwedder-Str. 70\, Duisburg\, 47228 \, Deutschland
CATEGORIES:Workshop
END:VEVENT
BEGIN:VEVENT
DTSTART;VALUE=DATE:20170404
DTEND;VALUE=DATE:20170406
DTSTAMP:20260420T043608
CREATED:20170203T154834Z
LAST-MODIFIED:20170203T154834Z
UID:355015-1491264000-1491436799@www.recyclingmagazin.de
SUMMARY:Umwelt- und Umfeldgerechte Kunststoffverpackungen
DESCRIPTION:Unbestritten sind Kunststoffverpackungen praktisch\, preiswert und sicher\, aber sind sie auch umweltgerecht und nachhaltig? Mit dieser Frage beschäftigt sich eine Fachtagung des Kunststoff-Zentrums SKZ (Würzburg).
URL:https://www.recyclingmagazin.de/event/umwelt-und-umfeldgerechte-kunststoffverpackungen/
LOCATION:Tagungszentrum Festung Marienberg\, Oberer Burgweg \, Würzburg \, 97082\, Deutschland
CATEGORIES:Tagung
END:VEVENT
BEGIN:VEVENT
DTSTART;VALUE=DATE:20170404
DTEND;VALUE=DATE:20170405
DTSTAMP:20260420T043608
CREATED:20170207T104159Z
LAST-MODIFIED:20170207T104159Z
UID:355072-1491264000-1491350399@www.recyclingmagazin.de
SUMMARY:Effiziente Mitarbeiterführung
DESCRIPTION:
URL:https://www.recyclingmagazin.de/event/effiziente-mitarbeiterfuehrung-2/
LOCATION:Hotel Krauthof\, Beihingerstraße 27\, Ludwigsburg \, 71642\, Deutschland
CATEGORIES:Seminar
ORGANIZER;CN="BDE Bundesverband der Deutschen Entsorgungs-%2C Wasser- und Rohstoffwirtschaft":MAILTO:info@bde.de
END:VEVENT
BEGIN:VEVENT
DTSTART;VALUE=DATE:20170404
DTEND;VALUE=DATE:20170405
DTSTAMP:20260420T043608
CREATED:20170207T104354Z
LAST-MODIFIED:20170207T104354Z
UID:355075-1491264000-1491350399@www.recyclingmagazin.de
SUMMARY:Update Immissionsschutzrecht - rund um Genehmigung\, Betrieb und Kontrolle
DESCRIPTION:Praxisnaher Überblick zu allen für Anlagenbetreiber relevanten rechtlichen Änderungen im Immissionsschutzrecht (u.a. Novellierung der TA-Luft) sowie im anlagenbezogenen Gewässerschutz und der Bundesverordnung über Anlagen zum Umgang mit wassergefährdenden Stoffen.
URL:https://www.recyclingmagazin.de/event/update-immissionsschutzrecht-rund-um-genehmigung-betrieb-und-kontrolle/
LOCATION:Stadthotel am Römerturm\, St. Apern-Str. 32\, Köln\, 50667 
CATEGORIES:Seminar
ORGANIZER;CN="BDE Bundesverband der Deutschen Entsorgungs-%2C Wasser- und Rohstoffwirtschaft":MAILTO:info@bde.de
END:VEVENT
BEGIN:VEVENT
DTSTART;VALUE=DATE:20170404
DTEND;VALUE=DATE:20170405
DTSTAMP:20260420T043608
CREATED:20170207T104629Z
LAST-MODIFIED:20170207T104629Z
UID:355077-1491264000-1491350399@www.recyclingmagazin.de
SUMMARY:Rechtliche Neuerungen rund um den Abfalltransport
DESCRIPTION:Arbeitszeit-\, Straßenverkehrs-\, Güterkraftverkehrsrecht und Berufskraftfahrerqualifikation stellen Disponenten\, Fuhrpark- und Einsatzleiter immer wieder vor die Herausforderung\, ihren Wissensstand regelmäßig zu aktualisieren. Das Seminar gibt Ihnen kompakt und praxisbezogen einen aktuellen Stand zum rechtlichen Rahmen.
URL:https://www.recyclingmagazin.de/event/rechtliche-neuerungen-rund-um-den-abfalltransport-7/
LOCATION:Karl-Meyer-Akademie GmbH\, Ellerholzweg 18-28\, Hamburg\, 21107\, Deutschland
CATEGORIES:Seminar
ORGANIZER;CN="BDE Bundesverband der Deutschen Entsorgungs-%2C Wasser- und Rohstoffwirtschaft":MAILTO:info@bde.de
END:VEVENT
BEGIN:VEVENT
DTSTART;VALUE=DATE:20170404
DTEND;VALUE=DATE:20170405
DTSTAMP:20260420T043608
CREATED:20170208T143213Z
LAST-MODIFIED:20170208T143213Z
UID:355152-1491264000-1491350399@www.recyclingmagazin.de
SUMMARY:Tourenplanung
DESCRIPTION:Das Seminar richtet sich an Einsatzleiter und Disponenten in kommunalen und privaten Entsorgungsunternehmen sowie an Führungskräfte in den Bereichen Organisation\, Personal und betriebliches Gesundheitsmanagement (BGM).
URL:https://www.recyclingmagazin.de/event/tourenplanung/
LOCATION:Qube Heidelberg GmbH\, Bergheimer Straße 74\, Heidelberg\, 69115 \, Deutschland
CATEGORIES:Seminar
END:VEVENT
BEGIN:VEVENT
DTSTART;VALUE=DATE:20170404
DTEND;VALUE=DATE:20170406
DTSTAMP:20260420T043608
CREATED:20170310T102756Z
LAST-MODIFIED:20170310T102756Z
UID:355590-1491264000-1491436799@www.recyclingmagazin.de
SUMMARY:Fortbildung gemäß EfbV/AbfAEV\, für Abfall- und Immissionsschutzbeauftragte
DESCRIPTION:
URL:https://www.recyclingmagazin.de/event/fortbildung-gemaess-efbvabfaev-fuer-abfall-und-immissionsschutzbeauftragte-3/
LOCATION:SUHM\, Hämmerlestraße 14 + 16\, Gäufelden\, 71126\, Deutschland
CATEGORIES:Seminar
ORGANIZER;CN="SUHM":MAILTO:info@suhm.info
END:VEVENT
BEGIN:VEVENT
DTSTART;VALUE=DATE:20170404
DTEND;VALUE=DATE:20170406
DTSTAMP:20260420T043608
CREATED:20170317T105332Z
LAST-MODIFIED:20170317T105332Z
UID:355762-1491264000-1491436799@www.recyclingmagazin.de
SUMMARY:Gerüche in der Außenluft
DESCRIPTION:
URL:https://www.recyclingmagazin.de/event/gerueche-in-der-aussenluft/
CATEGORIES:Seminar
END:VEVENT
BEGIN:VEVENT
DTSTART;VALUE=DATE:20170404
DTEND;VALUE=DATE:20170406
DTSTAMP:20260420T043608
CREATED:20170317T105437Z
LAST-MODIFIED:20170317T105601Z
UID:355764-1491264000-1491436799@www.recyclingmagazin.de
SUMMARY:Stillstands- und Revisionsplanungen in Müllheizkraftwerken
DESCRIPTION:
URL:https://www.recyclingmagazin.de/event/stillstands-und-revisionsplanungen-in-muellheizkraftwerken/
CATEGORIES:Seminar
END:VEVENT
BEGIN:VEVENT
DTSTART;VALUE=DATE:20170404
DTEND;VALUE=DATE:20170406
DTSTAMP:20260420T043608
CREATED:20170317T105915Z
LAST-MODIFIED:20170317T105915Z
UID:355766-1491264000-1491436799@www.recyclingmagazin.de
SUMMARY:Energieprognosen für Strom\, Wärme und Energiepreise
DESCRIPTION:Ob in virtuellen Kraftwerken\, in der industriellen Energieversorgung\, in Wärmenetzen oder in öffentlichen konventionellen Kraftwerksverbünden\, ohne zuverlässige Prognosen kommt keiner der Bereiche aus. In dem VDI-Seminar „Energieprognosen für Strom\, Wärme und Energiepreise gezielt einsetzen“ wird aufgezeigt\, wie Energieflüsse und Energiepreise mit Prognosen kalkulierbar werden und Unsicherheiten reduziert werden können. Die Besonderheit des Seminars ist\, das die Darstellungen und Erläuterungen überwiegend anhand von Fallbeispielen erfolgen.
URL:https://www.recyclingmagazin.de/event/energieprognosen-fuer-strom-waerme-und-energiepreise/
CATEGORIES:Seminar
END:VEVENT
BEGIN:VEVENT
DTSTART;VALUE=DATE:20170404
DTEND;VALUE=DATE:20170405
DTSTAMP:20260420T043608
CREATED:20170317T114304Z
LAST-MODIFIED:20170317T114321Z
UID:355808-1491264000-1491350399@www.recyclingmagazin.de
SUMMARY:Abfallgebührenseminar
DESCRIPTION:Das Seminar hat das Ziel\, auf der Grundlage der aktuellen Rechtsprechung Hinweise zu der gerichtsfesten Ausgestaltung der Gebührensatzung und der Abfallgebührenkalkulation zu geben. Gleichzeitig sollen Möglichkeiten\, Spielräume und Folgewirkungen bei der Ausgestaltung von Abfallgebührenmodellen und der Gebührenkalkulation auch anhand praktischer Beispiele erörtert werden.
URL:https://www.recyclingmagazin.de/event/abfallgebuehrenseminar/
LOCATION:Akademie Dr. Obladen GmbH\, Tauentziestraße 7a\, Berlin\, 10789\, Deutschland
CATEGORIES:Seminar
END:VEVENT
BEGIN:VEVENT
DTSTART;VALUE=DATE:20170404
DTEND;VALUE=DATE:20170405
DTSTAMP:20260420T043608
CREATED:20170317T114511Z
LAST-MODIFIED:20170317T114511Z
UID:355810-1491264000-1491350399@www.recyclingmagazin.de
SUMMARY:Sachkundiger (befähigte Person) gemäß DGUV Vorschrift 70
DESCRIPTION:Die Teilnehmer lernen die Betriebssicherheit von Abfallsammelfahrzeugen zu beurteilen. Nach der Teilnahme an diesem Lehrgang können sie als Sachkundiger einen Fahrzeugaufbau mit Presswerk und Lifter eigenständig prüfen. Der Referent veranschaulicht die einzelnen Prüfungsschritte direkt vor Abfallsammelfahrzeugen\, die am Lehrgangstag zur Verfügung stehen. Hierbei geht er auch auf Erkenntnisse über Unfallgefahren für das Instandhaltungspersonal und für Lader ein. Insofern dient der Lehrgang gleichzeitig der Unfallverhütung.
URL:https://www.recyclingmagazin.de/event/sachkundiger-befaehigte-person-gemaess-dguv-vorschrift-70-3/
LOCATION:FAUN Umwelttechnik GmbH |12| Co. KG – Werk Osterholz\, Feldhorst 4\, Osterholz-Scharmbeck \, 27711\, Deutschland
CATEGORIES:Seminar
END:VEVENT
BEGIN:VEVENT
DTSTART;VALUE=DATE:20170404
DTEND;VALUE=DATE:20170405
DTSTAMP:20260420T043608
CREATED:20161025T110821Z
LAST-MODIFIED:20161025T110821Z
UID:353027-1491264000-1491350399@www.recyclingmagazin.de
SUMMARY:Effiziente Mitarbeiterkommunikation
DESCRIPTION:
URL:https://www.recyclingmagazin.de/event/effiziente-mitarbeiterkommunikation-2/
LOCATION:Hotel Krauthof\, Beihingerstraße 27\, Ludwigsburg \, 71642\, Deutschland
CATEGORIES:Seminar
ORGANIZER;CN="BDE Bundesverband der Deutschen Entsorgungs-%2C Wasser- und Rohstoffwirtschaft":MAILTO:info@bde.de
END:VEVENT
BEGIN:VEVENT
DTSTART;VALUE=DATE:20170404
DTEND;VALUE=DATE:20170406
DTSTAMP:20260420T043608
CREATED:20160906T100459Z
LAST-MODIFIED:20160906T100459Z
UID:352210-1491264000-1491436799@www.recyclingmagazin.de
SUMMARY:Interner Umweltauditor - Modul 1: Umweltmanagementbeauftragter
DESCRIPTION:
URL:https://www.recyclingmagazin.de/event/interner-umweltauditor-modul-1-umweltmanagementbeauftragter-3/
LOCATION:Maritim Hotel Bad Homburg\, Ludwigstraße 3\, Bad Homburg\, 61348 \, Deutschland
CATEGORIES:Seminar
ORGANIZER;CN="Concada":MAILTO:info@concada.de
END:VEVENT
BEGIN:VEVENT
DTSTART;VALUE=DATE:20170404
DTEND;VALUE=DATE:20170408
DTSTAMP:20260420T043608
CREATED:20160906T094031Z
LAST-MODIFIED:20160906T094031Z
UID:352176-1491264000-1491609599@www.recyclingmagazin.de
SUMMARY:Betriebsbeauftragte für Immissionsschutz
DESCRIPTION:
URL:https://www.recyclingmagazin.de/event/betriebsbeauftragte-fuer-immissionsschutz-3/
LOCATION:Radisson Blu Dortmund\, An der Buschmühle 1\, Dortmund\, 44139
CATEGORIES:Seminar
ORGANIZER;CN="Concada":MAILTO:info@concada.de
END:VEVENT
BEGIN:VEVENT
DTSTART;VALUE=DATE:20170405
DTEND;VALUE=DATE:20170408
DTSTAMP:20260420T043608
CREATED:20161122T172410Z
LAST-MODIFIED:20170321T142644Z
UID:353432-1491350400-1491609599@www.recyclingmagazin.de
SUMMARY:Terratec - Fachmesse für Entsorgung\, Kreislauf- und Ressourcenwirtschaft
DESCRIPTION:
URL:https://www.recyclingmagazin.de/event/terratec-fachmesse-fuer-entsorgung-kreislauf-und-ressourcenwirtschaft/
LOCATION:Leipziger Messe\, Messe-Allee 1\, Leipzig\, 04356 \, Deutschland
CATEGORIES:Messe
END:VEVENT
BEGIN:VEVENT
DTSTART;VALUE=DATE:20170405
DTEND;VALUE=DATE:20170406
DTSTAMP:20260420T043608
CREATED:20161125T140124Z
LAST-MODIFIED:20161125T140124Z
UID:353530-1491350400-1491436799@www.recyclingmagazin.de
SUMMARY:Preisverhandlungen in der Entsorgungswirtschaft
DESCRIPTION:
URL:https://www.recyclingmagazin.de/event/preisverhandlungen-in-der-entsorgungswirtschaft-2/
LOCATION:Hotel Krauthof\, Beihingerstraße 27\, Ludwigsburg \, 71642\, Deutschland
CATEGORIES:Seminar
ORGANIZER;CN="BDE Bundesverband der Deutschen Entsorgungs-%2C Wasser- und Rohstoffwirtschaft":MAILTO:info@bde.de
END:VEVENT
BEGIN:VEVENT
DTSTART;VALUE=DATE:20170405
DTEND;VALUE=DATE:20170407
DTSTAMP:20260420T043608
CREATED:20161223T124423Z
LAST-MODIFIED:20161223T124423Z
UID:354144-1491350400-1491523199@www.recyclingmagazin.de
SUMMARY:Kombinierter Fortbildungslehrgang
DESCRIPTION:nach § 11 Entsorgungsfachbetriebeverordnung und \nnach §§ 4 und 5 AbfAEV (vorher: BefErlV bzw. TgV) \nund für Betriebsbauftragte für Abfall
URL:https://www.recyclingmagazin.de/event/kombinierter-fortbildungslehrgang-4/
LOCATION:bvse-Bildungszentrum\, Hohe Straße 73\, Bonn\, 53119
CATEGORIES:Seminar
END:VEVENT
BEGIN:VEVENT
DTSTART;VALUE=DATE:20170405
DTEND;VALUE=DATE:20170406
DTSTAMP:20260420T043608
CREATED:20170104T144211Z
LAST-MODIFIED:20170104T144211Z
UID:354287-1491350400-1491436799@www.recyclingmagazin.de
SUMMARY:Abfallrechtliche Nachweispflichten gemäß der neuen Nachweisverordnung
DESCRIPTION:
URL:https://www.recyclingmagazin.de/event/abfallrechtliche-nachweispflichten-gemaess-der-neuen-nachweisverordnung-7/
LOCATION:Stadthotel am Römerturm\, St. Apern-Str. 32\, Köln\, 50667 
CATEGORIES:Seminar
ORGANIZER;CN="BDE Bundesverband der Deutschen Entsorgungs-%2C Wasser- und Rohstoffwirtschaft":MAILTO:info@bde.de
END:VEVENT
BEGIN:VEVENT
DTSTART;VALUE=DATE:20170405
DTEND;VALUE=DATE:20170407
DTSTAMP:20260420T043608
CREATED:20170125T161654Z
LAST-MODIFIED:20170125T161654Z
UID:354700-1491350400-1491523199@www.recyclingmagazin.de
SUMMARY:Konfliktmanagement
DESCRIPTION:
URL:https://www.recyclingmagazin.de/event/konfliktmanagement/
LOCATION:Wesel\, Wesel\, Deutschland
CATEGORIES:Seminar
ORGANIZER;CN="Verband Deutscher Metallh%C3%A4ndler (VDM)":MAILTO:vdm@vdm.Berlin
END:VEVENT
BEGIN:VEVENT
DTSTART;VALUE=DATE:20170405
DTEND;VALUE=DATE:20170406
DTSTAMP:20260420T043608
CREATED:20170207T104758Z
LAST-MODIFIED:20170207T104758Z
UID:355079-1491350400-1491436799@www.recyclingmagazin.de
SUMMARY:Schlagfertigkeit in der Preisverhandlung
DESCRIPTION:Preisänderungen beeinflussen den Gewinn etwa doppelt so stark wie Mengenänderungen. Das gilt in beide Richtungen. Eine verbesserte Strategie in den Preisanpassungsgesprächen erhöht die Marge im Durchschnitt um 1-2 Prozentpunkte
URL:https://www.recyclingmagazin.de/event/schlagfertigkeit-in-der-preisverhandlung-2/
LOCATION:Hotel Krauthof\, Beihingerstraße 27\, Ludwigsburg \, 71642\, Deutschland
CATEGORIES:Seminar
ORGANIZER;CN="BDE Bundesverband der Deutschen Entsorgungs-%2C Wasser- und Rohstoffwirtschaft":MAILTO:info@bde.de
END:VEVENT
BEGIN:VEVENT
DTSTART;VALUE=DATE:20170405
DTEND;VALUE=DATE:20170407
DTSTAMP:20260420T043608
CREATED:20170207T104938Z
LAST-MODIFIED:20170207T104938Z
UID:355081-1491350400-1491523199@www.recyclingmagazin.de
SUMMARY:Social Media in der Entsorgungswirtschaft
DESCRIPTION:Wer „liked“ schon seinen Müllmann? Die Zusammenhänge der medialen Welt richtig verstehen und auf dieser Basis Social Media als Marketing-Instrument sinnvoll einsetzen – das Seminar gibt einen Überblick zu Strategien\, Suchmaschinen-Marketing\, Social Media Marketing\, sowie die Bewertung vorhandener und das Erstellen konkreter Accounts.
URL:https://www.recyclingmagazin.de/event/social-media-in-der-entsorgungswirtschaft/
LOCATION:BDE-Geschäftsstelle\, Behrenstraße 29 \, Berlin\, 10117
CATEGORIES:Seminar
ORGANIZER;CN="BDE Bundesverband der Deutschen Entsorgungs-%2C Wasser- und Rohstoffwirtschaft":MAILTO:info@bde.de
END:VEVENT
END:VCALENDAR