BEGIN:VCALENDAR
VERSION:2.0
PRODID:-//RECYCLING magazin - ECPv6.15.20//NONSGML v1.0//EN
CALSCALE:GREGORIAN
METHOD:PUBLISH
X-ORIGINAL-URL:https://www.recyclingmagazin.de
X-WR-CALDESC:Veranstaltungen für RECYCLING magazin
REFRESH-INTERVAL;VALUE=DURATION:PT1H
X-Robots-Tag:noindex
X-PUBLISHED-TTL:PT1H
BEGIN:VTIMEZONE
TZID:Europe/Berlin
BEGIN:DAYLIGHT
TZOFFSETFROM:+0100
TZOFFSETTO:+0200
TZNAME:CEST
DTSTART:20150329T010000
END:DAYLIGHT
BEGIN:STANDARD
TZOFFSETFROM:+0200
TZOFFSETTO:+0100
TZNAME:CET
DTSTART:20151025T010000
END:STANDARD
BEGIN:DAYLIGHT
TZOFFSETFROM:+0100
TZOFFSETTO:+0200
TZNAME:CEST
DTSTART:20160327T010000
END:DAYLIGHT
BEGIN:STANDARD
TZOFFSETFROM:+0200
TZOFFSETTO:+0100
TZNAME:CET
DTSTART:20161030T010000
END:STANDARD
BEGIN:DAYLIGHT
TZOFFSETFROM:+0100
TZOFFSETTO:+0200
TZNAME:CEST
DTSTART:20170326T010000
END:DAYLIGHT
BEGIN:STANDARD
TZOFFSETFROM:+0200
TZOFFSETTO:+0100
TZNAME:CET
DTSTART:20171029T010000
END:STANDARD
BEGIN:DAYLIGHT
TZOFFSETFROM:+0100
TZOFFSETTO:+0200
TZNAME:CEST
DTSTART:20180325T010000
END:DAYLIGHT
BEGIN:STANDARD
TZOFFSETFROM:+0200
TZOFFSETTO:+0100
TZNAME:CET
DTSTART:20181028T010000
END:STANDARD
END:VTIMEZONE
BEGIN:VEVENT
DTSTART;VALUE=DATE:20160922
DTEND;VALUE=DATE:20170325
DTSTAMP:20260420T075003
CREATED:20160613T065829Z
LAST-MODIFIED:20160613T065829Z
UID:351061-1474502400-1490399999@www.recyclingmagazin.de
SUMMARY:Zertifikatslehrgang CAS Recycling und Entsorgung
DESCRIPTION:Der Zertifikatslehrgang zeigt die aktuellen Entwicklungen und Trends in der Branche auf und wirft einen Blick auf ihre wirtschaftlichen\, technischen und gesetzlichen Treiber. Das erworbene Wissen hilft Unternehmen\, das Recyclingmanagement zu optimieren und daraus ökologischen und wirtschaftlichen Nutzen zu ziehen. Anhand von Fallbeispielen und Projektarbeiten aus ihrem Umfeld wenden die Teilnehmenden das Gelernte direkt in ihrem Unternehmen an.  \nDer Lehrgang richtet sich an Kader aus Entsorgungs- und Recyclingbetrieben\, an technisch operative Verantwortungsträger\, Personen aus Gemeinden\, Zweckverbänden\, und aus der Beratung sowie an Interessierte am Thema Entsorgung und Verwertung von Abfällen. \nDer modulare Aufbau des Lehrgangs ermöglicht Interessierten\, ein individuelles Programm durch Buchung einzelner Module zusammenzustellen.
URL:https://www.recyclingmagazin.de/event/zertifikatslehrgang-cas-recycling-und-entsorgung/
LOCATION:WERZ Institut für Wissen\, Energie und Rohstoffe Zug\, Grafenauweg 4\, Zug\, 6300\, Schweiz
CATEGORIES:Seminar
ORGANIZER;CN="Hochschule f%C3%BCr Technik Rapperswil / Institut WERZ":MAILTO:werz@hsr.ch
END:VEVENT
BEGIN:VEVENT
DTSTART;VALUE=DATE:20170201
DTEND;VALUE=DATE:20170617
DTSTAMP:20260420T075003
CREATED:20161221T083705Z
LAST-MODIFIED:20161221T083705Z
UID:354020-1485907200-1497657599@www.recyclingmagazin.de
SUMMARY:Entsorgungs- und Recyclingmanager
DESCRIPTION:Berufsbegleitende Managementausbildung mit Zertifikat (CAS) an der Universität St. Gallen\, Februar bis Juni 2017.
URL:https://www.recyclingmagazin.de/event/entsorgungs-und-recyclingmanager/
LOCATION:Universität St. Gallen\, Bodanstraße 1\, St. Gallen\, CH-9000\, Schweiz
CATEGORIES:Seminar
END:VEVENT
BEGIN:VEVENT
DTSTART;VALUE=DATE:20170227
DTEND;VALUE=DATE:20170302
DTSTAMP:20260420T075003
CREATED:20170127T133838Z
LAST-MODIFIED:20170127T133838Z
UID:354805-1488153600-1488412799@www.recyclingmagazin.de
SUMMARY:PVC Formulation 2017
DESCRIPTION:Download der Konferenz-Broschüre unter: http://bit.ly/PVCF2017
URL:https://www.recyclingmagazin.de/event/pvc-formulation-2017/
LOCATION:Maritim Hotel Düsseldorf\, Maritimplatz 1\, Düsseldorf\, 40474\, Deutschland
CATEGORIES:Konferenz
END:VEVENT
BEGIN:VEVENT
DTSTART;VALUE=DATE:20170301
DTEND;VALUE=DATE:20170304
DTSTAMP:20260420T075003
CREATED:20161207T132047Z
LAST-MODIFIED:20161207T132047Z
UID:353852-1488326400-1488585599@www.recyclingmagazin.de
SUMMARY:Führung in Disposition und Einsatzleitung
DESCRIPTION:
URL:https://www.recyclingmagazin.de/event/fuehrung-in-disposition-und-einsatzleitung-2/
LOCATION:InterCityHotel Ulm\, Bahnhofplatz 1/1\, Ulm\, 89073 \, Deutschland
CATEGORIES:Seminar
END:VEVENT
BEGIN:VEVENT
DTSTART;VALUE=DATE:20170301
DTEND;VALUE=DATE:20170302
DTSTAMP:20260420T075003
CREATED:20170104T123032Z
LAST-MODIFIED:20170104T123032Z
UID:354202-1488326400-1488412799@www.recyclingmagazin.de
SUMMARY:Abfallrecht aktuell
DESCRIPTION:
URL:https://www.recyclingmagazin.de/event/abfallrecht-aktuell-5/
LOCATION:Stadthotel am Römerturm\, St. Apern-Str. 32\, Köln\, 50667 
CATEGORIES:Seminar
ORGANIZER;CN="BDE Bundesverband der Deutschen Entsorgungs-%2C Wasser- und Rohstoffwirtschaft":MAILTO:info@bde.de
END:VEVENT
BEGIN:VEVENT
DTSTART;VALUE=DATE:20170301
DTEND;VALUE=DATE:20170302
DTSTAMP:20260420T075003
CREATED:20170301T153833Z
LAST-MODIFIED:20170301T153833Z
UID:355470-1488326400-1488412799@www.recyclingmagazin.de
SUMMARY:Duale Systeme Ausschreibung 2018
DESCRIPTION:
URL:https://www.recyclingmagazin.de/event/duale-systeme-ausschreibung-2018/
LOCATION:Stadthotel am Römerturm\, St. Apern-Str. 32\, Köln\, 50667 
CATEGORIES:Seminar
ORGANIZER;CN="BDE Bundesverband der Deutschen Entsorgungs-%2C Wasser- und Rohstoffwirtschaft":MAILTO:info@bde.de
END:VEVENT
BEGIN:VEVENT
DTSTART;TZID=Europe/Berlin:20170301T080000
DTEND;TZID=Europe/Berlin:20170301T170000
DTSTAMP:20260420T075003
CREATED:20170301T145450Z
LAST-MODIFIED:20170301T145450Z
UID:355427-1488355200-1488387600@www.recyclingmagazin.de
SUMMARY:Grundlehrgang zur Erlangung der Fachkunde Betriebsbeauftragte(r) für Abfall nach §§ 58\, 59\, 60 KrWG\, § 4 DepV\, § 11 EfbV\, §§ 4\,5 AbfAEV
DESCRIPTION:
URL:https://www.recyclingmagazin.de/event/grundlehrgang-zur-erlangung-der-fachkunde-betriebsbeauftragter-fuer-abfall-nach-%c2%a7%c2%a7-58-59-60-krwg-%c2%a7-4-depv-%c2%a7-11-efbv-%c2%a7%c2%a7-45-abfaev-2/
LOCATION:kenic GmbH – Akademie für Wirtschaft und Umwelt\, Linienstraße 130\, Berlin\, 10115\, Deutschland
CATEGORIES:Seminar
ORGANIZER;CN="kenic GmbH":MAILTO:info@kenic.de
END:VEVENT
BEGIN:VEVENT
DTSTART;VALUE=DATE:20170302
DTEND;VALUE=DATE:20170303
DTSTAMP:20260420T075003
CREATED:20161108T164557Z
LAST-MODIFIED:20161108T164557Z
UID:353216-1488412800-1488499199@www.recyclingmagazin.de
SUMMARY:Grenzüberschreitende Abfallverbringung
DESCRIPTION:
URL:https://www.recyclingmagazin.de/event/grenzueberschreitende-abfallverbringung-5/
LOCATION:Stadthotel am Römerturm\, St. Apern-Str. 32\, Köln\, 50667 
CATEGORIES:Seminar
ORGANIZER;CN="BDE Bundesverband der Deutschen Entsorgungs-%2C Wasser- und Rohstoffwirtschaft":MAILTO:info@bde.de
END:VEVENT
BEGIN:VEVENT
DTSTART;VALUE=DATE:20170302
DTEND;VALUE=DATE:20170303
DTSTAMP:20260420T075003
CREATED:20161202T154101Z
LAST-MODIFIED:20161202T154101Z
UID:353721-1488412800-1488499199@www.recyclingmagazin.de
SUMMARY:Umgang mit dem Betriebsrat
DESCRIPTION:
URL:https://www.recyclingmagazin.de/event/umgang-mit-dem-betriebsrat-2/
LOCATION:BDE-Geschäftsstelle\, Behrenstraße 29 \, Berlin\, 10117
CATEGORIES:Seminar
ORGANIZER;CN="BDE Bundesverband der Deutschen Entsorgungs-%2C Wasser- und Rohstoffwirtschaft":MAILTO:info@bde.de
END:VEVENT
BEGIN:VEVENT
DTSTART;VALUE=DATE:20170302
DTEND;VALUE=DATE:20170303
DTSTAMP:20260420T075003
CREATED:20170125T161213Z
LAST-MODIFIED:20170125T161239Z
UID:354696-1488412800-1488499199@www.recyclingmagazin.de
SUMMARY:Analytische Qualitätssicherung Laboranalytik und Prozess-Messtechnik
DESCRIPTION:Die Maßnahmen der Analytischen Qualitätssicherung (AQS) gemäß dem neuen DWA Arbeitsblatt A 704 für die Laboranalytik und Prozess-Messtechnik werden im Seminar erklärt und im Praktikum exemplarisch geübt. Die Besonderheiten der AQS im Bereich der Laboranalytik mit Küvettentests und der Prozess-Messtechnik werden thematisiert.
URL:https://www.recyclingmagazin.de/event/analytische-qualitaetssicherung-laboranalytik-und-prozess-messtechnik/
LOCATION:Koblenz\, Koblenz\, Deutschland
CATEGORIES:Seminar
END:VEVENT
BEGIN:VEVENT
DTSTART;VALUE=DATE:20170302
DTEND;VALUE=DATE:20170304
DTSTAMP:20260420T075003
CREATED:20160906T094308Z
LAST-MODIFIED:20160906T094308Z
UID:352180-1488412800-1488585599@www.recyclingmagazin.de
SUMMARY:Fortbildung für Immissionsschutz- und Störfallbeauftragte
DESCRIPTION:
URL:https://www.recyclingmagazin.de/event/fortbildung-fuer-immissionsschutz-und-stoerfallbeauftragte-10/
LOCATION:Radisson Blu Dortmund\, An der Buschmühle 1\, Dortmund\, 44139
CATEGORIES:Seminar
ORGANIZER;CN="Concada":MAILTO:info@concada.de
END:VEVENT
BEGIN:VEVENT
DTSTART;VALUE=DATE:20170306
DTEND;VALUE=DATE:20170308
DTSTAMP:20260420T075003
CREATED:20170104T123336Z
LAST-MODIFIED:20170104T123336Z
UID:354204-1488758400-1488931199@www.recyclingmagazin.de
SUMMARY:Grenzüberschreitende Abfallverbringung
DESCRIPTION:
URL:https://www.recyclingmagazin.de/event/grenzueberschreitende-abfallverbringung-6/
LOCATION:Stadthotel am Römerturm\, St. Apern-Str. 32\, Köln\, 50667 
CATEGORIES:Seminar
ORGANIZER;CN="BDE Bundesverband der Deutschen Entsorgungs-%2C Wasser- und Rohstoffwirtschaft":MAILTO:info@bde.de
END:VEVENT
BEGIN:VEVENT
DTSTART;VALUE=DATE:20170306
DTEND;VALUE=DATE:20170308
DTSTAMP:20260420T075003
CREATED:20170104T123511Z
LAST-MODIFIED:20170104T123511Z
UID:354206-1488758400-1488931199@www.recyclingmagazin.de
SUMMARY:Einführung in die rechtlichen und technischen Grundlagen der Recycling- und Entsorgungswirtschaft
DESCRIPTION:
URL:https://www.recyclingmagazin.de/event/einfuehrung-in-die-rechtlichen-und-technischen-grundlagen-der-recycling-und-entsorgungswirtschaft-11/
LOCATION:Stadthotel am Römerturm\, St. Apern-Str. 32\, Köln\, 50667 
CATEGORIES:Seminar
ORGANIZER;CN="BDE Bundesverband der Deutschen Entsorgungs-%2C Wasser- und Rohstoffwirtschaft":MAILTO:info@bde.de
END:VEVENT
BEGIN:VEVENT
DTSTART;VALUE=DATE:20170306
DTEND;VALUE=DATE:20170307
DTSTAMP:20260420T075003
CREATED:20170104T153156Z
LAST-MODIFIED:20170104T153156Z
UID:354326-1488758400-1488844799@www.recyclingmagazin.de
SUMMARY:Entsorgung von Bauabfällen
DESCRIPTION:
URL:https://www.recyclingmagazin.de/event/entsorgung-von-bauabfaellen/
LOCATION:Mainz\, Deutschland
CATEGORIES:Seminar
END:VEVENT
BEGIN:VEVENT
DTSTART;VALUE=DATE:20170306
DTEND;VALUE=DATE:20170311
DTSTAMP:20260420T075003
CREATED:20170203T142122Z
LAST-MODIFIED:20170203T142122Z
UID:354950-1488758400-1489190399@www.recyclingmagazin.de
SUMMARY:Betriebsbeauftragter für Abfall (Grundlehrgang)
DESCRIPTION:5-tägiger Lehrgang zur Erlangung der Fachkunde im Sinne der §§ 59 und 60 Kreislaufwirtschaftsgesetz (KrWG).
URL:https://www.recyclingmagazin.de/event/betriebsbeauftragter-fuer-abfall-grundlehrgang/
LOCATION:BEW GmbH Bildungszentrum Duisburg\, Dr.-Detlev-Karsten-Rohwedder-Str. 70\, Duisburg\, 47228 \, Deutschland
CATEGORIES:Seminar
END:VEVENT
BEGIN:VEVENT
DTSTART;VALUE=DATE:20170307
DTEND;VALUE=DATE:20170308
DTSTAMP:20260420T075003
CREATED:20161223T113158Z
LAST-MODIFIED:20161223T113158Z
UID:354066-1488844800-1488931199@www.recyclingmagazin.de
SUMMARY:Probenahme fester Abfälle auf Basis der LAGA Richtlinie PN 98 und der DIN EN 932-1
DESCRIPTION:
URL:https://www.recyclingmagazin.de/event/probenahme-fester-abfaelle-auf-basis-der-laga-richtlinie-pn-98-und-der-din-en-932-1/
LOCATION:SITA Süd GmbH\, Daimlerstraße 2\, Knittlingen\, 75438\, Deutschland
CATEGORIES:Seminar
ORGANIZER;CN="BDE Bundesverband der Deutschen Entsorgungs-%2C Wasser- und Rohstoffwirtschaft":MAILTO:info@bde.de
END:VEVENT
BEGIN:VEVENT
DTSTART;VALUE=DATE:20170307
DTEND;VALUE=DATE:20170308
DTSTAMP:20260420T075003
CREATED:20161223T123219Z
LAST-MODIFIED:20161223T123219Z
UID:354125-1488844800-1488931199@www.recyclingmagazin.de
SUMMARY:Probenahme fester Abfälle - LAGA-Richtlinie PN 98
DESCRIPTION:
URL:https://www.recyclingmagazin.de/event/probenahme-fester-abfaelle-laga-richtlinie-pn-98/
LOCATION:Baugeschäft Sens GmbH & Co. KG\,\, Josef-Eder-Str. 2\, Ornbau\, 91737 
CATEGORIES:Seminar
END:VEVENT
BEGIN:VEVENT
DTSTART;VALUE=DATE:20170307
DTEND;VALUE=DATE:20170308
DTSTAMP:20260420T075003
CREATED:20170127T105252Z
LAST-MODIFIED:20170127T105316Z
UID:354765-1488844800-1488931199@www.recyclingmagazin.de
SUMMARY:Schwierige Situationen auf dem Wertstoffhof
DESCRIPTION:Das Seminar ist praxisorientiert und eignet sich für Mitarbeiter und Vorgesetzte von Wertstoffhöfen im direkten Kundenkontakt. Grundlagen der Kommunikaion mit Kunden sollten bereits aus Seminaren wie „Sachkunde Wertstoffhof“ oder „Umgang mit schwierigen Kunden“ vorhanden sein.
URL:https://www.recyclingmagazin.de/event/schwierige-situationen-auf-dem-wertstoffhof-2/
LOCATION:Best Western Plus Delta Park Hotel Mannheim\, Keplerstraße 24\, Mannheim\, 68165 
CATEGORIES:Seminar
END:VEVENT
BEGIN:VEVENT
DTSTART;VALUE=DATE:20170307
DTEND;VALUE=DATE:20170308
DTSTAMP:20260420T075003
CREATED:20170209T130653Z
LAST-MODIFIED:20170209T130707Z
UID:355172-1488844800-1488931199@www.recyclingmagazin.de
SUMMARY:Umfeldpflege im verdichteten Wohnungsbau durch Nieder- und Unterflur-Sammelsysteme
DESCRIPTION:
URL:https://www.recyclingmagazin.de/event/umfeldpflege-im-verdichteten-wohnungsbau-durch-nieder-und-unterflur-sammelsysteme/
LOCATION:USB Bochum\, Hanielstraße 1\, Bochum\, 44801
CATEGORIES:Seminar
ORGANIZER;CN="WFZruhr":MAILTO:info@WFZ-ruhr.de
END:VEVENT
BEGIN:VEVENT
DTSTART;VALUE=DATE:20170307
DTEND;VALUE=DATE:20170308
DTSTAMP:20260420T075003
CREATED:20170301T143030Z
LAST-MODIFIED:20170301T143030Z
UID:355396-1488844800-1488931199@www.recyclingmagazin.de
SUMMARY:Rechnungen aktuell 2017
DESCRIPTION:
URL:https://www.recyclingmagazin.de/event/rechnungen-aktuell-2017/
LOCATION:Konferenzbereich der BDSV\, Berliner Allee 57 – 7. Etage\, Düsseldorf\, 40212
CATEGORIES:Workshop
ORGANIZER;CN="Bundesvereinigung Deutscher Stahlrecycling-und Entsorgungsunternehmen e. V. (BDSV)":MAILTO:zentrale@bdsv.de
END:VEVENT
BEGIN:VEVENT
DTSTART;VALUE=DATE:20170307
DTEND;VALUE=DATE:20170311
DTSTAMP:20260420T075003
CREATED:20160906T094730Z
LAST-MODIFIED:20160906T094730Z
UID:352186-1488844800-1489190399@www.recyclingmagazin.de
SUMMARY:Kombinierte Fortbildung für Mehrfachbeauftragte
DESCRIPTION:
URL:https://www.recyclingmagazin.de/event/kombinierte-fortbildung-fuer-mehrfachbeauftragte-8/
LOCATION:Radisson Blu Dortmund\, An der Buschmühle 1\, Dortmund\, 44139
CATEGORIES:Seminar
ORGANIZER;CN="Concada":MAILTO:info@concada.de
END:VEVENT
BEGIN:VEVENT
DTSTART;VALUE=DATE:20170308
DTEND;VALUE=DATE:20170309
DTSTAMP:20260420T075003
CREATED:20161223T122002Z
LAST-MODIFIED:20161223T122002Z
UID:354109-1488931200-1489017599@www.recyclingmagazin.de
SUMMARY:Grenzüberschreitende Abfallentsorgung - praxisorientierte Einführung
DESCRIPTION:
URL:https://www.recyclingmagazin.de/event/grenzueberschreitende-abfallentsorgung-praxisorientierte-einfuehrung/
LOCATION:bvse-Bildungszentrum\, Hohe Straße 73\, Bonn\, 53119
CATEGORIES:Seminar
END:VEVENT
BEGIN:VEVENT
DTSTART;VALUE=DATE:20170308
DTEND;VALUE=DATE:20170310
DTSTAMP:20260420T075003
CREATED:20170203T123214Z
LAST-MODIFIED:20170203T130317Z
UID:354865-1488931200-1489103999@www.recyclingmagazin.de
SUMMARY:Fortbildungslehrgang zur Auffrischung der Fachkunde gemäß § 11 EfbV und § 5 AbfAEV (Themen: Aktuelles Abfallrecht und Nachweisverfahren)
DESCRIPTION:Aktualisierung der Fachkunde für Sammler\, Beförderer\, Händler\, Makler und Entsorger gefährlicher Abfälle — Bundesweit behördlich anerkannt.
URL:https://www.recyclingmagazin.de/event/fortbildungslehrgang-zur-auffrischung-der-fachkunde-gemaess-%c2%a7-11-efbv-%c2%a7-54-krwg-und-%c2%a7-5-abfaev-schwerpunkte-aktuelles-abfallrecht-und-abfallrechtliche-ueberwachung-3/
LOCATION:BEW GmbH Bildungszentrum Duisburg\, Dr.-Detlev-Karsten-Rohwedder-Str. 70\, Duisburg\, 47228 \, Deutschland
CATEGORIES:Seminar
END:VEVENT
BEGIN:VEVENT
DTSTART;VALUE=DATE:20170308
DTEND;VALUE=DATE:20170310
DTSTAMP:20260420T075003
CREATED:20170203T125004Z
LAST-MODIFIED:20170203T125004Z
UID:354874-1488931200-1489103999@www.recyclingmagazin.de
SUMMARY:Fortbildungslehrgang zur Auﬀrischung der Fachkunde gemäß § 11 EfbV und § 5 AbfAEV (Themen: Aktuelles Abfallrecht und Nachweisverfahren)
DESCRIPTION:Aktualisierung der Fachkunde für Sammler\, Beförderer\, Händler\, Makler und Entsorger gefährlicher Abfälle — Bundesweit behördlich anerkannt.
URL:https://www.recyclingmagazin.de/event/fortbildungslehrgang-zur-au%ef%ac%80rischung-der-fachkunde-gemaess-%c2%a7-11-efbv-und-%c2%a7-5-abfaev-themen-aktuelles-abfallrecht-und-nachweisverfahren/
LOCATION:BEW GmbH Bildungszentrum Duisburg\, Dr.-Detlev-Karsten-Rohwedder-Str. 70\, Duisburg\, 47228 \, Deutschland
CATEGORIES:Seminar
END:VEVENT
BEGIN:VEVENT
DTSTART;VALUE=DATE:20170308
DTEND;VALUE=DATE:20170309
DTSTAMP:20260420T075003
CREATED:20170203T140757Z
LAST-MODIFIED:20170203T140757Z
UID:354932-1488931200-1489017599@www.recyclingmagazin.de
SUMMARY:Praxistipps zur Umsetzung der Nachweis- und Registerpflichten bei der Abfallentsorgung
DESCRIPTION:Schulung und praktische Übungen zur Anwendung des elektronischen Abfallnachweisverfahrens (eANV).
URL:https://www.recyclingmagazin.de/event/praxistipps-zur-umsetzung-der-nachweis-und-registerpflichten-bei-der-abfallentsorgung/
LOCATION:BEW GmbH Bildungszentrum Duisburg\, Dr.-Detlev-Karsten-Rohwedder-Str. 70\, Duisburg\, 47228 \, Deutschland
CATEGORIES:Seminar
END:VEVENT
BEGIN:VEVENT
DTSTART;VALUE=DATE:20170308
DTEND;VALUE=DATE:20170310
DTSTAMP:20260420T075003
CREATED:20170310T100600Z
LAST-MODIFIED:20170310T100756Z
UID:355580-1488931200-1489103999@www.recyclingmagazin.de
SUMMARY:Fortbildung gemäß EfbV/AbfAEV\, für Abfall- und Immissionsschutzbeauftragte
DESCRIPTION:
URL:https://www.recyclingmagazin.de/event/fortbildung-gemaess-efbvabfaev-fuer-abfall-und-immissionsschutzbeauftragte/
LOCATION:SUHM\, Hämmerlestraße 14 + 16\, Gäufelden\, 71126\, Deutschland
CATEGORIES:Seminar
ORGANIZER;CN="SUHM":MAILTO:info@suhm.info
END:VEVENT
BEGIN:VEVENT
DTSTART;VALUE=DATE:20170308
DTEND;VALUE=DATE:20170309
DTSTAMP:20260420T075003
CREATED:20160906T101002Z
LAST-MODIFIED:20160906T101002Z
UID:352218-1488931200-1489017599@www.recyclingmagazin.de
SUMMARY:Neuerungen im Gefahrgutrecht ADR/RID 2017
DESCRIPTION:
URL:https://www.recyclingmagazin.de/event/neuerungen-im-gefahrgutrecht-adrrid-2017-3/
LOCATION:Radisson Blu Dortmund\, An der Buschmühle 1\, Dortmund\, 44139
CATEGORIES:Seminar
ORGANIZER;CN="Concada":MAILTO:info@concada.de
END:VEVENT
BEGIN:VEVENT
DTSTART;VALUE=DATE:20170308
DTEND;VALUE=DATE:20170309
DTSTAMP:20260420T075003
CREATED:20160909T115801Z
LAST-MODIFIED:20160909T115801Z
UID:352314-1488931200-1489017599@www.recyclingmagazin.de
SUMMARY:Novellierte Betriebssicherheitsverordnung
DESCRIPTION:Geräte und Anlagen sicher betreiben.\nVorschriften praktisch anwenden.
URL:https://www.recyclingmagazin.de/event/novellierte-betriebssicherheitsverordnung-3/
LOCATION:Best Western Plus Delta Park Hotel Mannheim\, Keplerstraße 24\, Mannheim\, 68165 
CATEGORIES:Seminar
END:VEVENT
BEGIN:VEVENT
DTSTART;VALUE=DATE:20170309
DTEND;VALUE=DATE:20170311
DTSTAMP:20260420T075004
CREATED:20161125T135921Z
LAST-MODIFIED:20161125T135934Z
UID:353525-1489017600-1489190399@www.recyclingmagazin.de
SUMMARY:Fachseminar Außenhandel - Die Zollabteilung im Unternehmen
DESCRIPTION:
URL:https://www.recyclingmagazin.de/event/fachseminar-aussenhandel-die-zollabteilung-im-unternehmen/
LOCATION:Essen\, Deutschland
CATEGORIES:Seminar
ORGANIZER;CN="Verband Deutscher Metallh%C3%A4ndler (VDM)":MAILTO:vdm@vdm.Berlin
END:VEVENT
BEGIN:VEVENT
DTSTART;VALUE=DATE:20170309
DTEND;VALUE=DATE:20170310
DTSTAMP:20260420T075004
CREATED:20161206T103115Z
LAST-MODIFIED:20161206T103115Z
UID:353762-1489017600-1489103999@www.recyclingmagazin.de
SUMMARY:Training Aufkehrmaschine
DESCRIPTION:
URL:https://www.recyclingmagazin.de/event/training-aufkehrmaschine/
LOCATION:FAUN Viatec GmbH\, Bahnhofstraße 5\, Grimma\, 04668 \, Deutschland
CATEGORIES:Seminar
END:VEVENT
END:VCALENDAR