BEGIN:VCALENDAR
VERSION:2.0
PRODID:-//RECYCLING magazin - ECPv6.15.20//NONSGML v1.0//EN
CALSCALE:GREGORIAN
METHOD:PUBLISH
X-ORIGINAL-URL:https://www.recyclingmagazin.de
X-WR-CALDESC:Veranstaltungen für RECYCLING magazin
REFRESH-INTERVAL;VALUE=DURATION:PT1H
X-Robots-Tag:noindex
X-PUBLISHED-TTL:PT1H
BEGIN:VTIMEZONE
TZID:Europe/Berlin
BEGIN:DAYLIGHT
TZOFFSETFROM:+0100
TZOFFSETTO:+0200
TZNAME:CEST
DTSTART:20150329T010000
END:DAYLIGHT
BEGIN:STANDARD
TZOFFSETFROM:+0200
TZOFFSETTO:+0100
TZNAME:CET
DTSTART:20151025T010000
END:STANDARD
BEGIN:DAYLIGHT
TZOFFSETFROM:+0100
TZOFFSETTO:+0200
TZNAME:CEST
DTSTART:20160327T010000
END:DAYLIGHT
BEGIN:STANDARD
TZOFFSETFROM:+0200
TZOFFSETTO:+0100
TZNAME:CET
DTSTART:20161030T010000
END:STANDARD
BEGIN:DAYLIGHT
TZOFFSETFROM:+0100
TZOFFSETTO:+0200
TZNAME:CEST
DTSTART:20170326T010000
END:DAYLIGHT
BEGIN:STANDARD
TZOFFSETFROM:+0200
TZOFFSETTO:+0100
TZNAME:CET
DTSTART:20171029T010000
END:STANDARD
BEGIN:DAYLIGHT
TZOFFSETFROM:+0100
TZOFFSETTO:+0200
TZNAME:CEST
DTSTART:20180325T010000
END:DAYLIGHT
BEGIN:STANDARD
TZOFFSETFROM:+0200
TZOFFSETTO:+0100
TZNAME:CET
DTSTART:20181028T010000
END:STANDARD
END:VTIMEZONE
BEGIN:VEVENT
DTSTART;VALUE=DATE:20160922
DTEND;VALUE=DATE:20170325
DTSTAMP:20260420T123513
CREATED:20160613T065829Z
LAST-MODIFIED:20160613T065829Z
UID:351061-1474502400-1490399999@www.recyclingmagazin.de
SUMMARY:Zertifikatslehrgang CAS Recycling und Entsorgung
DESCRIPTION:Der Zertifikatslehrgang zeigt die aktuellen Entwicklungen und Trends in der Branche auf und wirft einen Blick auf ihre wirtschaftlichen\, technischen und gesetzlichen Treiber. Das erworbene Wissen hilft Unternehmen\, das Recyclingmanagement zu optimieren und daraus ökologischen und wirtschaftlichen Nutzen zu ziehen. Anhand von Fallbeispielen und Projektarbeiten aus ihrem Umfeld wenden die Teilnehmenden das Gelernte direkt in ihrem Unternehmen an.  \nDer Lehrgang richtet sich an Kader aus Entsorgungs- und Recyclingbetrieben\, an technisch operative Verantwortungsträger\, Personen aus Gemeinden\, Zweckverbänden\, und aus der Beratung sowie an Interessierte am Thema Entsorgung und Verwertung von Abfällen. \nDer modulare Aufbau des Lehrgangs ermöglicht Interessierten\, ein individuelles Programm durch Buchung einzelner Module zusammenzustellen.
URL:https://www.recyclingmagazin.de/event/zertifikatslehrgang-cas-recycling-und-entsorgung/
LOCATION:WERZ Institut für Wissen\, Energie und Rohstoffe Zug\, Grafenauweg 4\, Zug\, 6300\, Schweiz
CATEGORIES:Seminar
ORGANIZER;CN="Hochschule f%C3%BCr Technik Rapperswil / Institut WERZ":MAILTO:werz@hsr.ch
END:VEVENT
BEGIN:VEVENT
DTSTART;VALUE=DATE:20170109
DTEND;VALUE=DATE:20170114
DTSTAMP:20260420T123513
CREATED:20161005T131457Z
LAST-MODIFIED:20161005T132213Z
UID:352779-1483920000-1484351999@www.recyclingmagazin.de
SUMMARY:Abfallwirtschaft
DESCRIPTION:Lehrgang Leiter/in Betriebshof – Modul 3.\nKonfiguration von Entsorgungsfahrzeugen.\nTourenplanung und Dispositon. Kundenorientierung.
URL:https://www.recyclingmagazin.de/event/abfallwirtschaft/
LOCATION:LÜNTEC-Technologiezentrum Lünen\, Brambauer\, Am Brambusch 24\, Lünen\, 44536 \, Deutschland
CATEGORIES:Seminar
END:VEVENT
BEGIN:VEVENT
DTSTART;VALUE=DATE:20170110
DTEND;VALUE=DATE:20170111
DTSTAMP:20260420T123513
CREATED:20161202T154324Z
LAST-MODIFIED:20161202T154324Z
UID:353723-1484006400-1484092799@www.recyclingmagazin.de
SUMMARY:Intensiv-Schulung für Abfallerzeuger
DESCRIPTION:Die regelmäßig stattfindenden Intensiv-Seminare der SBB geben allen Abfallerzeugern die Möglichkeit\, die notwendigen Grundlagen bei Nachweisführung und Andienung sicher zu beherrschen. \nFolgende Themen werden besprochen: \nRechtliche Grundlagen auf EU-\, Bundes- und Landesebene\nRollen im Entsorgungsprozess\nAblauf eines Entsorgungsvorganges\n– Abfalldeklaration\n– Beantragung und Nutzung von Erzeuger-Nummern\n– Sammel- und Einzelentsorgungsnachweisverfahren\n– Kriterien für die Auswahl eines geeigneten Einsammlers/Beförderers und Entsorgers\n– Begleit- und Übernahmescheine\n– Registerführung\n– Behördliche Kriterien\n– Umgehung von „Stolpersteinen“ bei der Beantragung von Nachweisen und Zuweisungen
URL:https://www.recyclingmagazin.de/event/intensiv-schulung-fuer-abfallerzeuger/
LOCATION:SBB – Sonderabfallgesellschaft Brandenburg/Berlin mbH\, Großbeerenstraße 231\, 14480\, Potsdam\, Deutschland
CATEGORIES:Seminar
END:VEVENT
BEGIN:VEVENT
DTSTART;VALUE=DATE:20170116
DTEND;VALUE=DATE:20170117
DTSTAMP:20260420T123513
CREATED:20161125T135539Z
LAST-MODIFIED:20161125T135539Z
UID:353522-1484524800-1484611199@www.recyclingmagazin.de
SUMMARY:Der Disponent in der Entsorgungswirtschaft
DESCRIPTION:
URL:https://www.recyclingmagazin.de/event/der-disponent-in-der-entsorgungswirtschaft/
LOCATION:BDE-Geschäftsstelle\, Behrenstraße 29 \, Berlin\, 10117
CATEGORIES:Seminar
ORGANIZER;CN="BDE Bundesverband der Deutschen Entsorgungs-%2C Wasser- und Rohstoffwirtschaft":MAILTO:info@bde.de
END:VEVENT
BEGIN:VEVENT
DTSTART;VALUE=DATE:20170116
DTEND;VALUE=DATE:20170118
DTSTAMP:20260420T123513
CREATED:20170104T125926Z
LAST-MODIFIED:20170104T125926Z
UID:354235-1484524800-1484697599@www.recyclingmagazin.de
SUMMARY:Konflikte in Erfolge wandeln
DESCRIPTION:
URL:https://www.recyclingmagazin.de/event/konflikte-in-erfolge-wandeln/
LOCATION:InterCity Hotel Düsseldorf\, Düsseldorf\, Deutschland
CATEGORIES:Seminar
ORGANIZER;CN="apm%C2%B3 GmbH":MAILTO:info@kommunalwirtschaft.eu
END:VEVENT
BEGIN:VEVENT
DTSTART;VALUE=DATE:20170117
DTEND;VALUE=DATE:20170118
DTSTAMP:20260420T123513
CREATED:20161125T140033Z
LAST-MODIFIED:20161125T140033Z
UID:353528-1484611200-1484697599@www.recyclingmagazin.de
SUMMARY:Preisverhandlungen in der Entsorgungswirtschaft
DESCRIPTION:
URL:https://www.recyclingmagazin.de/event/preisverhandlungen-in-der-entsorgungswirtschaft/
LOCATION:BDE-Geschäftsstelle\, Behrenstraße 29 \, Berlin\, 10117
CATEGORIES:Seminar
ORGANIZER;CN="BDE Bundesverband der Deutschen Entsorgungs-%2C Wasser- und Rohstoffwirtschaft":MAILTO:info@bde.de
END:VEVENT
BEGIN:VEVENT
DTSTART;VALUE=DATE:20170117
DTEND;VALUE=DATE:20170118
DTSTAMP:20260420T123513
CREATED:20161130T160754Z
LAST-MODIFIED:20161130T160754Z
UID:353653-1484611200-1484697599@www.recyclingmagazin.de
SUMMARY:Die Novelle der Entsorgungsfachbetriebeverordnung und ihre Auswirkung auf die Praxis
DESCRIPTION:
URL:https://www.recyclingmagazin.de/event/die-novelle-der-entsorgungsfachbetriebeverordnung-und-ihre-auswirkung-auf-die-praxis/
LOCATION:Stadthotel am Römerturm\, St. Apern-Str. 32\, Köln\, 50667 
CATEGORIES:Seminar
ORGANIZER;CN="BDE Bundesverband der Deutschen Entsorgungs-%2C Wasser- und Rohstoffwirtschaft":MAILTO:info@bde.de
END:VEVENT
BEGIN:VEVENT
DTSTART;TZID=Europe/Berlin:20170117T080000
DTEND;TZID=Europe/Berlin:20170120T170000
DTSTAMP:20260420T123513
CREATED:20160314T153042Z
LAST-MODIFIED:20161130T112705Z
UID:349051-1484640000-1484931600@www.recyclingmagazin.de
SUMMARY:IERC 2017 - 16th International Electronics Recycling Congress
DESCRIPTION:
URL:https://www.recyclingmagazin.de/event/ierc-2017-16th-international-electronics-recycling-congress/
LOCATION:Salzburg Congress\, Auerspergstraße \, Salzburg\, 5020 \, Österreich
CATEGORIES:Kongress
ORGANIZER;CN="ICM":MAILTO:info@icm.ch
END:VEVENT
BEGIN:VEVENT
DTSTART;VALUE=DATE:20170118
DTEND;VALUE=DATE:20170119
DTSTAMP:20260420T123513
CREATED:20161108T162813Z
LAST-MODIFIED:20161108T162813Z
UID:353200-1484697600-1484783999@www.recyclingmagazin.de
SUMMARY:Fortbildungslehrgang für Sachkundige nach Anlage 3 und 4 der TRGS 519
DESCRIPTION:
URL:https://www.recyclingmagazin.de/event/fortbildungslehrgang-fuer-sachkundige-nach-anlage-3-und-4-der-trgs-519/
LOCATION:Akademie Dr. Obladen GmbH\, Tauentziestraße 7a\, Berlin\, 10789\, Deutschland
CATEGORIES:Seminar
END:VEVENT
BEGIN:VEVENT
DTSTART;VALUE=DATE:20170118
DTEND;VALUE=DATE:20170119
DTSTAMP:20260420T123513
CREATED:20161108T164649Z
LAST-MODIFIED:20161108T164649Z
UID:353218-1484697600-1484783999@www.recyclingmagazin.de
SUMMARY:Die elektronische Rechnungsabwicklung
DESCRIPTION:
URL:https://www.recyclingmagazin.de/event/die-elektronische-rechnungsabwicklung/
LOCATION:BDE-Geschäftsstelle\, Behrenstraße 29 \, Berlin\, 10117
CATEGORIES:Seminar
ORGANIZER;CN="BDE Bundesverband der Deutschen Entsorgungs-%2C Wasser- und Rohstoffwirtschaft":MAILTO:info@bde.de
END:VEVENT
BEGIN:VEVENT
DTSTART;VALUE=DATE:20170118
DTEND;VALUE=DATE:20170120
DTSTAMP:20260420T123513
CREATED:20161125T134814Z
LAST-MODIFIED:20161125T134814Z
UID:353514-1484697600-1484870399@www.recyclingmagazin.de
SUMMARY:VKU-Infotag Kompaktwissen Abfallwirtschaft
DESCRIPTION:
URL:https://www.recyclingmagazin.de/event/vku-infotag-kompaktwissen-abfallwirtschaft/
LOCATION:Dormero Hotel Hannover\, Hildesheimer Straße 34-38\, Hannover \, 30169\, Deutschland
CATEGORIES:Seminar
END:VEVENT
BEGIN:VEVENT
DTSTART;VALUE=DATE:20170119
DTEND;VALUE=DATE:20170120
DTSTAMP:20260420T123513
CREATED:20161116T164916Z
LAST-MODIFIED:20161116T165009Z
UID:353331-1484784000-1484870399@www.recyclingmagazin.de
SUMMARY:Vollzug und Weiterentwicklung der Produktverantwortung
DESCRIPTION:
URL:https://www.recyclingmagazin.de/event/vollzug-und-weiterentwicklung-der-produktverantwortung/
LOCATION:Vertretung des Freistaates Bayern beim Bund – Bayerische Staatskanzlei\, Behrenstraße 21/22\, Berlin\, 10117 \, Deutschland
CATEGORIES:Kongress
END:VEVENT
BEGIN:VEVENT
DTSTART;VALUE=DATE:20170119
DTEND;VALUE=DATE:20170120
DTSTAMP:20260420T123513
CREATED:20161118T191135Z
LAST-MODIFIED:20161130T112956Z
UID:353360-1484784000-1484870399@www.recyclingmagazin.de
SUMMARY:bvse-Neujahrsempfang
DESCRIPTION:
URL:https://www.recyclingmagazin.de/event/bvse-neujahrsempfang/
LOCATION:Oberhofalm\, Filzmoos 65\, Filzmoos\, 5532 \, Österreich
CATEGORIES:Tagung
END:VEVENT
BEGIN:VEVENT
DTSTART;VALUE=DATE:20170119
DTEND;VALUE=DATE:20170120
DTSTAMP:20260420T123513
CREATED:20161223T114708Z
LAST-MODIFIED:20161223T114728Z
UID:354089-1484784000-1484870399@www.recyclingmagazin.de
SUMMARY:Restrukturierung - Sanierung - Insolvenz
DESCRIPTION:
URL:https://www.recyclingmagazin.de/event/restrukturierung-sanierung-insolvenz/
LOCATION:Konferenzbereich der BDSV\, Berliner Allee 57 – 7. Etage\, Düsseldorf\, 40212
CATEGORIES:Seminar
ORGANIZER;CN="Bundesvereinigung Deutscher Stahlrecycling-und Entsorgungsunternehmen e. V. (BDSV)":MAILTO:zentrale@bdsv.de
END:VEVENT
BEGIN:VEVENT
DTSTART;VALUE=DATE:20170119
DTEND;VALUE=DATE:20170120
DTSTAMP:20260420T123513
CREATED:20170104T130103Z
LAST-MODIFIED:20170104T130103Z
UID:354237-1484784000-1484870399@www.recyclingmagazin.de
SUMMARY:Dokumentations- und Informationspflichten im neuen Vergaberecht
DESCRIPTION:
URL:https://www.recyclingmagazin.de/event/dokumentations-und-informationspflichten-im-neuen-vergaberecht/
LOCATION:InterCity Hotel Hannover\, Rosenstraße 1\, Hannover\, 30159\, Deutschland
CATEGORIES:Seminar
END:VEVENT
BEGIN:VEVENT
DTSTART;VALUE=DATE:20170123
DTEND;VALUE=DATE:20170126
DTSTAMP:20260420T123513
CREATED:20170104T130250Z
LAST-MODIFIED:20170104T130335Z
UID:354239-1485129600-1485388799@www.recyclingmagazin.de
SUMMARY:Branchenwissen Kreislaufwirtschaft
DESCRIPTION:
URL:https://www.recyclingmagazin.de/event/branchenwissen-kreislaufwirtschaft-2/
LOCATION:InterCity Hotel Düsseldorf\, Düsseldorf\, Deutschland
CATEGORIES:Seminar
END:VEVENT
BEGIN:VEVENT
DTSTART;VALUE=DATE:20170124
DTEND;VALUE=DATE:20170125
DTSTAMP:20260420T123513
CREATED:20161202T153844Z
LAST-MODIFIED:20161202T153844Z
UID:353717-1485216000-1485302399@www.recyclingmagazin.de
SUMMARY:Persönliche Haftungsrisiken von Führungskräften in der Entsorgungswirtschaft
DESCRIPTION:
URL:https://www.recyclingmagazin.de/event/persoenliche-haftungsrisiken-von-fuehrungskraeften-in-der-entsorgungswirtschaft/
LOCATION:Stadthotel am Römerturm\, St. Apern-Str. 32\, Köln\, 50667 
CATEGORIES:Seminar
ORGANIZER;CN="BDE Bundesverband der Deutschen Entsorgungs-%2C Wasser- und Rohstoffwirtschaft":MAILTO:info@bde.de
END:VEVENT
BEGIN:VEVENT
DTSTART;VALUE=DATE:20170124
DTEND;VALUE=DATE:20170125
DTSTAMP:20260420T123513
CREATED:20161223T122321Z
LAST-MODIFIED:20161223T122534Z
UID:354113-1485216000-1485302399@www.recyclingmagazin.de
SUMMARY:Grundkurs: Qualitätssicherung und Zertifizierung von Recyclingbaustoffen
DESCRIPTION:
URL:https://www.recyclingmagazin.de/event/qualitaetssicherung-und-zertifizierung-von-recyclingbaustoffen-4/
LOCATION:Enso Hotel\, Bei der Arena 1\, Ingolstadt\, 85053\, Deutschland
CATEGORIES:Seminar
END:VEVENT
BEGIN:VEVENT
DTSTART;VALUE=DATE:20170124
DTEND;VALUE=DATE:20170126
DTSTAMP:20260420T123513
CREATED:20170104T135848Z
LAST-MODIFIED:20170104T135848Z
UID:354241-1485216000-1485388799@www.recyclingmagazin.de
SUMMARY:ADR 2015
DESCRIPTION:
URL:https://www.recyclingmagazin.de/event/adr-2015/
LOCATION:Hotel Ara Comfort\, Theodor-Heuss-Straße 30 \, Ingolstadt\, 85055 \, Deutschland
CATEGORIES:Seminar
END:VEVENT
BEGIN:VEVENT
DTSTART;VALUE=DATE:20170124
DTEND;VALUE=DATE:20170125
DTSTAMP:20260420T123513
CREATED:20170111T110301Z
LAST-MODIFIED:20170111T110301Z
UID:354433-1485216000-1485302399@www.recyclingmagazin.de
SUMMARY:Minderleistung
DESCRIPTION:Einige Mitarbeiter/innen sind absolute Spitzenkönner und hochmotiviert. Die größte Gruppe in der Belegschaft erfüllt alle Aufgaben zur Zufriedenheit und sorgt dafür\, dass der Betrieb läuft. Kopfschmerzen bereitet aber die im Vergleich dazu bisweilen erhebliche Minderleistung anderer. Die Leistungsfähigkeit dieser Personen liegt unterhalb des Normalniveaus. Man könnte meinen\, dass dies große Betriebe aushalten könnten. Doch demotiviert diese Gruppe häufig die anderen und zieht die Leistung insgesamt herunter. Arbeitnehmer sind zwar grundsätzlich verpflichtet unter vollem Einsatz der persönlichen Fähigkeiten sorgfältig zu arbeiten. Doch was ist zu tun\, wenn es hieran mangelt?\n\nEine Kündigung erscheint als letzte Option. Bei Minderleistung ist eine besonders intensive und auch durchdachte Führung erforderlich. Das Seminar erörtert im ersten Teil die arbeitsrechtlichen Aspekte. Im Vordergrund stehen die Weisung und der Beweis der erbrachten Minderleistung. Im zweiten Teil des Seminars durchdenken wir gemeinsam Führungsinstrumente sowie deren Wirksamkeit und Reichweite.
URL:https://www.recyclingmagazin.de/event/minderleistung/
LOCATION:InterCity Hotel Düsseldorf\, Düsseldorf\, Deutschland
CATEGORIES:Seminar
ORGANIZER;CN="apm%C2%B3 GmbH":MAILTO:info@kommunalwirtschaft.eu
END:VEVENT
BEGIN:VEVENT
DTSTART;VALUE=DATE:20170124
DTEND;VALUE=DATE:20170125
DTSTAMP:20260420T123513
CREATED:20160907T122539Z
LAST-MODIFIED:20160907T122539Z
UID:352266-1485216000-1485302399@www.recyclingmagazin.de
SUMMARY:Rechtliche Neuerungen rund um den Abfalltransport
DESCRIPTION:Arbeitszeit-\, Straßenverkehrs-\,Güterkraftverkehrsrecht und Berufskraftfahrerqualifikation
URL:https://www.recyclingmagazin.de/event/rechtliche-neuerungen-rund-um-den-abfalltransport-5/
LOCATION:BDE-Geschäftsstelle\, Behrenstraße 29 \, Berlin\, 10117
CATEGORIES:Seminar
ORGANIZER;CN="BDE Bundesverband der Deutschen Entsorgungs-%2C Wasser- und Rohstoffwirtschaft":MAILTO:info@bde.de
END:VEVENT
BEGIN:VEVENT
DTSTART;VALUE=DATE:20170125
DTEND;VALUE=DATE:20170126
DTSTAMP:20260420T123513
CREATED:20161223T122906Z
LAST-MODIFIED:20161223T122906Z
UID:354120-1485302400-1485388799@www.recyclingmagazin.de
SUMMARY:Fortbildungskurs: Qualitätssicherung und Zertifizierung von Recyclingbaustoffen
DESCRIPTION:
URL:https://www.recyclingmagazin.de/event/fortbildungskurs-qualitaetssicherung-und-zertifizierung-von-recyclingbaustoffen-3/
LOCATION:Enso Hotel\, Bei der Arena 1\, Ingolstadt\, 85053\, Deutschland
CATEGORIES:Seminar
END:VEVENT
BEGIN:VEVENT
DTSTART;VALUE=DATE:20170125
DTEND;VALUE=DATE:20170127
DTSTAMP:20260420T123513
CREATED:20161223T124045Z
LAST-MODIFIED:20161223T125323Z
UID:354137-1485302400-1485475199@www.recyclingmagazin.de
SUMMARY:Kombinierter Fortbildungslehrgang
DESCRIPTION:nach § 11 Entsorgungsfachbetriebeverordnung und \nnach §§ 4 und 5 AbfAEV (vorher: BefErlV bzw. TgV) \nund für Betriebsbeauftragte für Abfall
URL:https://www.recyclingmagazin.de/event/kombinierter-fortbildungslehrgang/
LOCATION:Marriott Hotel Bonn\, Platz der Vereinten Nationen 4\, Bonn\, 53113 \, Deutschland
CATEGORIES:Seminar
END:VEVENT
BEGIN:VEVENT
DTSTART;VALUE=DATE:20170125
DTEND;VALUE=DATE:20170126
DTSTAMP:20260420T123513
CREATED:20160920T095743Z
LAST-MODIFIED:20161014T122416Z
UID:352513-1485302400-1485388799@www.recyclingmagazin.de
SUMMARY:Effiziente Tourenplanung in der Recycling- und Entsorgungswirtschaft
DESCRIPTION:Optimierungspotentiale identifizieren und ausschöpfen
URL:https://www.recyclingmagazin.de/event/effiziente-tourenplanung-in-der-recycling-und-entsorgungswirtschaft-2/
LOCATION:BDE-Geschäftsstelle\, Behrenstraße 29 \, Berlin\, 10117
CATEGORIES:Seminar
ORGANIZER;CN="BDE Bundesverband der Deutschen Entsorgungs-%2C Wasser- und Rohstoffwirtschaft":MAILTO:info@bde.de
END:VEVENT
BEGIN:VEVENT
DTSTART;VALUE=DATE:20170126
DTEND;VALUE=DATE:20170127
DTSTAMP:20260420T123513
CREATED:20161118T191546Z
LAST-MODIFIED:20161130T113039Z
UID:353363-1485388800-1485475199@www.recyclingmagazin.de
SUMMARY:Euregio-Treffen VDM/BDSV
DESCRIPTION:
URL:https://www.recyclingmagazin.de/event/euregio-treffen-vdmbdsv/
LOCATION:Aachen\, Deutschland
CATEGORIES:Tagung
ORGANIZER;CN="Bundesvereinigung Deutscher Stahlrecycling-und Entsorgungsunternehmen e. V. (BDSV)":MAILTO:zentrale@bdsv.de
END:VEVENT
BEGIN:VEVENT
DTSTART;VALUE=DATE:20170126
DTEND;VALUE=DATE:20170128
DTSTAMP:20260420T123513
CREATED:20161206T104025Z
LAST-MODIFIED:20161206T104025Z
UID:353778-1485388800-1485561599@www.recyclingmagazin.de
SUMMARY:Stoffstrommanagement in der Entsorgungswirtschaft
DESCRIPTION:
URL:https://www.recyclingmagazin.de/event/stoffstrommanagement-in-der-entsorgungswirtschaft/
LOCATION:Remondis GmbH & Co. KG – Mannheim\, Antwerpener Straße 24\, Mannheim\, 68219 \, Deutschland
CATEGORIES:Seminar
ORGANIZER;CN="BDE Bundesverband der Deutschen Entsorgungs-%2C Wasser- und Rohstoffwirtschaft":MAILTO:info@bde.de
END:VEVENT
BEGIN:VEVENT
DTSTART;VALUE=DATE:20170126
DTEND;VALUE=DATE:20170127
DTSTAMP:20260420T123513
CREATED:20170104T140057Z
LAST-MODIFIED:20170104T140057Z
UID:354244-1485388800-1485475199@www.recyclingmagazin.de
SUMMARY:Fortbildung gemäß TRGS 520 und Ausnahme 20 GGAV
DESCRIPTION:
URL:https://www.recyclingmagazin.de/event/fortbildung-gemaess-trgs-520-und-ausnahme-20-ggav/
LOCATION:Hotel Ara Comfort\, Theodor-Heuss-Straße 30 \, Ingolstadt\, 85055 \, Deutschland
CATEGORIES:Seminar
END:VEVENT
BEGIN:VEVENT
DTSTART;VALUE=DATE:20170126
DTEND;VALUE=DATE:20170127
DTSTAMP:20260420T123513
CREATED:20170111T110622Z
LAST-MODIFIED:20170111T110622Z
UID:354435-1485388800-1485475199@www.recyclingmagazin.de
SUMMARY:Kunststoffverwertung als Erfolgsfaktor der Kreislaufwirtschaft
DESCRIPTION:
URL:https://www.recyclingmagazin.de/event/kunststoffverwertung-als-erfolgsfaktor-der-kreislaufwirtschaft/
LOCATION:InterCity Hotel Hannover\, Rosenstraße 1\, Hannover\, 30159\, Deutschland
CATEGORIES:Seminar
END:VEVENT
BEGIN:VEVENT
DTSTART;TZID=Europe/Berlin:20170126T150000
DTEND;TZID=Europe/Berlin:20170126T180000
DTSTAMP:20260420T123513
CREATED:20170110T094204Z
LAST-MODIFIED:20170110T094313Z
UID:354392-1485442800-1485453600@www.recyclingmagazin.de
SUMMARY:Die Störfallverordnung vor dem Hintergrund der Umsetzung der Seveso-III-Richtlinie: Auswirkung auf die Entsorgungs- und Recycling-Praxis
DESCRIPTION:Das Bundeskabinett hat die Entwürfe zur Umsetzung der sog. Seveso-III-Richtlinie beschlossen. Der Bundesrat hat zum Gesetzentwurf mit Datum vom 17.06.2016 eine Stellungnahme abgegeben\, zu der nunmehr die Gegenäußerung der Bundes-regierung veröffentlicht worden ist. \nEs sind Änderungen \n• des Bundes-Immissionsschutzgesetzes (BImSchG)\,\n• des Gesetzes über die Umweltverträglichkeitsprüfung (UVPG)\,\n• des Umwelt-Rechtsbehelfsgesetz (UmwRG)\,\n• der Störfallverordnung (12. BImSchV) sowie\n• der Verordnung über das Genehmigungsverfahren (9. BImSchV) \nvorgesehen. *) \nOb ein Betrieb unter die Regelungen der Seveso-III-RL fällt\, hängt von den vorhandenen gefährlichen Stoffen und deren Menge im Betrieb ab. Aktuelle Informationen hierzu bietet das WFZruhr am 26. Januar 2017 in einem Workshop\, der in Koopreation mit der Aurubis AG Recycling-Zentrum Lünen\, angeboten wird. \n\nUnsere Referneten/innen:\nRA‘in Christiane Rövekamp\,Wolter Hoppenberg Rechtsanwälte Partnerschaft mbB\, Hamm;\nDipl.-Ing. Stefan Herber; weyer gruppe | horst weyer und partner gmbh\, Düren;\nDr. Hendrik Roth\, Leiter Umweltschutz Lünen\, Aurubis AG Recyclingzentrum Lünen.
URL:https://www.recyclingmagazin.de/event/die-stoerfallverordnung-vor-dem-hintergrund-der-umsetzung-der-seveso-iii-richtlinie-auswirkung-auf-die-entsorgungs-und-recycling-praxis/
LOCATION:Aurubis AG Recycling-Zentrum Lünen\, Kupferstr. 23\, Lünen\, 44532\, Deutschland
CATEGORIES:Workshop
ORGANIZER;CN="WFZruhr":MAILTO:info@WFZ-ruhr.de
END:VEVENT
BEGIN:VEVENT
DTSTART;VALUE=DATE:20170131
DTEND;VALUE=DATE:20170201
DTSTAMP:20260420T123513
CREATED:20161130T160912Z
LAST-MODIFIED:20161130T160912Z
UID:353655-1485820800-1485907199@www.recyclingmagazin.de
SUMMARY:Novelle der Gewerbeabfallverordnung
DESCRIPTION:
URL:https://www.recyclingmagazin.de/event/novelle-der-gewerbeabfallverordnung/
LOCATION:BDE-Geschäftsstelle\, Behrenstraße 29 \, Berlin\, 10117
CATEGORIES:Seminar
ORGANIZER;CN="BDE Bundesverband der Deutschen Entsorgungs-%2C Wasser- und Rohstoffwirtschaft":MAILTO:info@bde.de
END:VEVENT
END:VCALENDAR