BEGIN:VCALENDAR
VERSION:2.0
PRODID:-//RECYCLING magazin - ECPv6.15.20//NONSGML v1.0//EN
CALSCALE:GREGORIAN
METHOD:PUBLISH
X-ORIGINAL-URL:https://www.recyclingmagazin.de
X-WR-CALDESC:Veranstaltungen für RECYCLING magazin
REFRESH-INTERVAL;VALUE=DURATION:PT1H
X-Robots-Tag:noindex
X-PUBLISHED-TTL:PT1H
BEGIN:VTIMEZONE
TZID:Europe/Berlin
BEGIN:DAYLIGHT
TZOFFSETFROM:+0100
TZOFFSETTO:+0200
TZNAME:CEST
DTSTART:20250330T010000
END:DAYLIGHT
BEGIN:STANDARD
TZOFFSETFROM:+0200
TZOFFSETTO:+0100
TZNAME:CET
DTSTART:20251026T010000
END:STANDARD
BEGIN:DAYLIGHT
TZOFFSETFROM:+0100
TZOFFSETTO:+0200
TZNAME:CEST
DTSTART:20260329T010000
END:DAYLIGHT
BEGIN:STANDARD
TZOFFSETFROM:+0200
TZOFFSETTO:+0100
TZNAME:CET
DTSTART:20261025T010000
END:STANDARD
BEGIN:DAYLIGHT
TZOFFSETFROM:+0100
TZOFFSETTO:+0200
TZNAME:CEST
DTSTART:20270328T010000
END:DAYLIGHT
BEGIN:STANDARD
TZOFFSETFROM:+0200
TZOFFSETTO:+0100
TZNAME:CET
DTSTART:20271031T010000
END:STANDARD
BEGIN:DAYLIGHT
TZOFFSETFROM:+0100
TZOFFSETTO:+0200
TZNAME:CEST
DTSTART:20280326T010000
END:DAYLIGHT
BEGIN:STANDARD
TZOFFSETFROM:+0200
TZOFFSETTO:+0100
TZNAME:CET
DTSTART:20281029T010000
END:STANDARD
END:VTIMEZONE
BEGIN:VEVENT
DTSTART;VALUE=DATE:20260119
DTEND;VALUE=DATE:20270701
DTSTAMP:20260419T173959
CREATED:20251126T131910Z
LAST-MODIFIED:20251126T131910Z
UID:413744-1768780800-1814399999@www.recyclingmagazin.de
SUMMARY:Vorbereitungskurs auf die Externenprüfung „Umwelttechnologe/-in für Kreislauf- und Abfallwirtschaft“
DESCRIPTION:
URL:https://www.recyclingmagazin.de/event/vorbereitungskurs-auf-die-externenpruefung-umwelttechnologe-in-fuer-kreislauf-und-abfallwirtschaft/
END:VEVENT
BEGIN:VEVENT
DTSTART;VALUE=DATE:20260420
DTEND;VALUE=DATE:20260422
DTSTAMP:20260419T173959
CREATED:20251020T182829Z
LAST-MODIFIED:20251020T182829Z
UID:413077-1776643200-1776815999@www.recyclingmagazin.de
SUMMARY:Disposition und Fuhrparksteuerung
DESCRIPTION:
URL:https://www.recyclingmagazin.de/event/disposition-und-fuhrparksteuerung-9/
CATEGORIES:Webinar
END:VEVENT
BEGIN:VEVENT
DTSTART;VALUE=DATE:20260420
DTEND;VALUE=DATE:20260421
DTSTAMP:20260419T173959
CREATED:20260114T120306Z
LAST-MODIFIED:20260114T120306Z
UID:414230-1776643200-1776729599@www.recyclingmagazin.de
SUMMARY:Basiswissen Chemie in der Schadstoffsammlung
DESCRIPTION:
URL:https://www.recyclingmagazin.de/event/basiswissen-chemie-in-der-schadstoffsammlung-7/
CATEGORIES:Webinar
END:VEVENT
BEGIN:VEVENT
DTSTART;VALUE=DATE:20260420
DTEND;VALUE=DATE:20260421
DTSTAMP:20260419T173959
CREATED:20260114T121922Z
LAST-MODIFIED:20260114T121922Z
UID:414249-1776643200-1776729599@www.recyclingmagazin.de
SUMMARY:KI vereinfacht Verwaltung
DESCRIPTION:
URL:https://www.recyclingmagazin.de/event/ki-vereinfacht-verwaltung/
CATEGORIES:Seminar
END:VEVENT
BEGIN:VEVENT
DTSTART;VALUE=DATE:20260420
DTEND;VALUE=DATE:20260424
DTSTAMP:20260419T173959
CREATED:20260305T163804Z
LAST-MODIFIED:20260305T163940Z
UID:415061-1776643200-1776988799@www.recyclingmagazin.de
SUMMARY:Betriebsbeauftragter für Abfall | Abfallbeauftragter nach AbfBeauftrV | EfbV | AbfAEV - Grundkurs
DESCRIPTION:
URL:https://www.recyclingmagazin.de/event/betriebsbeauftragter-fuer-abfall-abfallbeauftragter-nach-abfbeauftrv-efbv-abfaev-grundkurs-4/
CATEGORIES:Webinar
ORGANIZER;CN="kenic GmbH":MAILTO:info@kenic.de
END:VEVENT
BEGIN:VEVENT
DTSTART;VALUE=DATE:20260420
DTEND;VALUE=DATE:20260424
DTSTAMP:20260419T173959
CREATED:20260305T164416Z
LAST-MODIFIED:20260305T164416Z
UID:415065-1776643200-1776988799@www.recyclingmagazin.de
SUMMARY:Fachkundelehrgang EfbV | AbfAEV Grundkurs
DESCRIPTION:
URL:https://www.recyclingmagazin.de/event/fachkundelehrgang-efbv-abfaev-grundkurs-3/
CATEGORIES:Webinar
ORGANIZER;CN="kenic GmbH":MAILTO:info@kenic.de
END:VEVENT
BEGIN:VEVENT
DTSTART;VALUE=DATE:20260421
DTEND;VALUE=DATE:20260422
DTSTAMP:20260419T173959
CREATED:20251027T191619Z
LAST-MODIFIED:20251027T191619Z
UID:413256-1776729600-1776815999@www.recyclingmagazin.de
SUMMARY:Neue Ersatzbaustoffverordnung in der Praxis
DESCRIPTION:
URL:https://www.recyclingmagazin.de/event/neue-ersatzbaustoffverordnung-in-der-praxis-18/
CATEGORIES:Webinar
END:VEVENT
BEGIN:VEVENT
DTSTART;VALUE=DATE:20260421
DTEND;VALUE=DATE:20260422
DTSTAMP:20260419T173959
CREATED:20251027T193357Z
LAST-MODIFIED:20251027T193357Z
UID:413280-1776729600-1776815999@www.recyclingmagazin.de
SUMMARY:Rechtliche Neuerungen rund um den Transport
DESCRIPTION:
URL:https://www.recyclingmagazin.de/event/rechtliche-neuerungen-rund-um-den-transport-24/
CATEGORIES:Webinar
END:VEVENT
BEGIN:VEVENT
DTSTART;VALUE=DATE:20260421
DTEND;VALUE=DATE:20260423
DTSTAMP:20260419T173959
CREATED:20251031T134845Z
LAST-MODIFIED:20251031T134845Z
UID:413420-1776729600-1776902399@www.recyclingmagazin.de
SUMMARY:Kombinierter Fortbildungslehrgang nach § 9 EfbV und § 5 AbfAEV sowie § 9 AbfBeauftrV
DESCRIPTION:
URL:https://www.recyclingmagazin.de/event/kombinierter-fortbildungslehrgang-nach-%c2%a7-9-efbv-und-%c2%a7-5-abfaev-sowie-%c2%a7-9-abfbeauftrv-22/
LOCATION:bvse-Bildungszentrum\, Hohe Straße 73\, Bonn\, 53119
CATEGORIES:Seminar
END:VEVENT
BEGIN:VEVENT
DTSTART;VALUE=DATE:20260421
DTEND;VALUE=DATE:20260423
DTSTAMP:20260419T173959
CREATED:20260114T121218Z
LAST-MODIFIED:20260114T121218Z
UID:414240-1776729600-1776902399@www.recyclingmagazin.de
SUMMARY:Aktuelle Trends im Kunststoffrecycling
DESCRIPTION:
URL:https://www.recyclingmagazin.de/event/aktuelle-trends-im-kunststoffrecycling-11/
CATEGORIES:Webinar
END:VEVENT
BEGIN:VEVENT
DTSTART;VALUE=DATE:20260421
DTEND;VALUE=DATE:20260423
DTSTAMP:20260419T173959
CREATED:20260114T121320Z
LAST-MODIFIED:20260114T121320Z
UID:414242-1776729600-1776902399@www.recyclingmagazin.de
SUMMARY:Künstliche Intelligenz in der Abfallwirtschaft
DESCRIPTION:
URL:https://www.recyclingmagazin.de/event/kuenstliche-intelligenz-in-der-abfallwirtschaft/
CATEGORIES:Seminar
END:VEVENT
BEGIN:VEVENT
DTSTART;VALUE=DATE:20260422
DTEND;VALUE=DATE:20260423
DTSTAMP:20260419T173959
CREATED:20251020T184511Z
LAST-MODIFIED:20251020T184511Z
UID:413083-1776816000-1776902399@www.recyclingmagazin.de
SUMMARY:Die GewAbfV - Gewerbeabfallverordnung in der Praxis
DESCRIPTION:
URL:https://www.recyclingmagazin.de/event/die-gewabfv-gewerbeabfallverordnung-in-der-praxis-32/
CATEGORIES:Webinar
END:VEVENT
BEGIN:VEVENT
DTSTART;VALUE=DATE:20260424
DTEND;VALUE=DATE:20260425
DTSTAMP:20260419T173959
CREATED:20251027T194933Z
LAST-MODIFIED:20260305T204938Z
UID:413304-1776988800-1777075199@www.recyclingmagazin.de
SUMMARY:Befähigte Person zur Prüfung von Absetz- und Abrollbehältern (14 BetrSichV)
DESCRIPTION:
URL:https://www.recyclingmagazin.de/event/befaehigte-person-zur-pruefung-von-absetz-und-abrollbehaeltern-14-betrsichv-20/
CATEGORIES:Webinar
END:VEVENT
BEGIN:VEVENT
DTSTART;VALUE=DATE:20260428
DTEND;VALUE=DATE:20260429
DTSTAMP:20260419T173959
CREATED:20260305T180210Z
LAST-MODIFIED:20260305T180210Z
UID:415100-1777334400-1777420799@www.recyclingmagazin.de
SUMMARY:Preiserverhandlungen in der Entsorgungswirtschaft
DESCRIPTION:
URL:https://www.recyclingmagazin.de/event/preiserverhandlungen-in-der-entsorgungswirtschaft/
CATEGORIES:Webinar
END:VEVENT
BEGIN:VEVENT
DTSTART;TZID=Europe/Berlin:20260428T080000
DTEND;TZID=Europe/Berlin:20260428T170000
DTSTAMP:20260419T173959
CREATED:20251020T173751Z
LAST-MODIFIED:20251020T173751Z
UID:413047-1777363200-1777395600@www.recyclingmagazin.de
SUMMARY:Grundlagen der Chemie von Abfall
DESCRIPTION:
URL:https://www.recyclingmagazin.de/event/grundlagen-der-chemie-von-abfall-22/
CATEGORIES:Webinar
END:VEVENT
BEGIN:VEVENT
DTSTART;TZID=Europe/Berlin:20260428T143000
DTEND;TZID=Europe/Berlin:20260428T160000
DTSTAMP:20260419T173959
CREATED:20260114T120429Z
LAST-MODIFIED:20260114T120443Z
UID:414232-1777386600-1777392000@www.recyclingmagazin.de
SUMMARY:Kleidertauschbörse: Gemeinschaftlich handeln\, nachhaltig denken!
DESCRIPTION:
URL:https://www.recyclingmagazin.de/event/kleidertauschboerse-gemeinschaftlich-handeln-nachhaltig-denken-2/
CATEGORIES:Webinar
END:VEVENT
BEGIN:VEVENT
DTSTART;TZID=Europe/Berlin:20260428T143000
DTEND;TZID=Europe/Berlin:20260428T160000
DTSTAMP:20260419T173959
CREATED:20260305T145702Z
LAST-MODIFIED:20260305T151106Z
UID:415029-1777386600-1777392000@www.recyclingmagazin.de
SUMMARY:Neuerungen der Abfallverbringungsordnung Teil 1
DESCRIPTION:
URL:https://www.recyclingmagazin.de/event/neuerungen-der-abfallverbringungsordnung-teil-1/
CATEGORIES:Webinar
END:VEVENT
BEGIN:VEVENT
DTSTART;VALUE=DATE:20260429
DTEND;VALUE=DATE:20260430
DTSTAMP:20260419T173959
CREATED:20251020T180147Z
LAST-MODIFIED:20251020T180147Z
UID:413057-1777420800-1777507199@www.recyclingmagazin.de
SUMMARY:Der Disponent in der Logistik
DESCRIPTION:
URL:https://www.recyclingmagazin.de/event/der-disponent-in-der-logistik-22/
CATEGORIES:Seminar,Webinar
END:VEVENT
BEGIN:VEVENT
DTSTART;VALUE=DATE:20260429
DTEND;VALUE=DATE:20260430
DTSTAMP:20260419T173959
CREATED:20260114T120559Z
LAST-MODIFIED:20260114T120727Z
UID:414234-1777420800-1777507199@www.recyclingmagazin.de
SUMMARY:Nachweisführung über die Entsorgung von Abfällen
DESCRIPTION:
URL:https://www.recyclingmagazin.de/event/nachweisfuehrung-ueber-die-entsorgung-von-abfaellen-9/
CATEGORIES:Webinar
END:VEVENT
BEGIN:VEVENT
DTSTART;VALUE=DATE:20260430
DTEND;VALUE=DATE:20260501
DTSTAMP:20260419T173959
CREATED:20251021T102718Z
LAST-MODIFIED:20251021T102718Z
UID:413145-1777507200-1777593599@www.recyclingmagazin.de
SUMMARY:Lehrgang zur Probenahme fester Abfälle nach LAGA PN 98
DESCRIPTION:
URL:https://www.recyclingmagazin.de/event/lehrgang-zur-probenahme-fester-abfaelle-nach-laga-pn-98-33/
LOCATION:Good Morning + Berlin City East\, Ruschestraße 45\, Berlin\, 10367\, Deutschland
CATEGORIES:Seminar
END:VEVENT
BEGIN:VEVENT
DTSTART;VALUE=DATE:20260504
DTEND;VALUE=DATE:20260509
DTSTAMP:20260419T173959
CREATED:20240611T121400Z
LAST-MODIFIED:20240611T121400Z
UID:404788-1777852800-1778284799@www.recyclingmagazin.de
SUMMARY:IFAT Munich 2026
DESCRIPTION:
URL:https://www.recyclingmagazin.de/event/ifat-munich-2026/
LOCATION:Messe München\, Messegelände\, München\, 81823
CATEGORIES:Messe
ORGANIZER;CN="Messe M%C3%BCnchen":MAILTO:info@messe-muenchen.de
END:VEVENT
BEGIN:VEVENT
DTSTART;VALUE=DATE:20260505
DTEND;VALUE=DATE:20260506
DTSTAMP:20260419T173959
CREATED:20251021T095208Z
LAST-MODIFIED:20251021T095208Z
UID:413111-1777939200-1778025599@www.recyclingmagazin.de
SUMMARY:§ 53 KrWG Lehrgang zum Nachweis der Fachkunde
DESCRIPTION:
URL:https://www.recyclingmagazin.de/event/%c2%a7-53-krwg-lehrgang-zum-nachweis-der-fachkunde-49/
CATEGORIES:Webinar
END:VEVENT
BEGIN:VEVENT
DTSTART;VALUE=DATE:20260505
DTEND;VALUE=DATE:20260506
DTSTAMP:20260419T173959
CREATED:20251027T194210Z
LAST-MODIFIED:20251027T194210Z
UID:413292-1777939200-1778025599@www.recyclingmagazin.de
SUMMARY:Sachkunde gemäß Altholzverordnung
DESCRIPTION:
URL:https://www.recyclingmagazin.de/event/sachkunde-gemaess-altholzverordnung-16/
CATEGORIES:Webinar
END:VEVENT
BEGIN:VEVENT
DTSTART;VALUE=DATE:20260505
DTEND;VALUE=DATE:20260507
DTSTAMP:20260419T173959
CREATED:20260305T135039Z
LAST-MODIFIED:20260305T135039Z
UID:415012-1777939200-1778111999@www.recyclingmagazin.de
SUMMARY:Crashkurs Rückbau und Abbruch
DESCRIPTION:
URL:https://www.recyclingmagazin.de/event/crashkurs-rueckbau-und-abbruch-5/
LOCATION:wissen
CATEGORIES:Webinar
END:VEVENT
BEGIN:VEVENT
DTSTART;TZID=Europe/Berlin:20260505T090000
DTEND;TZID=Europe/Berlin:20260505T110000
DTSTAMP:20260419T173959
CREATED:20251027T203156Z
LAST-MODIFIED:20251027T203156Z
UID:413334-1777971600-1777978800@www.recyclingmagazin.de
SUMMARY:Fachgerechter Umgang mit der Waage in der Abfallannahme
DESCRIPTION:
URL:https://www.recyclingmagazin.de/event/fachgerechter-umgang-mit-der-waage-in-der-abfallannahme-19/
CATEGORIES:Webinar
END:VEVENT
BEGIN:VEVENT
DTSTART;VALUE=DATE:20260506
DTEND;VALUE=DATE:20260507
DTSTAMP:20260419T173959
CREATED:20251021T103309Z
LAST-MODIFIED:20251021T103309Z
UID:413148-1778025600-1778111999@www.recyclingmagazin.de
SUMMARY:Lehrgang zur Probenahme fester Abfälle nach LAGA PN 98
DESCRIPTION:
URL:https://www.recyclingmagazin.de/event/lehrgang-zur-probenahme-fester-abfaelle-nach-laga-pn-98-34/
CATEGORIES:Webinar
END:VEVENT
BEGIN:VEVENT
DTSTART;VALUE=DATE:20260507
DTEND;VALUE=DATE:20260508
DTSTAMP:20260419T173959
CREATED:20251020T173047Z
LAST-MODIFIED:20251027T185244Z
UID:413043-1778112000-1778198399@www.recyclingmagazin.de
SUMMARY:Beschwerdemanagement in der Abfallwirtschaft
DESCRIPTION:
URL:https://www.recyclingmagazin.de/event/beschwerdemanagement-in-der-abfallwirtschaft-12/
CATEGORIES:Webinar
END:VEVENT
BEGIN:VEVENT
DTSTART;VALUE=DATE:20260511
DTEND;VALUE=DATE:20260512
DTSTAMP:20260419T173959
CREATED:20251027T183104Z
LAST-MODIFIED:20251027T183104Z
UID:413210-1778457600-1778543999@www.recyclingmagazin.de
SUMMARY:Abfall einstufen nach AVV
DESCRIPTION:
URL:https://www.recyclingmagazin.de/event/abfall-einstufen-nach-avv-14/
CATEGORIES:Webinar
END:VEVENT
BEGIN:VEVENT
DTSTART;VALUE=DATE:20260511
DTEND;VALUE=DATE:20260516
DTSTAMP:20260419T173959
CREATED:20260305T211717Z
LAST-MODIFIED:20260305T211717Z
UID:415132-1778457600-1778889599@www.recyclingmagazin.de
SUMMARY:ISWA Italy Study Tour 2026
DESCRIPTION:
URL:https://www.recyclingmagazin.de/event/iswa-italy-study-tour-2026/
CATEGORIES:Studienreise
END:VEVENT
BEGIN:VEVENT
DTSTART;VALUE=DATE:20260512
DTEND;VALUE=DATE:20260514
DTSTAMP:20260419T173959
CREATED:20251020T182137Z
LAST-MODIFIED:20251020T182137Z
UID:413071-1778544000-1778716799@www.recyclingmagazin.de
SUMMARY:Einführung rechtliche und technische Grundlagen der Abfallwirtschaft
DESCRIPTION:
URL:https://www.recyclingmagazin.de/event/einfuehrung-rechtliche-und-technische-grundlagen-der-abfallwirtschaft-63/
CATEGORIES:Webinar
END:VEVENT
END:VCALENDAR