BEGIN:VCALENDAR
VERSION:2.0
PRODID:-//RECYCLING magazin - ECPv6.15.20//NONSGML v1.0//EN
CALSCALE:GREGORIAN
METHOD:PUBLISH
X-WR-CALNAME:RECYCLING magazin
X-ORIGINAL-URL:https://www.recyclingmagazin.de
X-WR-CALDESC:Veranstaltungen für RECYCLING magazin
REFRESH-INTERVAL;VALUE=DURATION:PT1H
X-Robots-Tag:noindex
X-PUBLISHED-TTL:PT1H
BEGIN:VTIMEZONE
TZID:Europe/Berlin
BEGIN:DAYLIGHT
TZOFFSETFROM:+0100
TZOFFSETTO:+0200
TZNAME:CEST
DTSTART:20250330T010000
END:DAYLIGHT
BEGIN:STANDARD
TZOFFSETFROM:+0200
TZOFFSETTO:+0100
TZNAME:CET
DTSTART:20251026T010000
END:STANDARD
BEGIN:DAYLIGHT
TZOFFSETFROM:+0100
TZOFFSETTO:+0200
TZNAME:CEST
DTSTART:20260329T010000
END:DAYLIGHT
BEGIN:STANDARD
TZOFFSETFROM:+0200
TZOFFSETTO:+0100
TZNAME:CET
DTSTART:20261025T010000
END:STANDARD
BEGIN:DAYLIGHT
TZOFFSETFROM:+0100
TZOFFSETTO:+0200
TZNAME:CEST
DTSTART:20270328T010000
END:DAYLIGHT
BEGIN:STANDARD
TZOFFSETFROM:+0200
TZOFFSETTO:+0100
TZNAME:CET
DTSTART:20271031T010000
END:STANDARD
BEGIN:DAYLIGHT
TZOFFSETFROM:+0100
TZOFFSETTO:+0200
TZNAME:CEST
DTSTART:20280326T010000
END:DAYLIGHT
BEGIN:STANDARD
TZOFFSETFROM:+0200
TZOFFSETTO:+0100
TZNAME:CET
DTSTART:20281029T010000
END:STANDARD
END:VTIMEZONE
BEGIN:VEVENT
DTSTART;VALUE=DATE:20260119
DTEND;VALUE=DATE:20270701
DTSTAMP:20260421T015343
CREATED:20251126T131910Z
LAST-MODIFIED:20251126T131910Z
UID:413744-1768780800-1814399999@www.recyclingmagazin.de
SUMMARY:Vorbereitungskurs auf die Externenprüfung „Umwelttechnologe/-in für Kreislauf- und Abfallwirtschaft“
DESCRIPTION:
URL:https://www.recyclingmagazin.de/event/vorbereitungskurs-auf-die-externenpruefung-umwelttechnologe-in-fuer-kreislauf-und-abfallwirtschaft/
END:VEVENT
BEGIN:VEVENT
DTSTART;VALUE=DATE:20260420
DTEND;VALUE=DATE:20260422
DTSTAMP:20260421T015343
CREATED:20251020T182829Z
LAST-MODIFIED:20251020T182829Z
UID:413077-1776643200-1776815999@www.recyclingmagazin.de
SUMMARY:Disposition und Fuhrparksteuerung
DESCRIPTION:
URL:https://www.recyclingmagazin.de/event/disposition-und-fuhrparksteuerung-9/
CATEGORIES:Webinar
END:VEVENT
BEGIN:VEVENT
DTSTART;VALUE=DATE:20260420
DTEND;VALUE=DATE:20260424
DTSTAMP:20260421T015343
CREATED:20260305T163804Z
LAST-MODIFIED:20260305T163940Z
UID:415061-1776643200-1776988799@www.recyclingmagazin.de
SUMMARY:Betriebsbeauftragter für Abfall | Abfallbeauftragter nach AbfBeauftrV | EfbV | AbfAEV - Grundkurs
DESCRIPTION:
URL:https://www.recyclingmagazin.de/event/betriebsbeauftragter-fuer-abfall-abfallbeauftragter-nach-abfbeauftrv-efbv-abfaev-grundkurs-4/
CATEGORIES:Webinar
ORGANIZER;CN="kenic GmbH":MAILTO:info@kenic.de
END:VEVENT
BEGIN:VEVENT
DTSTART;VALUE=DATE:20260420
DTEND;VALUE=DATE:20260424
DTSTAMP:20260421T015343
CREATED:20260305T164416Z
LAST-MODIFIED:20260305T164416Z
UID:415065-1776643200-1776988799@www.recyclingmagazin.de
SUMMARY:Fachkundelehrgang EfbV | AbfAEV Grundkurs
DESCRIPTION:
URL:https://www.recyclingmagazin.de/event/fachkundelehrgang-efbv-abfaev-grundkurs-3/
CATEGORIES:Webinar
ORGANIZER;CN="kenic GmbH":MAILTO:info@kenic.de
END:VEVENT
BEGIN:VEVENT
DTSTART;VALUE=DATE:20260421
DTEND;VALUE=DATE:20260422
DTSTAMP:20260421T015343
CREATED:20251027T191619Z
LAST-MODIFIED:20251027T191619Z
UID:413256-1776729600-1776815999@www.recyclingmagazin.de
SUMMARY:Neue Ersatzbaustoffverordnung in der Praxis
DESCRIPTION:
URL:https://www.recyclingmagazin.de/event/neue-ersatzbaustoffverordnung-in-der-praxis-18/
CATEGORIES:Webinar
END:VEVENT
BEGIN:VEVENT
DTSTART;VALUE=DATE:20260421
DTEND;VALUE=DATE:20260422
DTSTAMP:20260421T015343
CREATED:20251027T193357Z
LAST-MODIFIED:20251027T193357Z
UID:413280-1776729600-1776815999@www.recyclingmagazin.de
SUMMARY:Rechtliche Neuerungen rund um den Transport
DESCRIPTION:
URL:https://www.recyclingmagazin.de/event/rechtliche-neuerungen-rund-um-den-transport-24/
CATEGORIES:Webinar
END:VEVENT
BEGIN:VEVENT
DTSTART;VALUE=DATE:20260421
DTEND;VALUE=DATE:20260423
DTSTAMP:20260421T015343
CREATED:20251031T134845Z
LAST-MODIFIED:20251031T134845Z
UID:413420-1776729600-1776902399@www.recyclingmagazin.de
SUMMARY:Kombinierter Fortbildungslehrgang nach § 9 EfbV und § 5 AbfAEV sowie § 9 AbfBeauftrV
DESCRIPTION:
URL:https://www.recyclingmagazin.de/event/kombinierter-fortbildungslehrgang-nach-%c2%a7-9-efbv-und-%c2%a7-5-abfaev-sowie-%c2%a7-9-abfbeauftrv-22/
LOCATION:bvse-Bildungszentrum\, Hohe Straße 73\, Bonn\, 53119
CATEGORIES:Seminar
END:VEVENT
BEGIN:VEVENT
DTSTART;VALUE=DATE:20260421
DTEND;VALUE=DATE:20260423
DTSTAMP:20260421T015343
CREATED:20260114T121218Z
LAST-MODIFIED:20260114T121218Z
UID:414240-1776729600-1776902399@www.recyclingmagazin.de
SUMMARY:Aktuelle Trends im Kunststoffrecycling
DESCRIPTION:
URL:https://www.recyclingmagazin.de/event/aktuelle-trends-im-kunststoffrecycling-11/
CATEGORIES:Webinar
END:VEVENT
BEGIN:VEVENT
DTSTART;VALUE=DATE:20260421
DTEND;VALUE=DATE:20260423
DTSTAMP:20260421T015343
CREATED:20260114T121320Z
LAST-MODIFIED:20260114T121320Z
UID:414242-1776729600-1776902399@www.recyclingmagazin.de
SUMMARY:Künstliche Intelligenz in der Abfallwirtschaft
DESCRIPTION:
URL:https://www.recyclingmagazin.de/event/kuenstliche-intelligenz-in-der-abfallwirtschaft/
CATEGORIES:Seminar
END:VEVENT
END:VCALENDAR