BEGIN:VCALENDAR
VERSION:2.0
PRODID:-//RECYCLING magazin - ECPv6.15.20//NONSGML v1.0//EN
CALSCALE:GREGORIAN
METHOD:PUBLISH
X-WR-CALNAME:RECYCLING magazin
X-ORIGINAL-URL:https://www.recyclingmagazin.de
X-WR-CALDESC:Veranstaltungen für RECYCLING magazin
REFRESH-INTERVAL;VALUE=DURATION:PT1H
X-Robots-Tag:noindex
X-PUBLISHED-TTL:PT1H
BEGIN:VTIMEZONE
TZID:Europe/Berlin
BEGIN:DAYLIGHT
TZOFFSETFROM:+0100
TZOFFSETTO:+0200
TZNAME:CEST
DTSTART:20160327T010000
END:DAYLIGHT
BEGIN:STANDARD
TZOFFSETFROM:+0200
TZOFFSETTO:+0100
TZNAME:CET
DTSTART:20161030T010000
END:STANDARD
BEGIN:DAYLIGHT
TZOFFSETFROM:+0100
TZOFFSETTO:+0200
TZNAME:CEST
DTSTART:20170326T010000
END:DAYLIGHT
BEGIN:STANDARD
TZOFFSETFROM:+0200
TZOFFSETTO:+0100
TZNAME:CET
DTSTART:20171029T010000
END:STANDARD
BEGIN:DAYLIGHT
TZOFFSETFROM:+0100
TZOFFSETTO:+0200
TZNAME:CEST
DTSTART:20180325T010000
END:DAYLIGHT
BEGIN:STANDARD
TZOFFSETFROM:+0200
TZOFFSETTO:+0100
TZNAME:CET
DTSTART:20181028T010000
END:STANDARD
END:VTIMEZONE
BEGIN:VEVENT
DTSTART;VALUE=DATE:20170220
DTEND;VALUE=DATE:20170221
DTSTAMP:20260420T123423
CREATED:20170208T142613Z
LAST-MODIFIED:20170208T142613Z
UID:355146-1487548800-1487635199@www.recyclingmagazin.de
SUMMARY:Wilder Müll
DESCRIPTION:Wilder Müll auf Grünflächen und Plätzen\, entlang der Fuß- und Radwege\, Wander- und Waldwege sowie der öffentlichen Straßen prägt leider immer häufiger das Ortsbild vieler Kommunen. Verschandelt wird nicht nur das Erscheinungsbild zahlreicher Städte und Gemeinden\, sondern es erwachsen gleichzeitig auch Umweltgefahren …
URL:https://www.recyclingmagazin.de/event/wilder-muell-2/
LOCATION:InterCity Hotel Hannover\, Rosenstraße 1\, Hannover\, 30159\, Deutschland
CATEGORIES:Seminar
END:VEVENT
END:VCALENDAR