BEGIN:VCALENDAR
VERSION:2.0
PRODID:-//RECYCLING magazin - ECPv6.15.20//NONSGML v1.0//EN
CALSCALE:GREGORIAN
METHOD:PUBLISH
X-WR-CALNAME:RECYCLING magazin
X-ORIGINAL-URL:https://www.recyclingmagazin.de
X-WR-CALDESC:Veranstaltungen für RECYCLING magazin
REFRESH-INTERVAL;VALUE=DURATION:PT1H
X-Robots-Tag:noindex
X-PUBLISHED-TTL:PT1H
BEGIN:VTIMEZONE
TZID:Europe/Berlin
BEGIN:DAYLIGHT
TZOFFSETFROM:+0100
TZOFFSETTO:+0200
TZNAME:CEST
DTSTART:20160327T010000
END:DAYLIGHT
BEGIN:STANDARD
TZOFFSETFROM:+0200
TZOFFSETTO:+0100
TZNAME:CET
DTSTART:20161030T010000
END:STANDARD
BEGIN:DAYLIGHT
TZOFFSETFROM:+0100
TZOFFSETTO:+0200
TZNAME:CEST
DTSTART:20170326T010000
END:DAYLIGHT
BEGIN:STANDARD
TZOFFSETFROM:+0200
TZOFFSETTO:+0100
TZNAME:CET
DTSTART:20171029T010000
END:STANDARD
BEGIN:DAYLIGHT
TZOFFSETFROM:+0100
TZOFFSETTO:+0200
TZNAME:CEST
DTSTART:20180325T010000
END:DAYLIGHT
BEGIN:STANDARD
TZOFFSETFROM:+0200
TZOFFSETTO:+0100
TZNAME:CET
DTSTART:20181028T010000
END:STANDARD
END:VTIMEZONE
BEGIN:VEVENT
DTSTART;VALUE=DATE:20170516
DTEND;VALUE=DATE:20170519
DTSTAMP:20260420T043603
CREATED:20161125T143041Z
LAST-MODIFIED:20170731T134020Z
UID:353559-1494892800-1495151999@www.recyclingmagazin.de
SUMMARY:Waste-to-Resources 2017
DESCRIPTION:In der Zeit vom 16. bis 18. Mai 2017 findet die nächste Waste-to-Resources in Hannover statt. Mehr als 80 Beiträge zeigen Ihnen die neuesten Informationen aus Politik\, Gesetzgebung und technischer Entwicklung auf – in Deutschland\, Europa und der Welt. Dafür sorgen Autoren aus 18 Ländern. Die Schirmherrschaft hat erneut Bundesumweltministerin Dr. Barbara Hendricks übernommen. Im Saal 1 können Sie dank Simultanübersetzung auch die fremdsprachigen Beiträge bequem auf Deutsch hören. Sie verpassen nicht\, was morgen die Kreislaufwirtschaft bestimmt. Kernthemen von Waste-to-Resources 2017 sind u. a.: \n• Kreislaufwirtschaftspaket der EU\n• Europäische BREF-Dokumente vor der Fertigstellung\n• Die neue TA-Luft\n• EuGH und Vergaberecht\n• Kreislaufwirtschaft und Klimaschutz\n• Verwertung von Kunststoffen\, organischen und mineralischen Abfällen\n• Emissionsminderung\n• Abfallanalytik\, und Abfallprognosen\n• Aktuelle Technik und Weiterentwicklung der MBA\n• Entwicklung der Kreislaufwirtschaft weltweit \nDie Waste-to-Resources ist seit 2005 die weltweit größte Tagung mit Schwerpunkt in der stoffspezifischen Abfallbehandlung (mechanische und biologische Abfallbehandlung\, Abfallsortiertechnik). Seit 2013 ist sie eine gemeinsame Veranstaltung der ASA und von Wasteconsult international. Die Tagung wird von einer Fachausstellung begleitet. \nWaste-to-Resources 2017
URL:https://www.recyclingmagazin.de/event/waste-to-resources-2017/
LOCATION:Wienecke XI. Designhotel + Congress centrum Hannover\, Hildesheimer Straße 380\, Hannover\, 30519 \, Deutschland
CATEGORIES:Tagung
END:VEVENT
END:VCALENDAR