BEGIN:VCALENDAR
VERSION:2.0
PRODID:-//RECYCLING magazin - ECPv6.15.20//NONSGML v1.0//EN
CALSCALE:GREGORIAN
METHOD:PUBLISH
X-WR-CALNAME:RECYCLING magazin
X-ORIGINAL-URL:https://www.recyclingmagazin.de
X-WR-CALDESC:Veranstaltungen für RECYCLING magazin
REFRESH-INTERVAL;VALUE=DURATION:PT1H
X-Robots-Tag:noindex
X-PUBLISHED-TTL:PT1H
BEGIN:VTIMEZONE
TZID:Europe/Berlin
BEGIN:DAYLIGHT
TZOFFSETFROM:+0100
TZOFFSETTO:+0200
TZNAME:CEST
DTSTART:20170326T010000
END:DAYLIGHT
BEGIN:STANDARD
TZOFFSETFROM:+0200
TZOFFSETTO:+0100
TZNAME:CET
DTSTART:20171029T010000
END:STANDARD
BEGIN:DAYLIGHT
TZOFFSETFROM:+0100
TZOFFSETTO:+0200
TZNAME:CEST
DTSTART:20180325T010000
END:DAYLIGHT
BEGIN:STANDARD
TZOFFSETFROM:+0200
TZOFFSETTO:+0100
TZNAME:CET
DTSTART:20181028T010000
END:STANDARD
BEGIN:DAYLIGHT
TZOFFSETFROM:+0100
TZOFFSETTO:+0200
TZNAME:CEST
DTSTART:20190331T010000
END:DAYLIGHT
BEGIN:STANDARD
TZOFFSETFROM:+0200
TZOFFSETTO:+0100
TZNAME:CET
DTSTART:20191027T010000
END:STANDARD
END:VTIMEZONE
BEGIN:VEVENT
DTSTART;VALUE=DATE:20180608
DTEND;VALUE=DATE:20180609
DTSTAMP:20260421T225616
CREATED:20180606T161621Z
LAST-MODIFIED:20180606T161621Z
UID:364044-1528416000-1528502399@www.recyclingmagazin.de
SUMMARY:Vorstellung von 6 neuen Länderprofilen
DESCRIPTION:Am 08.06. 2018 stellen German Water Partnership (GWP) und German RETech Partnership (RETech) im Rahmen einer Branchenveranstaltung im BMU in Berlin 6 neue Länderprofile vor. Gefördert wurde die Erstellung wie die im Jahr 2017 vorgestellten Profile durch die Exportinitiative Umwelttechnologien des Bundesumweltministeriums.
URL:https://www.recyclingmagazin.de/event/vorstellung-von-6-neuen-laenderprofilen/
LOCATION:BMU Berlin\, Streesemannstraße 128-130\, Berlin\, 10117\, Deutschland
CATEGORIES:Vortrag
END:VEVENT
END:VCALENDAR