BEGIN:VCALENDAR
VERSION:2.0
PRODID:-//RECYCLING magazin - ECPv6.15.20//NONSGML v1.0//EN
CALSCALE:GREGORIAN
METHOD:PUBLISH
X-WR-CALNAME:RECYCLING magazin
X-ORIGINAL-URL:https://www.recyclingmagazin.de
X-WR-CALDESC:Veranstaltungen für RECYCLING magazin
REFRESH-INTERVAL;VALUE=DURATION:PT1H
X-Robots-Tag:noindex
X-PUBLISHED-TTL:PT1H
BEGIN:VTIMEZONE
TZID:Europe/Berlin
BEGIN:DAYLIGHT
TZOFFSETFROM:+0100
TZOFFSETTO:+0200
TZNAME:CEST
DTSTART:20160327T010000
END:DAYLIGHT
BEGIN:STANDARD
TZOFFSETFROM:+0200
TZOFFSETTO:+0100
TZNAME:CET
DTSTART:20161030T010000
END:STANDARD
BEGIN:DAYLIGHT
TZOFFSETFROM:+0100
TZOFFSETTO:+0200
TZNAME:CEST
DTSTART:20170326T010000
END:DAYLIGHT
BEGIN:STANDARD
TZOFFSETFROM:+0200
TZOFFSETTO:+0100
TZNAME:CET
DTSTART:20171029T010000
END:STANDARD
BEGIN:DAYLIGHT
TZOFFSETFROM:+0100
TZOFFSETTO:+0200
TZNAME:CEST
DTSTART:20180325T010000
END:DAYLIGHT
BEGIN:STANDARD
TZOFFSETFROM:+0200
TZOFFSETTO:+0100
TZNAME:CET
DTSTART:20181028T010000
END:STANDARD
END:VTIMEZONE
BEGIN:VEVENT
DTSTART;VALUE=DATE:20170627
DTEND;VALUE=DATE:20170628
DTSTAMP:20260420T061909
CREATED:20170407T105723Z
LAST-MODIFIED:20170407T105723Z
UID:356115-1498521600-1498607999@www.recyclingmagazin.de
SUMMARY:Vergaberecht für Anbieter
DESCRIPTION:Das Vergaberecht stellt ein kompliziertes und unübersichtliches Regelwerk dar\, das öffentliche Auftraggeber bei der Beauftragung Dritter zwingend zu beachten haben. Welchen Vorgaben ein konkretes Angebot entsprechen muss\, ist insbesondere von der Art der beauftragten Leistung und den sogenannten Schwellenwerten abhängig. Die formalen Anforderungen an die Vergabe von Leistungen in der Praxis wachsen stetig. Dies ist unter anderem darauf zurückzuführen\, dass Vergabeentscheidungen in zunehmendem Maße auf Antrag sich benachteiligt fühlender Bieter durch Vergabekammern und Vergabesenate überprüft werden.\n\nDas Seminar gibt einen systematischen Überblick über die Grundlagen des Vergaberechts sowie die unterschiedlichen Vergabeverfahrensarten. Es erläutert anhand von Praxisbeispielen die Vorgehensweise bei der Abgabe eines Angebots in allen Phasen des Vergabeverlaufs. Ein Schwerpunkt liegt auf der Vermeidung von Fehlern beim Anbieter\, die oft zum Ausschluss des Angebots führen. Im Vordergrund stehen deshalb alle wichtigen Verfahrensfragen\, die zwingend zu beachten sind.
URL:https://www.recyclingmagazin.de/event/vergaberecht-fuer-anbieter-2/
LOCATION:InterCity Hotel Bremen\, Bahnhofplatz 17-18\, Bremen\, 28195
CATEGORIES:Seminar
END:VEVENT
END:VCALENDAR