BEGIN:VCALENDAR
VERSION:2.0
PRODID:-//RECYCLING magazin - ECPv6.15.20//NONSGML v1.0//EN
CALSCALE:GREGORIAN
METHOD:PUBLISH
X-WR-CALNAME:RECYCLING magazin
X-ORIGINAL-URL:https://www.recyclingmagazin.de
X-WR-CALDESC:Veranstaltungen für RECYCLING magazin
REFRESH-INTERVAL;VALUE=DURATION:PT1H
X-Robots-Tag:noindex
X-PUBLISHED-TTL:PT1H
BEGIN:VTIMEZONE
TZID:Europe/Berlin
BEGIN:DAYLIGHT
TZOFFSETFROM:+0100
TZOFFSETTO:+0200
TZNAME:CEST
DTSTART:20160327T010000
END:DAYLIGHT
BEGIN:STANDARD
TZOFFSETFROM:+0200
TZOFFSETTO:+0100
TZNAME:CET
DTSTART:20161030T010000
END:STANDARD
BEGIN:DAYLIGHT
TZOFFSETFROM:+0100
TZOFFSETTO:+0200
TZNAME:CEST
DTSTART:20170326T010000
END:DAYLIGHT
BEGIN:STANDARD
TZOFFSETFROM:+0200
TZOFFSETTO:+0100
TZNAME:CET
DTSTART:20171029T010000
END:STANDARD
BEGIN:DAYLIGHT
TZOFFSETFROM:+0100
TZOFFSETTO:+0200
TZNAME:CEST
DTSTART:20180325T010000
END:DAYLIGHT
BEGIN:STANDARD
TZOFFSETFROM:+0200
TZOFFSETTO:+0100
TZNAME:CET
DTSTART:20181028T010000
END:STANDARD
END:VTIMEZONE
BEGIN:VEVENT
DTSTART;VALUE=DATE:20171113
DTEND;VALUE=DATE:20171114
DTSTAMP:20260419T192546
CREATED:20170922T164855Z
LAST-MODIFIED:20170922T164930Z
UID:359317-1510531200-1510617599@www.recyclingmagazin.de
SUMMARY:VDI-ZRE-Tiefbausymposium
DESCRIPTION:Der Straßenbau weist unter allen Teilsektoren des Tiefbaus den größten Materialbedarf auf. Dies zeigten die Ergebnisse der Studie „Ressourceneﬃzienzpotenziale im Tiefbau“\, die das Öko-Institut e. V. im Auftrag des VDI Zentrum Ressourceneﬃzienz erstellt hat. Sie beziﬀert den jährlichen Treibhausgasausstoß\, der durch Instandhaltungsmaßnahmen an bereits bestehenden Straßen verursacht wird\, auf knapp vier Millionen Tonnen. Die Studie quantiﬁziert zugleich die großen Ressourcenschonungspotenziale in diesem Teilsektor\, die sich durch bereits heute technisch mögliche Eﬃzienzmaßnahmen erschließen ließen. Hierdurch könnten die mit dem Ausbau und Erhalt der Straßeninfrastruktur verbundenen Treibhausgasemissionen um rund 18 Prozent gesenkt werden. Die Reduktionspotenziale beim Material- und Energieaufwand fallen noch größer aus. \nDie Veranstaltung informiert über Ressourceneﬃzienz im Straßenbau\, zeigt Potenziale auf und stellt Umsetzungsbeispiele vor. Als Einstieg in das Thema werden die Studie „Ressourceneffizienzpotenziale im Tiefbau“ und die aktuellen Aktivitäten des Bundesministeriums für Verkehr und digitale Infrastruktur präsentiert. Anschließend berichten Praktiker\, wie sie Maßnahmen\, wie Maximalrecycling oder „grüner Asphalt“\, sowohl technisch als auch administrativ umgesetzt haben.
URL:https://www.recyclingmagazin.de/event/vdi-zre-tiefbausymposium/
LOCATION:InterCityHotel Berlin Hauptbahnhof\, Katharina-Paulus-Straße 5\, Berlin\, 10557\, Deutschland
CATEGORIES:Kongress
END:VEVENT
END:VCALENDAR