BEGIN:VCALENDAR
VERSION:2.0
PRODID:-//RECYCLING magazin - ECPv6.15.20//NONSGML v1.0//EN
CALSCALE:GREGORIAN
METHOD:PUBLISH
X-WR-CALNAME:RECYCLING magazin
X-ORIGINAL-URL:https://www.recyclingmagazin.de
X-WR-CALDESC:Veranstaltungen für RECYCLING magazin
REFRESH-INTERVAL;VALUE=DURATION:PT1H
X-Robots-Tag:noindex
X-PUBLISHED-TTL:PT1H
BEGIN:VTIMEZONE
TZID:Europe/Berlin
BEGIN:DAYLIGHT
TZOFFSETFROM:+0100
TZOFFSETTO:+0200
TZNAME:CEST
DTSTART:20160327T010000
END:DAYLIGHT
BEGIN:STANDARD
TZOFFSETFROM:+0200
TZOFFSETTO:+0100
TZNAME:CET
DTSTART:20161030T010000
END:STANDARD
BEGIN:DAYLIGHT
TZOFFSETFROM:+0100
TZOFFSETTO:+0200
TZNAME:CEST
DTSTART:20170326T010000
END:DAYLIGHT
BEGIN:STANDARD
TZOFFSETFROM:+0200
TZOFFSETTO:+0100
TZNAME:CET
DTSTART:20171029T010000
END:STANDARD
BEGIN:DAYLIGHT
TZOFFSETFROM:+0100
TZOFFSETTO:+0200
TZNAME:CEST
DTSTART:20180325T010000
END:DAYLIGHT
BEGIN:STANDARD
TZOFFSETFROM:+0200
TZOFFSETTO:+0100
TZNAME:CET
DTSTART:20181028T010000
END:STANDARD
END:VTIMEZONE
BEGIN:VEVENT
DTSTART;VALUE=DATE:20170627
DTEND;VALUE=DATE:20170628
DTSTAMP:20260419T223816
CREATED:20170510T121716Z
LAST-MODIFIED:20170510T121734Z
UID:356535-1498521600-1498607999@www.recyclingmagazin.de
SUMMARY:Unterflurbehälter: Im Erdboden versunken
DESCRIPTION:Sichtbar ist nur der Einwurfschacht. Der Rest liegt unsichtbar unter der Erde. Unterflurbehälter besitzen eine bis zu fünf Mal höhere Kapazität als herkömmliche Abfallcontainer. Die Leerung kann in größeren Abständen erfolgen\, entweder auf Abruf bei vollständiger Füllung oder im Rahmen regelmäßiger Touren. Die Installation ist zwar mit finanziellem Aufwand verbunden\, ist ansonsten technisch relativ unkompliziert. Unterflursysteme bieten sich für Innenstädte\, Freizeitbereiche wie Sport oder Camping\, Großwohnanlagen und Parks an. Als Vorteil ergeben sich Kosteneinsparungen durch seltenere Leerungen\, keine Geruchsbildung\, da das System im kühlen Untergrund lagert\, eine geringere Geräuschbelästigung\, eine barrierefreie Abfallentsorgung und eine optische Integration in das Stadtbild.\n\nDie Ausführungsvarianten sind zahlreich: Fassungsvermögen\, Einfüllöffnungen\, Materialien. Sogar an das Internet kann man die Container anschließen\, damit ein flexibles Abfuhrmanagement die Kosten so niedrig wie möglich hält. Die Fachkonferenz gibt Antworten auf Fragen zur Wirtschaftlichkeit\, zur Sauberkeit und Hygiene\, zum Handling und zur Logistik. Da in Deutschland Kommunen erst über relativ kurze Zeit Erfahrungen mit Unterflursystemen sammeln\, beziehen wir auch die Erkenntnisse aus dem europäischen Ausland ein.
URL:https://www.recyclingmagazin.de/event/unterflurbehaelter-im-erdboden-versunken-2/
LOCATION:InterCity Hotel Duisburg\, Mercatorstraße 57\, Duisburg\, 47051\, Deutschland
CATEGORIES:Seminar
END:VEVENT
END:VCALENDAR