BEGIN:VCALENDAR
VERSION:2.0
PRODID:-//RECYCLING magazin - ECPv6.15.20//NONSGML v1.0//EN
CALSCALE:GREGORIAN
METHOD:PUBLISH
X-WR-CALNAME:RECYCLING magazin
X-ORIGINAL-URL:https://www.recyclingmagazin.de
X-WR-CALDESC:Veranstaltungen für RECYCLING magazin
REFRESH-INTERVAL;VALUE=DURATION:PT1H
X-Robots-Tag:noindex
X-PUBLISHED-TTL:PT1H
BEGIN:VTIMEZONE
TZID:Europe/Berlin
BEGIN:DAYLIGHT
TZOFFSETFROM:+0100
TZOFFSETTO:+0200
TZNAME:CEST
DTSTART:20170326T010000
END:DAYLIGHT
BEGIN:STANDARD
TZOFFSETFROM:+0200
TZOFFSETTO:+0100
TZNAME:CET
DTSTART:20171029T010000
END:STANDARD
BEGIN:DAYLIGHT
TZOFFSETFROM:+0100
TZOFFSETTO:+0200
TZNAME:CEST
DTSTART:20180325T010000
END:DAYLIGHT
BEGIN:STANDARD
TZOFFSETFROM:+0200
TZOFFSETTO:+0100
TZNAME:CET
DTSTART:20181028T010000
END:STANDARD
BEGIN:DAYLIGHT
TZOFFSETFROM:+0100
TZOFFSETTO:+0200
TZNAME:CEST
DTSTART:20190331T010000
END:DAYLIGHT
BEGIN:STANDARD
TZOFFSETFROM:+0200
TZOFFSETTO:+0100
TZNAME:CET
DTSTART:20191027T010000
END:STANDARD
END:VTIMEZONE
BEGIN:VEVENT
DTSTART;VALUE=DATE:20180614
DTEND;VALUE=DATE:20180616
DTSTAMP:20260424T131554
CREATED:20170922T163631Z
LAST-MODIFIED:20170922T163642Z
UID:359305-1528934400-1529107199@www.recyclingmagazin.de
SUMMARY:Umweltmanagement-Beauftragte(r) nach DIN EN ISO 14001 und EMAS III
DESCRIPTION:Unter Umweltmanagement ist die Betriebsorganisation zu verstehen\, in der Sie gemeinsam mit Ihren Mitarbeitern das Ziel der Verbesserung des betrieblichen Umweltschutzes verfolgen. Der betriebliche Umweltschutz gewinnt hierbei immer mehr an Bedeutung. Die Vielzahl gesetzlicher Anforderungen unterstreicht diese Tendenz. Durch die Einführung eines speziell auf Ihre Bedürfnisse abgestimmten Umweltmanagementsystems kann Ihr Unternehmen diesen Anforderungen gerecht werden. \nAls Umweltmanagement-Beauftragter sind Sie in der Lage ein effizientes Umweltmanagementsystem zu entwickeln\, mit dem Sie die Umweltfaktoren und -auswirkungen Ihres Unternehmens erfassen\, bewerten sowie die Umweltleistungen dokumentieren und kontinuierlich verbessern können.
URL:https://www.recyclingmagazin.de/event/umweltmanagement-beauftragter-nach-din-en-iso-14001-und-emas-iii-2/
LOCATION:kenic GmbH – Akademie für Wirtschaft und Umwelt\, Linienstraße 130\, Berlin\, 10115\, Deutschland
CATEGORIES:Seminar
ORGANIZER;CN="kenic GmbH":MAILTO:info@kenic.de
END:VEVENT
END:VCALENDAR