BEGIN:VCALENDAR
VERSION:2.0
PRODID:-//RECYCLING magazin - ECPv6.15.20//NONSGML v1.0//EN
CALSCALE:GREGORIAN
METHOD:PUBLISH
X-WR-CALNAME:RECYCLING magazin
X-ORIGINAL-URL:https://www.recyclingmagazin.de
X-WR-CALDESC:Veranstaltungen für RECYCLING magazin
REFRESH-INTERVAL;VALUE=DURATION:PT1H
X-Robots-Tag:noindex
X-PUBLISHED-TTL:PT1H
BEGIN:VTIMEZONE
TZID:Europe/Berlin
BEGIN:DAYLIGHT
TZOFFSETFROM:+0100
TZOFFSETTO:+0200
TZNAME:CEST
DTSTART:20160327T010000
END:DAYLIGHT
BEGIN:STANDARD
TZOFFSETFROM:+0200
TZOFFSETTO:+0100
TZNAME:CET
DTSTART:20161030T010000
END:STANDARD
BEGIN:DAYLIGHT
TZOFFSETFROM:+0100
TZOFFSETTO:+0200
TZNAME:CEST
DTSTART:20170326T010000
END:DAYLIGHT
BEGIN:STANDARD
TZOFFSETFROM:+0200
TZOFFSETTO:+0100
TZNAME:CET
DTSTART:20171029T010000
END:STANDARD
BEGIN:DAYLIGHT
TZOFFSETFROM:+0100
TZOFFSETTO:+0200
TZNAME:CEST
DTSTART:20180325T010000
END:DAYLIGHT
BEGIN:STANDARD
TZOFFSETFROM:+0200
TZOFFSETTO:+0100
TZNAME:CET
DTSTART:20181028T010000
END:STANDARD
END:VTIMEZONE
BEGIN:VEVENT
DTSTART;VALUE=DATE:20170511
DTEND;VALUE=DATE:20170512
DTSTAMP:20260420T044722
CREATED:20170310T120711Z
LAST-MODIFIED:20170310T120711Z
UID:355625-1494460800-1494547199@www.recyclingmagazin.de
SUMMARY:Umgang mit Insolvenzgefahren - Sanierungsbegleitung Ihrer Kunden
DESCRIPTION:Tipps für Schuldner und Gläubiger im Umgang mit kriselnden Unternehmen: was bedeutet eine Sanierung unter Insolvenzschutz für Kunden und Lieferanten\, welche Rechte und Pflichten haben sie und wie können sie in dieser Situation ihrem insolventen Kunden helfen\, damit das Unternehmen weiterhin als Kunde bestehen bleibt.
URL:https://www.recyclingmagazin.de/event/umgang-mit-insolvenzgefahren-sanierungsbegleitung-ihrer-kunden/
LOCATION:BDE-Geschäftsstelle\, Behrenstraße 29 \, Berlin\, 10117
CATEGORIES:Seminar
ORGANIZER;CN="BDE Bundesverband der Deutschen Entsorgungs-%2C Wasser- und Rohstoffwirtschaft":MAILTO:info@bde.de
END:VEVENT
END:VCALENDAR