BEGIN:VCALENDAR
VERSION:2.0
PRODID:-//RECYCLING magazin - ECPv6.15.20//NONSGML v1.0//EN
CALSCALE:GREGORIAN
METHOD:PUBLISH
X-WR-CALNAME:RECYCLING magazin
X-ORIGINAL-URL:https://www.recyclingmagazin.de
X-WR-CALDESC:Veranstaltungen für RECYCLING magazin
REFRESH-INTERVAL;VALUE=DURATION:PT1H
X-Robots-Tag:noindex
X-PUBLISHED-TTL:PT1H
BEGIN:VTIMEZONE
TZID:Europe/Berlin
BEGIN:DAYLIGHT
TZOFFSETFROM:+0100
TZOFFSETTO:+0200
TZNAME:CEST
DTSTART:20160327T010000
END:DAYLIGHT
BEGIN:STANDARD
TZOFFSETFROM:+0200
TZOFFSETTO:+0100
TZNAME:CET
DTSTART:20161030T010000
END:STANDARD
BEGIN:DAYLIGHT
TZOFFSETFROM:+0100
TZOFFSETTO:+0200
TZNAME:CEST
DTSTART:20170326T010000
END:DAYLIGHT
BEGIN:STANDARD
TZOFFSETFROM:+0200
TZOFFSETTO:+0100
TZNAME:CET
DTSTART:20171029T010000
END:STANDARD
BEGIN:DAYLIGHT
TZOFFSETFROM:+0100
TZOFFSETTO:+0200
TZNAME:CEST
DTSTART:20180325T010000
END:DAYLIGHT
BEGIN:STANDARD
TZOFFSETFROM:+0200
TZOFFSETTO:+0100
TZNAME:CET
DTSTART:20181028T010000
END:STANDARD
END:VTIMEZONE
BEGIN:VEVENT
DTSTART;VALUE=DATE:20170516
DTEND;VALUE=DATE:20170517
DTSTAMP:20260420T081114
CREATED:20170127T132338Z
LAST-MODIFIED:20170127T132338Z
UID:354797-1494892800-1494979199@www.recyclingmagazin.de
SUMMARY:Umgang mit Gefährdungen bei Biogas-\, Vergärungs- und Deponiegasanlagen
DESCRIPTION:Pflichten des Betreibers. Technische Anforderungen mit Beispielen. Prüfungen.\nGefährdungsbeurteilung. Explosionsschutzdokument. Wartung und Instandsetzung.\nErwerb der Sachkunde gemäß §4 DepV und Unterweisung gemäß DGUV-R 114-004.
URL:https://www.recyclingmagazin.de/event/umgang-mit-gefaehrdungen-bei-biogas-vergaerungs-und-deponiegasanlagen-4/
LOCATION:InterCityHotel Kassel\, Wilhelmshöher Allee 241\, Kassel\, 34121 \, Deutschland
CATEGORIES:Seminar
END:VEVENT
END:VCALENDAR