BEGIN:VCALENDAR
VERSION:2.0
PRODID:-//RECYCLING magazin - ECPv6.15.20//NONSGML v1.0//EN
CALSCALE:GREGORIAN
METHOD:PUBLISH
X-WR-CALNAME:RECYCLING magazin
X-ORIGINAL-URL:https://www.recyclingmagazin.de
X-WR-CALDESC:Veranstaltungen für RECYCLING magazin
REFRESH-INTERVAL;VALUE=DURATION:PT1H
X-Robots-Tag:noindex
X-PUBLISHED-TTL:PT1H
BEGIN:VTIMEZONE
TZID:Europe/Berlin
BEGIN:DAYLIGHT
TZOFFSETFROM:+0100
TZOFFSETTO:+0200
TZNAME:CEST
DTSTART:20200329T010000
END:DAYLIGHT
BEGIN:STANDARD
TZOFFSETFROM:+0200
TZOFFSETTO:+0100
TZNAME:CET
DTSTART:20201025T010000
END:STANDARD
BEGIN:DAYLIGHT
TZOFFSETFROM:+0100
TZOFFSETTO:+0200
TZNAME:CEST
DTSTART:20210328T010000
END:DAYLIGHT
BEGIN:STANDARD
TZOFFSETFROM:+0200
TZOFFSETTO:+0100
TZNAME:CET
DTSTART:20211031T010000
END:STANDARD
BEGIN:DAYLIGHT
TZOFFSETFROM:+0100
TZOFFSETTO:+0200
TZNAME:CEST
DTSTART:20220327T010000
END:DAYLIGHT
BEGIN:STANDARD
TZOFFSETFROM:+0200
TZOFFSETTO:+0100
TZNAME:CET
DTSTART:20221030T010000
END:STANDARD
END:VTIMEZONE
BEGIN:VEVENT
DTSTART;TZID=Europe/Berlin:20210517T130000
DTEND;TZID=Europe/Berlin:20210517T150000
DTSTAMP:20260420T133700
CREATED:20210329T055755Z
LAST-MODIFIED:20210329T055755Z
UID:383175-1621256400-1621263600@www.recyclingmagazin.de
SUMMARY:„Textile Zukunft“ - Informationen - Hintergründe – Strategien zum Umgang mit Alttextilien
DESCRIPTION:
URL:https://www.recyclingmagazin.de/event/textile-zukunft-informationen-hintergruende-strategien-zum-umgang-mit-alttextilien/
LOCATION:Online
CATEGORIES:Konferenz
ORGANIZER;CN="Gemeinschaft f%C3%BCr textile Zukunft":MAILTO:gemeinschaft@textile-zukunft.de
END:VEVENT
END:VCALENDAR