BEGIN:VCALENDAR
VERSION:2.0
PRODID:-//RECYCLING magazin - ECPv6.15.20//NONSGML v1.0//EN
CALSCALE:GREGORIAN
METHOD:PUBLISH
X-WR-CALNAME:RECYCLING magazin
X-ORIGINAL-URL:https://www.recyclingmagazin.de
X-WR-CALDESC:Veranstaltungen für RECYCLING magazin
REFRESH-INTERVAL;VALUE=DURATION:PT1H
X-Robots-Tag:noindex
X-PUBLISHED-TTL:PT1H
BEGIN:VTIMEZONE
TZID:Europe/Berlin
BEGIN:DAYLIGHT
TZOFFSETFROM:+0100
TZOFFSETTO:+0200
TZNAME:CEST
DTSTART:20170326T010000
END:DAYLIGHT
BEGIN:STANDARD
TZOFFSETFROM:+0200
TZOFFSETTO:+0100
TZNAME:CET
DTSTART:20171029T010000
END:STANDARD
BEGIN:DAYLIGHT
TZOFFSETFROM:+0100
TZOFFSETTO:+0200
TZNAME:CEST
DTSTART:20180325T010000
END:DAYLIGHT
BEGIN:STANDARD
TZOFFSETFROM:+0200
TZOFFSETTO:+0100
TZNAME:CET
DTSTART:20181028T010000
END:STANDARD
BEGIN:DAYLIGHT
TZOFFSETFROM:+0100
TZOFFSETTO:+0200
TZNAME:CEST
DTSTART:20190331T010000
END:DAYLIGHT
BEGIN:STANDARD
TZOFFSETFROM:+0200
TZOFFSETTO:+0100
TZNAME:CET
DTSTART:20191027T010000
END:STANDARD
END:VTIMEZONE
BEGIN:VEVENT
DTSTART;VALUE=DATE:20180414
DTEND;VALUE=DATE:20180415
DTSTAMP:20260425T214003
CREATED:20171212T161935Z
LAST-MODIFIED:20171212T161935Z
UID:360815-1523664000-1523750399@www.recyclingmagazin.de
SUMMARY:Technische Anforderungen an die Behandlung und Verwertung von Elektro- und Elektronikaltgeräten: LAGA M31 A + B\, CENELEC
DESCRIPTION:Die Behandlung und Verwertung von Elektronikaltgeräten setzt ein umfangreiches Fachwissen über die Zusammensetzung der Geräte insbesondere im Hinblick auf enthaltene Schadstoffe und deren sichere Entsorgung voraus. Die grundlegenden Anforderungen an die Entsorgung von Elektro- und Elektronikaltgeräten werden in der LAGA-Mitteilung 31 A beschrieben. Die ergänzende LAGA-Mitteilung 31 B dient der Konkretisierung und Erläuterung der Anforderungen nach dem Stand der Technik\, die an die Behandlung und Verwertung von Elektro- und Elektronikaltgeräten nach dem ElektroG gestellt werden. Die Mitteilungsblätter der Bund-Länderarbeitsgemeinschaft Abfall (LAGA) richten sich neben den Behandlungsanlagen für Altgeräte ebenso an die Vollzugsbehörden und Sachverständigen zur Zertifizierung nach ElektroG. \nDas Seminar greift im Hauptteil die Inhalte der Arbeitsblätter auf\, vertieft diese und vermittelt praxisbezogene Kenntnisse für die tägliche Arbeit. In einem weiteren komprimierten kleineren Teil wird dargestellt\, was die neuen CENELEC-Standards sind\, diese für die Praxis bedeuten und welcher Nutzen aus ihnen abgeleitet werden kann.
URL:https://www.recyclingmagazin.de/event/technische-anforderungen-an-die-behandlung-und-verwertung-von-elektro-und-elektronikaltgeraeten-laga-m31-a-b-cenelec/
LOCATION:bvse-Bildungszentrum\, Hohe Straße 73\, Bonn\, 53119
CATEGORIES:Seminar
ORGANIZER;CN="bvse-recyconsult":MAILTO:info@bvse.de
END:VEVENT
END:VCALENDAR