BEGIN:VCALENDAR
VERSION:2.0
PRODID:-//RECYCLING magazin - ECPv6.15.20//NONSGML v1.0//EN
CALSCALE:GREGORIAN
METHOD:PUBLISH
X-WR-CALNAME:RECYCLING magazin
X-ORIGINAL-URL:https://www.recyclingmagazin.de
X-WR-CALDESC:Veranstaltungen für RECYCLING magazin
REFRESH-INTERVAL;VALUE=DURATION:PT1H
X-Robots-Tag:noindex
X-PUBLISHED-TTL:PT1H
BEGIN:VTIMEZONE
TZID:Europe/Berlin
BEGIN:DAYLIGHT
TZOFFSETFROM:+0100
TZOFFSETTO:+0200
TZNAME:CEST
DTSTART:20160327T010000
END:DAYLIGHT
BEGIN:STANDARD
TZOFFSETFROM:+0200
TZOFFSETTO:+0100
TZNAME:CET
DTSTART:20161030T010000
END:STANDARD
BEGIN:DAYLIGHT
TZOFFSETFROM:+0100
TZOFFSETTO:+0200
TZNAME:CEST
DTSTART:20170326T010000
END:DAYLIGHT
BEGIN:STANDARD
TZOFFSETFROM:+0200
TZOFFSETTO:+0100
TZNAME:CET
DTSTART:20171029T010000
END:STANDARD
BEGIN:DAYLIGHT
TZOFFSETFROM:+0100
TZOFFSETTO:+0200
TZNAME:CEST
DTSTART:20180325T010000
END:DAYLIGHT
BEGIN:STANDARD
TZOFFSETFROM:+0200
TZOFFSETTO:+0100
TZNAME:CET
DTSTART:20181028T010000
END:STANDARD
END:VTIMEZONE
BEGIN:VEVENT
DTSTART;VALUE=DATE:20170321
DTEND;VALUE=DATE:20170322
DTSTAMP:20260420T161335
CREATED:20170127T110809Z
LAST-MODIFIED:20170127T121042Z
UID:354772-1490054400-1490140799@www.recyclingmagazin.de
SUMMARY:Stärkung des Einsatzes von mineralischen Recyclingbaustoffen
DESCRIPTION:Die Fachkonferenz richtet sich an betriebliche und behördliche Akteure des Recyclings mineralischer Abfälle\, wie: Führungskräfte aus Recyclingunternehmen\, aus Bau- und Abbruchunternehmen\, von Betonherstellern\, von öffentlichen und privaten Bauherren\, aus Architekten- und Ingenieurbüros\, aus Laboren sowie von staatlichen Ämtern\, Genehmigungsbehörden und Verwaltungen. Zielgruppen der Fachkonferenz sind weiterhin Führungskräfte aus Kammern und Industrieverbänden\, speziell aus Bau- und Recyclingverbänden.
URL:https://www.recyclingmagazin.de/event/staerkung-des-einsatzes-von-mineralischen-recyclingbaustoffen/
LOCATION:NH Hotel Potsdam\, Friedrich-Ebert-Straße 88\, Potsdam\, 14467\, Deutschland
CATEGORIES:Konferenz
END:VEVENT
END:VCALENDAR