BEGIN:VCALENDAR
VERSION:2.0
PRODID:-//RECYCLING magazin - ECPv6.15.20//NONSGML v1.0//EN
CALSCALE:GREGORIAN
METHOD:PUBLISH
X-WR-CALNAME:RECYCLING magazin
X-ORIGINAL-URL:https://www.recyclingmagazin.de
X-WR-CALDESC:Veranstaltungen für RECYCLING magazin
REFRESH-INTERVAL;VALUE=DURATION:PT1H
X-Robots-Tag:noindex
X-PUBLISHED-TTL:PT1H
BEGIN:VTIMEZONE
TZID:Europe/Berlin
BEGIN:DAYLIGHT
TZOFFSETFROM:+0100
TZOFFSETTO:+0200
TZNAME:CEST
DTSTART:20160327T010000
END:DAYLIGHT
BEGIN:STANDARD
TZOFFSETFROM:+0200
TZOFFSETTO:+0100
TZNAME:CET
DTSTART:20161030T010000
END:STANDARD
BEGIN:DAYLIGHT
TZOFFSETFROM:+0100
TZOFFSETTO:+0200
TZNAME:CEST
DTSTART:20170326T010000
END:DAYLIGHT
BEGIN:STANDARD
TZOFFSETFROM:+0200
TZOFFSETTO:+0100
TZNAME:CET
DTSTART:20171029T010000
END:STANDARD
BEGIN:DAYLIGHT
TZOFFSETFROM:+0100
TZOFFSETTO:+0200
TZNAME:CEST
DTSTART:20180325T010000
END:DAYLIGHT
BEGIN:STANDARD
TZOFFSETFROM:+0200
TZOFFSETTO:+0100
TZNAME:CET
DTSTART:20181028T010000
END:STANDARD
END:VTIMEZONE
BEGIN:VEVENT
DTSTART;VALUE=DATE:20170830
DTEND;VALUE=DATE:20170831
DTSTAMP:20260419T192616
CREATED:20170710T133926Z
LAST-MODIFIED:20170710T133956Z
UID:357842-1504051200-1504137599@www.recyclingmagazin.de
SUMMARY:Sekretariat und Assistenz in der Abfallwirtschaft
DESCRIPTION:Die Anforderungen an Mitarbeiterinnen und Mitarbeiter im Sekretariats- und Assistenzbereich befinden sich im steten Wandel und werden insbesondere durch die modernen Kommunikationsmedien zunehmend komplexer. Immer schneller müssen sie eingehende Informationen verarbeiten und in Briefen\, E-Mails oder Präsentationsvorlagen aufbereiten. \nUm diese Schlüsselaufgabe optimal zu erfüllen\, spielt neben ausgeprägtem Organisationstalent und Kommunikationsstärke auch die fachliche Kompetenz eine entscheidende Rolle. Aus diesem Grund hat die VKU-Akademie speziell für Mitarbeiterinnen und Mitarbeiter aus dem Bereich Sekretariat und Assistenz ein Seminar konzipiert\, in dem wichtige Fachbegriffe und grundlegende Zusammenhänge der Abfallwirtschaft auf verständliche Weise von unseren Experten erklärt werden. \nDie Teilnehmer werden über die Akteure und Strukturen des Abfallmarktes informiert und lernen wichtigsten Gesetze und Verordnungen der Abfallwirtschaft kennen. Der Infotag richtet sich an Mitarbeiterinnen und Mitarbeiter aus dem Bereich Sekretariat und Assistenz von Vorständen\, Geschäftsführern\, Bereichs-\, Abteilungs-\, Gruppen- und Teamleitern aus kommunalen Entsorgungsunternehmen.
URL:https://www.recyclingmagazin.de/event/sekretariat-und-assistenz-in-der-abfallwirtschaft/
LOCATION:Hotel Collegium Leoninum\, Noeggerathstraße 34\, Bonn\, 53111\, Germany
CATEGORIES:Seminar
END:VEVENT
END:VCALENDAR