BEGIN:VCALENDAR
VERSION:2.0
PRODID:-//RECYCLING magazin - ECPv6.15.20//NONSGML v1.0//EN
CALSCALE:GREGORIAN
METHOD:PUBLISH
X-WR-CALNAME:RECYCLING magazin
X-ORIGINAL-URL:https://www.recyclingmagazin.de
X-WR-CALDESC:Veranstaltungen für RECYCLING magazin
REFRESH-INTERVAL;VALUE=DURATION:PT1H
X-Robots-Tag:noindex
X-PUBLISHED-TTL:PT1H
BEGIN:VTIMEZONE
TZID:Europe/Berlin
BEGIN:DAYLIGHT
TZOFFSETFROM:+0100
TZOFFSETTO:+0200
TZNAME:CEST
DTSTART:20150329T010000
END:DAYLIGHT
BEGIN:STANDARD
TZOFFSETFROM:+0200
TZOFFSETTO:+0100
TZNAME:CET
DTSTART:20151025T010000
END:STANDARD
BEGIN:DAYLIGHT
TZOFFSETFROM:+0100
TZOFFSETTO:+0200
TZNAME:CEST
DTSTART:20160327T010000
END:DAYLIGHT
BEGIN:STANDARD
TZOFFSETFROM:+0200
TZOFFSETTO:+0100
TZNAME:CET
DTSTART:20161030T010000
END:STANDARD
BEGIN:DAYLIGHT
TZOFFSETFROM:+0100
TZOFFSETTO:+0200
TZNAME:CEST
DTSTART:20170326T010000
END:DAYLIGHT
BEGIN:STANDARD
TZOFFSETFROM:+0200
TZOFFSETTO:+0100
TZNAME:CET
DTSTART:20171029T010000
END:STANDARD
END:VTIMEZONE
BEGIN:VEVENT
DTSTART;VALUE=DATE:20160615
DTEND;VALUE=DATE:20160616
DTSTAMP:20260419T213230
CREATED:20160316T085906Z
LAST-MODIFIED:20160316T085925Z
UID:349098-1465948800-1466035199@www.recyclingmagazin.de
SUMMARY:Schlagfertigkeit in der Preisverhandlung
DESCRIPTION:Wenn es in der Preisverhandlung in das Finale geht signalisieren viele Verkäufer: Meine Preise sind als Diskussionsgrundlage zu verstehen. Körpersprachliche Signale und schwache Rhetorik sind quasi eine Einladung an Ihren Verhandlungspartner den Preis zu drücken. Niedrige Deckungsbeträge und fallende Erträge sind die schmerzvollen Auswirkungen. Das Seminar vermittelt 12 Techniken und 15 Standards\, die für diese Situationen rüsten und vermittelt Tricks\, um unfaire Attacken der Verhandlungspartner zu erkennen und zu parieren.
URL:https://www.recyclingmagazin.de/event/schlagfertigkeit-in-der-preisverhandlung/
LOCATION:Remondis GmbH & Co. KG – Mannheim\, Antwerpener Straße 24\, Mannheim\, 68219 \, Deutschland
CATEGORIES:Seminar
ORGANIZER;CN="BDE Bundesverband der Deutschen Entsorgungs-%2C Wasser- und Rohstoffwirtschaft":MAILTO:info@bde.de
END:VEVENT
END:VCALENDAR