BEGIN:VCALENDAR
VERSION:2.0
PRODID:-//RECYCLING magazin - ECPv6.15.20//NONSGML v1.0//EN
CALSCALE:GREGORIAN
METHOD:PUBLISH
X-WR-CALNAME:RECYCLING magazin
X-ORIGINAL-URL:https://www.recyclingmagazin.de
X-WR-CALDESC:Veranstaltungen für RECYCLING magazin
REFRESH-INTERVAL;VALUE=DURATION:PT1H
X-Robots-Tag:noindex
X-PUBLISHED-TTL:PT1H
BEGIN:VTIMEZONE
TZID:Europe/Berlin
BEGIN:DAYLIGHT
TZOFFSETFROM:+0100
TZOFFSETTO:+0200
TZNAME:CEST
DTSTART:20160327T010000
END:DAYLIGHT
BEGIN:STANDARD
TZOFFSETFROM:+0200
TZOFFSETTO:+0100
TZNAME:CET
DTSTART:20161030T010000
END:STANDARD
BEGIN:DAYLIGHT
TZOFFSETFROM:+0100
TZOFFSETTO:+0200
TZNAME:CEST
DTSTART:20170326T010000
END:DAYLIGHT
BEGIN:STANDARD
TZOFFSETFROM:+0200
TZOFFSETTO:+0100
TZNAME:CET
DTSTART:20171029T010000
END:STANDARD
BEGIN:DAYLIGHT
TZOFFSETFROM:+0100
TZOFFSETTO:+0200
TZNAME:CEST
DTSTART:20180325T010000
END:DAYLIGHT
BEGIN:STANDARD
TZOFFSETFROM:+0200
TZOFFSETTO:+0100
TZNAME:CET
DTSTART:20181028T010000
END:STANDARD
END:VTIMEZONE
BEGIN:VEVENT
DTSTART;VALUE=DATE:20170530
DTEND;VALUE=DATE:20170601
DTSTAMP:20260420T013648
CREATED:20170317T112733Z
LAST-MODIFIED:20170317T112733Z
UID:355791-1496102400-1496275199@www.recyclingmagazin.de
SUMMARY:Schäden an Dampfturbinen
DESCRIPTION:Das Seminar „Schäden an Dampfturbinen“ gibt Ihnen einen Überblick über häufige Schäden\, Fehler und Probleme bei der Turbinenrevision. Sie lernen zudem typische Fehler an Lüftern\, Pumpen und anderen Kraftwerksnebenanlagen kennen und erfahren wie Sie mittels Monitoring Schäden identifizieren und wie Sie diese vermeiden. Nach dem Seminar erkennen Sie eventuelle Probleme der Maschinendynamik und können das Betriebsverhalten von Dampfturbinen bewerten.
URL:https://www.recyclingmagazin.de/event/schaeden-an-dampfturbinen/
LOCATION:NH Düsseldorf City Nord\, Münsterstraße 230-238\, Düsseldorf\, 40470 \, Deutschland
CATEGORIES:Seminar
END:VEVENT
END:VCALENDAR