BEGIN:VCALENDAR
VERSION:2.0
PRODID:-//RECYCLING magazin - ECPv6.15.20//NONSGML v1.0//EN
CALSCALE:GREGORIAN
METHOD:PUBLISH
X-WR-CALNAME:RECYCLING magazin
X-ORIGINAL-URL:https://www.recyclingmagazin.de
X-WR-CALDESC:Veranstaltungen für RECYCLING magazin
REFRESH-INTERVAL;VALUE=DURATION:PT1H
X-Robots-Tag:noindex
X-PUBLISHED-TTL:PT1H
BEGIN:VTIMEZONE
TZID:Europe/Berlin
BEGIN:DAYLIGHT
TZOFFSETFROM:+0100
TZOFFSETTO:+0200
TZNAME:CEST
DTSTART:20160327T010000
END:DAYLIGHT
BEGIN:STANDARD
TZOFFSETFROM:+0200
TZOFFSETTO:+0100
TZNAME:CET
DTSTART:20161030T010000
END:STANDARD
BEGIN:DAYLIGHT
TZOFFSETFROM:+0100
TZOFFSETTO:+0200
TZNAME:CEST
DTSTART:20170326T010000
END:DAYLIGHT
BEGIN:STANDARD
TZOFFSETFROM:+0200
TZOFFSETTO:+0100
TZNAME:CET
DTSTART:20171029T010000
END:STANDARD
BEGIN:DAYLIGHT
TZOFFSETFROM:+0100
TZOFFSETTO:+0200
TZNAME:CEST
DTSTART:20180325T010000
END:DAYLIGHT
BEGIN:STANDARD
TZOFFSETFROM:+0200
TZOFFSETTO:+0100
TZNAME:CET
DTSTART:20181028T010000
END:STANDARD
END:VTIMEZONE
BEGIN:VEVENT
DTSTART;VALUE=DATE:20171115
DTEND;VALUE=DATE:20171116
DTSTAMP:20260419T193003
CREATED:20170928T103008Z
LAST-MODIFIED:20170928T103008Z
UID:359499-1510704000-1510790399@www.recyclingmagazin.de
SUMMARY:Sachkundelehrgang für Disponenten und Einsatzleiter von Entsorgungsfachbetrieben
DESCRIPTION:Arbeitszeit-\, Straßenverkehrs- und Güterkraftverkehrsrecht. Eintägiges Sachkundeseminar für das „sonstige Personal“ im Sinne des § 10 der Entsorgungsfachbetriebeverordnung (EfbV) und des § 6 der Anzeige- und Erlaubnisverordnung (AbfAEV).
URL:https://www.recyclingmagazin.de/event/sachkundelehrgang-fuer-disponenten-und-einsatzleiter-von-entsorgungsfachbetrieben/
LOCATION:Umweltinstitut Offenbach\, Frankfurter Str. 48\, Offenbach a. M.\, 63065
CATEGORIES:Seminar
END:VEVENT
END:VCALENDAR