BEGIN:VCALENDAR
VERSION:2.0
PRODID:-//RECYCLING magazin - ECPv6.15.20//NONSGML v1.0//EN
CALSCALE:GREGORIAN
METHOD:PUBLISH
X-WR-CALNAME:RECYCLING magazin
X-ORIGINAL-URL:https://www.recyclingmagazin.de
X-WR-CALDESC:Veranstaltungen für RECYCLING magazin
REFRESH-INTERVAL;VALUE=DURATION:PT1H
X-Robots-Tag:noindex
X-PUBLISHED-TTL:PT1H
BEGIN:VTIMEZONE
TZID:Europe/Berlin
BEGIN:DAYLIGHT
TZOFFSETFROM:+0100
TZOFFSETTO:+0200
TZNAME:CEST
DTSTART:20180325T010000
END:DAYLIGHT
BEGIN:STANDARD
TZOFFSETFROM:+0200
TZOFFSETTO:+0100
TZNAME:CET
DTSTART:20181028T010000
END:STANDARD
BEGIN:DAYLIGHT
TZOFFSETFROM:+0100
TZOFFSETTO:+0200
TZNAME:CEST
DTSTART:20190331T010000
END:DAYLIGHT
BEGIN:STANDARD
TZOFFSETFROM:+0200
TZOFFSETTO:+0100
TZNAME:CET
DTSTART:20191027T010000
END:STANDARD
BEGIN:DAYLIGHT
TZOFFSETFROM:+0100
TZOFFSETTO:+0200
TZNAME:CEST
DTSTART:20200329T010000
END:DAYLIGHT
BEGIN:STANDARD
TZOFFSETFROM:+0200
TZOFFSETTO:+0100
TZNAME:CET
DTSTART:20201025T010000
END:STANDARD
END:VTIMEZONE
BEGIN:VEVENT
DTSTART;TZID=Europe/Berlin:20190409T090000
DTEND;TZID=Europe/Berlin:20190409T160000
DTSTAMP:20260423T182953
CREATED:20190403T144952Z
LAST-MODIFIED:20190403T144952Z
UID:369960-1554800400-1554825600@www.recyclingmagazin.de
SUMMARY:Risikolos Möbel und Holzprodukte verkaufen
DESCRIPTION:Das Seminar vermittelt Ihnen als Hersteller\, Vertreiber oder Importeur von Möbeln und Holzprodukten die Grundlagen\, Definitionen und Pflichten sowie eine Unterstützung für die praktische Umsetzung. Zielsetzung des Seminars ist\, die Anforderungen und Pflichten der Richtlinien\, Verordnungen und Gesetze zu verstehen und zu lernen\, worauf Sie in Ihrem Unternehmen achten müssen\, damit der Verkauf nicht im Gerichtssaal endet. \nTeilnahmegebühr\nDie Teilnahmegebühr beträgt 229\,00 Euro pro Person und 189\,00 Euro für jede weitere Person derselben Firma. Hier können die Anmeldeunterlagen heruntergeladen werden. \nAnmeldung und Fragen\nFür Fragen zu diesem Seminar und die Anmeldung steht Ihnen Frau Anja Chiapperino von der TMK Retail Service & Consulting GmbH gerne unter der Telefonnummer 040/54090410-0 oder unter info@retailconsult.info zurVerfügung.
URL:https://www.recyclingmagazin.de/event/risikolos-moebel-und-holzprodukte-verkaufen/
CATEGORIES:Seminar
END:VEVENT
END:VCALENDAR