BEGIN:VCALENDAR
VERSION:2.0
PRODID:-//RECYCLING magazin - ECPv6.15.20//NONSGML v1.0//EN
CALSCALE:GREGORIAN
METHOD:PUBLISH
X-WR-CALNAME:RECYCLING magazin
X-ORIGINAL-URL:https://www.recyclingmagazin.de
X-WR-CALDESC:Veranstaltungen für RECYCLING magazin
REFRESH-INTERVAL;VALUE=DURATION:PT1H
X-Robots-Tag:noindex
X-PUBLISHED-TTL:PT1H
BEGIN:VTIMEZONE
TZID:Europe/Berlin
BEGIN:DAYLIGHT
TZOFFSETFROM:+0100
TZOFFSETTO:+0200
TZNAME:CEST
DTSTART:20170326T010000
END:DAYLIGHT
BEGIN:STANDARD
TZOFFSETFROM:+0200
TZOFFSETTO:+0100
TZNAME:CET
DTSTART:20171029T010000
END:STANDARD
BEGIN:DAYLIGHT
TZOFFSETFROM:+0100
TZOFFSETTO:+0200
TZNAME:CEST
DTSTART:20180325T010000
END:DAYLIGHT
BEGIN:STANDARD
TZOFFSETFROM:+0200
TZOFFSETTO:+0100
TZNAME:CET
DTSTART:20181028T010000
END:STANDARD
BEGIN:DAYLIGHT
TZOFFSETFROM:+0100
TZOFFSETTO:+0200
TZNAME:CEST
DTSTART:20190331T010000
END:DAYLIGHT
BEGIN:STANDARD
TZOFFSETFROM:+0200
TZOFFSETTO:+0100
TZNAME:CET
DTSTART:20191027T010000
END:STANDARD
END:VTIMEZONE
BEGIN:VEVENT
DTSTART;VALUE=DATE:20181114
DTEND;VALUE=DATE:20181115
DTSTAMP:20260424T135424
CREATED:20180220T122446Z
LAST-MODIFIED:20180220T122539Z
UID:362141-1542153600-1542239999@www.recyclingmagazin.de
SUMMARY:Risikolos Elektroprodukte verkaufen? Was tun\, damit der Verkauf nicht im Gerichtssaal endet
DESCRIPTION:Das Seminar vermittelt den Teilnehmern in ihrer Rolle als Importeur\, Vertreiber oder Hersteller Grundlagen\, Definitionen und Pflichten sowie eine Unterstützung für die praktische Umsetzung. Zielsetzung des Seminars ist\, die Anforderungen und Pflichten der Richtlinien und Gesetze zu verstehen und zu lernen\, worauf man im Unternehmen achten muss.
URL:https://www.recyclingmagazin.de/event/risikolos-elektroprodukte-verkaufen-was-tun-damit-der-verkauf-nicht-im-gerichtssaal-endet-4/
CATEGORIES:Seminar
END:VEVENT
END:VCALENDAR