BEGIN:VCALENDAR
VERSION:2.0
PRODID:-//RECYCLING magazin - ECPv6.15.20//NONSGML v1.0//EN
CALSCALE:GREGORIAN
METHOD:PUBLISH
X-WR-CALNAME:RECYCLING magazin
X-ORIGINAL-URL:https://www.recyclingmagazin.de
X-WR-CALDESC:Veranstaltungen für RECYCLING magazin
REFRESH-INTERVAL;VALUE=DURATION:PT1H
X-Robots-Tag:noindex
X-PUBLISHED-TTL:PT1H
BEGIN:VTIMEZONE
TZID:Europe/Berlin
BEGIN:DAYLIGHT
TZOFFSETFROM:+0100
TZOFFSETTO:+0200
TZNAME:CEST
DTSTART:20200329T010000
END:DAYLIGHT
BEGIN:STANDARD
TZOFFSETFROM:+0200
TZOFFSETTO:+0100
TZNAME:CET
DTSTART:20201025T010000
END:STANDARD
BEGIN:DAYLIGHT
TZOFFSETFROM:+0100
TZOFFSETTO:+0200
TZNAME:CEST
DTSTART:20210328T010000
END:DAYLIGHT
BEGIN:STANDARD
TZOFFSETFROM:+0200
TZOFFSETTO:+0100
TZNAME:CET
DTSTART:20211031T010000
END:STANDARD
BEGIN:DAYLIGHT
TZOFFSETFROM:+0100
TZOFFSETTO:+0200
TZNAME:CEST
DTSTART:20220327T010000
END:DAYLIGHT
BEGIN:STANDARD
TZOFFSETFROM:+0200
TZOFFSETTO:+0100
TZNAME:CET
DTSTART:20221030T010000
END:STANDARD
END:VTIMEZONE
BEGIN:VEVENT
DTSTART;TZID=Europe/Berlin:20210204T170000
DTEND;TZID=Europe/Berlin:20210204T184500
DTSTAMP:20260424T174949
CREATED:20210119T164109Z
LAST-MODIFIED:20210127T111314Z
UID:381531-1612458000-1612464300@www.recyclingmagazin.de
SUMMARY:Reinventing the Region: Bauen mit lokalen\, nachwachsenden Rohstoffen
DESCRIPTION:Gebäude aus nachwachsenden Rohstoffen wie Holz zählen zu den ältesten Bauweisen und haben den Vorteil\, dass sie CO2-Emissionen einsparen\, ein gesundes Raumklima schaffen und durch die lokale Verfügbarkeit ihrer natürlichen Werkstoffe sich globalen Konflikten wie jenen um Erdöl entziehen.\n• The Cradle (Düsseldorf)\, HPP Architekten / INTERBODEN\n• Schmuttertal-Gymnasium (Diedorf)\, HK Architekten / Florian Nagler Architekten\, Präsentation durch: Informationsverein Holz e.V.\n• viatraffic controlling (Leverkusen)\, Banz + Riecks Architekten
URL:https://www.recyclingmagazin.de/event/reinventing-the-region-bauen-mit-lokalen-nachwachsenden-rohstoffen/
CATEGORIES:Webinar
END:VEVENT
END:VCALENDAR