BEGIN:VCALENDAR
VERSION:2.0
PRODID:-//RECYCLING magazin - ECPv6.15.20//NONSGML v1.0//EN
CALSCALE:GREGORIAN
METHOD:PUBLISH
X-WR-CALNAME:RECYCLING magazin
X-ORIGINAL-URL:https://www.recyclingmagazin.de
X-WR-CALDESC:Veranstaltungen für RECYCLING magazin
REFRESH-INTERVAL;VALUE=DURATION:PT1H
X-Robots-Tag:noindex
X-PUBLISHED-TTL:PT1H
BEGIN:VTIMEZONE
TZID:Europe/Berlin
BEGIN:DAYLIGHT
TZOFFSETFROM:+0100
TZOFFSETTO:+0200
TZNAME:CEST
DTSTART:20200329T010000
END:DAYLIGHT
BEGIN:STANDARD
TZOFFSETFROM:+0200
TZOFFSETTO:+0100
TZNAME:CET
DTSTART:20201025T010000
END:STANDARD
BEGIN:DAYLIGHT
TZOFFSETFROM:+0100
TZOFFSETTO:+0200
TZNAME:CEST
DTSTART:20210328T010000
END:DAYLIGHT
BEGIN:STANDARD
TZOFFSETFROM:+0200
TZOFFSETTO:+0100
TZNAME:CET
DTSTART:20211031T010000
END:STANDARD
BEGIN:DAYLIGHT
TZOFFSETFROM:+0100
TZOFFSETTO:+0200
TZNAME:CEST
DTSTART:20220327T010000
END:DAYLIGHT
BEGIN:STANDARD
TZOFFSETFROM:+0200
TZOFFSETTO:+0100
TZNAME:CET
DTSTART:20221030T010000
END:STANDARD
END:VTIMEZONE
BEGIN:VEVENT
DTSTART;TZID=Europe/Berlin:20210304T170000
DTEND;TZID=Europe/Berlin:20210304T184500
DTSTAMP:20260420T225738
CREATED:20210119T164858Z
LAST-MODIFIED:20210127T110550Z
UID:381536-1614877200-1614883500@www.recyclingmagazin.de
SUMMARY:Reinventing the Future: Design for disassembly
DESCRIPTION:Gebäude so zu konstruieren\, dass sie nach ihrem Lebensende in einzelne Bauteile demontiert und wiederverwendet werden können und somit keine Abfälle produzieren\, entspricht dem „Design for Disassembly“ Prinzip. (Vortrag auf Englisch mit deutscher Übersetzung.)\n• Woodcube (Hamburg)\, architekturagentur\n• De Gouverneur (Rotterdam)\, Architectuur MAKEN\n• D(emountable) (Delft)\, architectenbureau cepezed \nReBAU und die Webinarreihe werden umgesetzt von den Projektpartnern Zukunftsagentur Rheinisches Revier und der Faktor X Agentur der Entwicklungsgesellschaft indeland GmbH.
URL:https://www.recyclingmagazin.de/event/reinventing-the-future-design-for-disassembly/
CATEGORIES:Webinar
END:VEVENT
END:VCALENDAR