BEGIN:VCALENDAR
VERSION:2.0
PRODID:-//RECYCLING magazin - ECPv6.15.20//NONSGML v1.0//EN
CALSCALE:GREGORIAN
METHOD:PUBLISH
X-WR-CALNAME:RECYCLING magazin
X-ORIGINAL-URL:https://www.recyclingmagazin.de
X-WR-CALDESC:Veranstaltungen für RECYCLING magazin
REFRESH-INTERVAL;VALUE=DURATION:PT1H
X-Robots-Tag:noindex
X-PUBLISHED-TTL:PT1H
BEGIN:VTIMEZONE
TZID:Europe/Berlin
BEGIN:DAYLIGHT
TZOFFSETFROM:+0100
TZOFFSETTO:+0200
TZNAME:CEST
DTSTART:20160327T010000
END:DAYLIGHT
BEGIN:STANDARD
TZOFFSETFROM:+0200
TZOFFSETTO:+0100
TZNAME:CET
DTSTART:20161030T010000
END:STANDARD
BEGIN:DAYLIGHT
TZOFFSETFROM:+0100
TZOFFSETTO:+0200
TZNAME:CEST
DTSTART:20170326T010000
END:DAYLIGHT
BEGIN:STANDARD
TZOFFSETFROM:+0200
TZOFFSETTO:+0100
TZNAME:CET
DTSTART:20171029T010000
END:STANDARD
BEGIN:DAYLIGHT
TZOFFSETFROM:+0100
TZOFFSETTO:+0200
TZNAME:CEST
DTSTART:20180325T010000
END:DAYLIGHT
BEGIN:STANDARD
TZOFFSETFROM:+0200
TZOFFSETTO:+0100
TZNAME:CET
DTSTART:20181028T010000
END:STANDARD
END:VTIMEZONE
BEGIN:VEVENT
DTSTART;VALUE=DATE:20170627
DTEND;VALUE=DATE:20170628
DTSTAMP:20260419T223805
CREATED:20170512T193431Z
LAST-MODIFIED:20170602T132157Z
UID:356608-1498521600-1498607999@www.recyclingmagazin.de
SUMMARY:Recycling und hochwertige Verwertung mit der neuen Gewerbeabfallverordnung
DESCRIPTION:Am 27. Juni 2017 findet die bvse-Tagung „Recycling und hochwertige Verwertung mit der neuen Gewerbeabfallverordnung“ in Bonn statt. Anlass ist das Inkrafttreten der neuen Gewerbeabfallverordnung am 1. August 2017. \nVorgestellt werden nicht nur die wesentlichen Neuerungen\, die von den Branchenunternehmen zu beachten sind\, sondern auch die praktischen Auswirkungen. Die Tagung geht außerdem der Frage nach\, wie sinnvoller Weise mit den nicht recycelbaren Materialien verfahren werden sollte. Dazu hat der bvse eine Untersuchung zur Differenzierung der energetischen Verwertung am Kriterium der Energieeffizienz in Auftrag gegeben\, die an diesem Tag erstmals vorgestellt wird.
URL:https://www.recyclingmagazin.de/event/recycling-und-hochwertige-verwertung-mit-der-neuen-gewerbeabfallverordnung/
CATEGORIES:Tagung
END:VEVENT
END:VCALENDAR