BEGIN:VCALENDAR
VERSION:2.0
PRODID:-//RECYCLING magazin - ECPv6.15.20//NONSGML v1.0//EN
CALSCALE:GREGORIAN
METHOD:PUBLISH
X-WR-CALNAME:RECYCLING magazin
X-ORIGINAL-URL:https://www.recyclingmagazin.de
X-WR-CALDESC:Veranstaltungen für RECYCLING magazin
REFRESH-INTERVAL;VALUE=DURATION:PT1H
X-Robots-Tag:noindex
X-PUBLISHED-TTL:PT1H
BEGIN:VTIMEZONE
TZID:Europe/Berlin
BEGIN:DAYLIGHT
TZOFFSETFROM:+0100
TZOFFSETTO:+0200
TZNAME:CEST
DTSTART:20160327T010000
END:DAYLIGHT
BEGIN:STANDARD
TZOFFSETFROM:+0200
TZOFFSETTO:+0100
TZNAME:CET
DTSTART:20161030T010000
END:STANDARD
BEGIN:DAYLIGHT
TZOFFSETFROM:+0100
TZOFFSETTO:+0200
TZNAME:CEST
DTSTART:20170326T010000
END:DAYLIGHT
BEGIN:STANDARD
TZOFFSETFROM:+0200
TZOFFSETTO:+0100
TZNAME:CET
DTSTART:20171029T010000
END:STANDARD
BEGIN:DAYLIGHT
TZOFFSETFROM:+0100
TZOFFSETTO:+0200
TZNAME:CEST
DTSTART:20180325T010000
END:DAYLIGHT
BEGIN:STANDARD
TZOFFSETFROM:+0200
TZOFFSETTO:+0100
TZNAME:CET
DTSTART:20181028T010000
END:STANDARD
END:VTIMEZONE
BEGIN:VEVENT
DTSTART;VALUE=DATE:20170619
DTEND;VALUE=DATE:20170620
DTSTAMP:20260420T001243
CREATED:20170404T123958Z
LAST-MODIFIED:20170404T123958Z
UID:356047-1497830400-1497916799@www.recyclingmagazin.de
SUMMARY:Rechtliche Neuerungen rund um den Abfalltransport
DESCRIPTION:Arbeitszeit-\, Straßenverkehrs-\, Güterkraftverkehrsrecht und Berufskraftfahrerqualifikation\nRechtliche Neuerungen im Bereich Abfalltransport stellen Disponenten\, Fuhrpark- und Einsatzleiter immer wieder vor die Herausforderung\, ihren Wissensstand regelmäßig zu aktualisieren. Das Seminar gibt Ihnen kompakt und praxisbezogen einen aktuellen Stand zum rechtlichen Rahmen.
URL:https://www.recyclingmagazin.de/event/rechtliche-neuerungen-rund-um-den-abfalltransport-9/
LOCATION:Karl-Meyer-Akademie GmbH\, Ellerholzweg 18-28\, Hamburg\, 21107\, Deutschland
CATEGORIES:Seminar
ORGANIZER;CN="BDE Bundesverband der Deutschen Entsorgungs-%2C Wasser- und Rohstoffwirtschaft":MAILTO:info@bde.de
END:VEVENT
END:VCALENDAR