BEGIN:VCALENDAR
VERSION:2.0
PRODID:-//RECYCLING magazin - ECPv6.15.20//NONSGML v1.0//EN
CALSCALE:GREGORIAN
METHOD:PUBLISH
X-WR-CALNAME:RECYCLING magazin
X-ORIGINAL-URL:https://www.recyclingmagazin.de
X-WR-CALDESC:Veranstaltungen für RECYCLING magazin
REFRESH-INTERVAL;VALUE=DURATION:PT1H
X-Robots-Tag:noindex
X-PUBLISHED-TTL:PT1H
BEGIN:VTIMEZONE
TZID:Europe/Berlin
BEGIN:DAYLIGHT
TZOFFSETFROM:+0100
TZOFFSETTO:+0200
TZNAME:CEST
DTSTART:20170326T010000
END:DAYLIGHT
BEGIN:STANDARD
TZOFFSETFROM:+0200
TZOFFSETTO:+0100
TZNAME:CET
DTSTART:20171029T010000
END:STANDARD
BEGIN:DAYLIGHT
TZOFFSETFROM:+0100
TZOFFSETTO:+0200
TZNAME:CEST
DTSTART:20180325T010000
END:DAYLIGHT
BEGIN:STANDARD
TZOFFSETFROM:+0200
TZOFFSETTO:+0100
TZNAME:CET
DTSTART:20181028T010000
END:STANDARD
BEGIN:DAYLIGHT
TZOFFSETFROM:+0100
TZOFFSETTO:+0200
TZNAME:CEST
DTSTART:20190331T010000
END:DAYLIGHT
BEGIN:STANDARD
TZOFFSETFROM:+0200
TZOFFSETTO:+0100
TZNAME:CET
DTSTART:20191027T010000
END:STANDARD
END:VTIMEZONE
BEGIN:VEVENT
DTSTART;VALUE=DATE:20181016
DTEND;VALUE=DATE:20181017
DTSTAMP:20260424T224940
CREATED:20171212T160154Z
LAST-MODIFIED:20171212T160218Z
UID:360798-1539648000-1539734399@www.recyclingmagazin.de
SUMMARY:Grundkurs: Qualitätssicherung und Zertifizierung von Recyclingbaustoffen
DESCRIPTION:Das Kreislaufwirtschaftsgesetz sowie das neue Bayerische Abfallwirtschaftsgesetz verpflichten alle am Bau Beteiligten\, ihre Bau- und Abbruchabfälle ordnungsgemäß und schadlos zu verwerten und dabei insbesondere den Vorrang des Recyclings vor der Verfüllung und vor der Beseitigung auf der Deponie (Abfallhierarchie) zu beachten. Die Entsorgung von Bau- und Abbruchabfällen wird aufgrund schwindender Verfüll- und Deponiekapazitäten schwieriger und mehr und mehr zum Kostentreiber in der Bauwirtschaft. Hilfe dagegen bietet der Einsatz von zertifizierten Recyclingbaustoffen. Recyclingbaustoffe senken die Entsorgungskosten und versorgen die Bauwirtschaft zudem mit hochwertigen Sekundärrohstoffen für den Straßen-\, Wege-\, Verkehrsflächenbau\, den Erdbau sowie den gesamten Hoch- und Tiefbau. \nDer Grundkurs „Qualitätssicherung und Zertifizierung von Recyclingbaustoffen“ des Baustoff Recycling Bayern e.V. und des bvse e.V. beleuchtet diese Themenbereiche\, gibt praxisgerechte Antworten und zeigt die Möglichkeiten sowie die Anforderungen für den problemlosen Einsatz von güteüberwachten Recyclingbaustoffen auf.
URL:https://www.recyclingmagazin.de/event/qualitaetssicherung-und-zertifizierung-von-recyclingbaustoffen-7/
LOCATION:Enso Hotel\, Bei der Arena 1\, Ingolstadt\, 85053\, Deutschland
CATEGORIES:Seminar
ORGANIZER;CN="bvse-recyconsult":MAILTO:info@bvse.de
END:VEVENT
END:VCALENDAR