BEGIN:VCALENDAR
VERSION:2.0
PRODID:-//RECYCLING magazin - ECPv6.15.20//NONSGML v1.0//EN
CALSCALE:GREGORIAN
METHOD:PUBLISH
X-WR-CALNAME:RECYCLING magazin
X-ORIGINAL-URL:https://www.recyclingmagazin.de
X-WR-CALDESC:Veranstaltungen für RECYCLING magazin
REFRESH-INTERVAL;VALUE=DURATION:PT1H
X-Robots-Tag:noindex
X-PUBLISHED-TTL:PT1H
BEGIN:VTIMEZONE
TZID:Europe/Berlin
BEGIN:DAYLIGHT
TZOFFSETFROM:+0100
TZOFFSETTO:+0200
TZNAME:CEST
DTSTART:20170326T010000
END:DAYLIGHT
BEGIN:STANDARD
TZOFFSETFROM:+0200
TZOFFSETTO:+0100
TZNAME:CET
DTSTART:20171029T010000
END:STANDARD
BEGIN:DAYLIGHT
TZOFFSETFROM:+0100
TZOFFSETTO:+0200
TZNAME:CEST
DTSTART:20180325T010000
END:DAYLIGHT
BEGIN:STANDARD
TZOFFSETFROM:+0200
TZOFFSETTO:+0100
TZNAME:CET
DTSTART:20181028T010000
END:STANDARD
BEGIN:DAYLIGHT
TZOFFSETFROM:+0100
TZOFFSETTO:+0200
TZNAME:CEST
DTSTART:20190331T010000
END:DAYLIGHT
BEGIN:STANDARD
TZOFFSETFROM:+0200
TZOFFSETTO:+0100
TZNAME:CET
DTSTART:20191027T010000
END:STANDARD
END:VTIMEZONE
BEGIN:VEVENT
DTSTART;VALUE=DATE:20180913
DTEND;VALUE=DATE:20180914
DTSTAMP:20260425T212058
CREATED:20171212T161445Z
LAST-MODIFIED:20171212T161445Z
UID:360811-1536796800-1536883199@www.recyclingmagazin.de
SUMMARY:Probenahme fester Abfälle – LAGA-Richtlinie PN 98
DESCRIPTION:In der Güteüberwachung von Recyclingbaustoffen\, aber auch im Rahmen der Verwertung von Böden in technischen Bauwerken oder in der Verfüllung\, ist die Probenahme von entscheidender Bedeutung. Deshalb ist es wichtig\, dass vor allem die Personen\, die mit der Qualitätssicherung befasst sind\, die Eigenüberwachung bzw. die werkseigene Produktionskontrolle oder auch Kontrollprüfungen auf Baustellen durchführen und verantworten müssen\, die entsprechende Fachkunde besitzen. Auch die LAGA PN 98 selbst und Anhang 4 DeponieVO fordern\, dass Probenahmen von Personen durchgeführt werden\, die über die erforderliche Sachkunde verfügen. Mit qualifizierter Ausbildung (Studium etc.) oder langjähriger praktischer Erfahrung kann in der Verbindung mit dem hier angebotenen Seminar die Fachkunde gemäß Anhang 4 DeponieVO erlangt werden.
URL:https://www.recyclingmagazin.de/event/probenahme-fester-abfaelle-laga-richtlinie-pn-98-4/
LOCATION:Baugeschäft Sens GmbH & Co. KG\,\, Josef-Eder-Str. 2\, Ornbau\, 91737 
CATEGORIES:Seminar
ORGANIZER;CN="bvse-recyconsult":MAILTO:info@bvse.de
END:VEVENT
END:VCALENDAR