BEGIN:VCALENDAR
VERSION:2.0
PRODID:-//RECYCLING magazin - ECPv6.15.20//NONSGML v1.0//EN
CALSCALE:GREGORIAN
METHOD:PUBLISH
X-WR-CALNAME:RECYCLING magazin
X-ORIGINAL-URL:https://www.recyclingmagazin.de
X-WR-CALDESC:Veranstaltungen für RECYCLING magazin
REFRESH-INTERVAL;VALUE=DURATION:PT1H
X-Robots-Tag:noindex
X-PUBLISHED-TTL:PT1H
BEGIN:VTIMEZONE
TZID:Europe/Berlin
BEGIN:DAYLIGHT
TZOFFSETFROM:+0100
TZOFFSETTO:+0200
TZNAME:CEST
DTSTART:20170326T010000
END:DAYLIGHT
BEGIN:STANDARD
TZOFFSETFROM:+0200
TZOFFSETTO:+0100
TZNAME:CET
DTSTART:20171029T010000
END:STANDARD
BEGIN:DAYLIGHT
TZOFFSETFROM:+0100
TZOFFSETTO:+0200
TZNAME:CEST
DTSTART:20180325T010000
END:DAYLIGHT
BEGIN:STANDARD
TZOFFSETFROM:+0200
TZOFFSETTO:+0100
TZNAME:CET
DTSTART:20181028T010000
END:STANDARD
BEGIN:DAYLIGHT
TZOFFSETFROM:+0100
TZOFFSETTO:+0200
TZNAME:CEST
DTSTART:20190331T010000
END:DAYLIGHT
BEGIN:STANDARD
TZOFFSETFROM:+0200
TZOFFSETTO:+0100
TZNAME:CET
DTSTART:20191027T010000
END:STANDARD
END:VTIMEZONE
BEGIN:VEVENT
DTSTART;VALUE=DATE:20180306
DTEND;VALUE=DATE:20180307
DTSTAMP:20260426T061303
CREATED:20180306T112821Z
LAST-MODIFIED:20180306T112821Z
UID:362473-1520294400-1520380799@www.recyclingmagazin.de
SUMMARY:Privat statt Staat – Daseinsvorsorge und Wettbewerb
DESCRIPTION:Unter dem Motto „Privat statt Staat – Daseinsvorsorge und Wettbewerb“ diskutieren Experten aus Politik und Wirtschaft heute Maßnahmen für einen fairen Wettbewerb privater und öffentlicher Anbieter in der öffentlichen Daseinsvorsorge. Zu der Veranstaltung hat die vbw – Vereinigung der Bayerischen Wirtschaft e. V. am Abend ins Hotel Bayerischer Hof eingeladen.
URL:https://www.recyclingmagazin.de/event/privat-statt-staat-daseinsvorsorge-und-wettbewerb/
LOCATION:Hotel Bayerischer Hof\, Promenadeplatz 2-6\, München\, 80333\, Deutschland
CATEGORIES:Tagung
END:VEVENT
END:VCALENDAR