BEGIN:VCALENDAR
VERSION:2.0
PRODID:-//RECYCLING magazin - ECPv6.15.20//NONSGML v1.0//EN
CALSCALE:GREGORIAN
METHOD:PUBLISH
X-WR-CALNAME:RECYCLING magazin
X-ORIGINAL-URL:https://www.recyclingmagazin.de
X-WR-CALDESC:Veranstaltungen für RECYCLING magazin
REFRESH-INTERVAL;VALUE=DURATION:PT1H
X-Robots-Tag:noindex
X-PUBLISHED-TTL:PT1H
BEGIN:VTIMEZONE
TZID:Europe/Berlin
BEGIN:DAYLIGHT
TZOFFSETFROM:+0100
TZOFFSETTO:+0200
TZNAME:CEST
DTSTART:20160327T010000
END:DAYLIGHT
BEGIN:STANDARD
TZOFFSETFROM:+0200
TZOFFSETTO:+0100
TZNAME:CET
DTSTART:20161030T010000
END:STANDARD
BEGIN:DAYLIGHT
TZOFFSETFROM:+0100
TZOFFSETTO:+0200
TZNAME:CEST
DTSTART:20170326T010000
END:DAYLIGHT
BEGIN:STANDARD
TZOFFSETFROM:+0200
TZOFFSETTO:+0100
TZNAME:CET
DTSTART:20171029T010000
END:STANDARD
BEGIN:DAYLIGHT
TZOFFSETFROM:+0100
TZOFFSETTO:+0200
TZNAME:CEST
DTSTART:20180325T010000
END:DAYLIGHT
BEGIN:STANDARD
TZOFFSETFROM:+0200
TZOFFSETTO:+0100
TZNAME:CET
DTSTART:20181028T010000
END:STANDARD
END:VTIMEZONE
BEGIN:VEVENT
DTSTART;VALUE=DATE:20171130
DTEND;VALUE=DATE:20171201
DTSTAMP:20260419T160636
CREATED:20171001T155351Z
LAST-MODIFIED:20171001T155351Z
UID:359644-1512000000-1512086399@www.recyclingmagazin.de
SUMMARY:Praxis des Verpackungsrecyclings
DESCRIPTION:Theorie und Praxis der Mülltrennung \nDie Notwendigkeit\, Privatleute über die richtige Abfalltrennung zu informieren\, ist nach wie vor hoch. Bei der Vielzahl von Verpackungsarten und Sammelsystemen ist es für Verbraucher häufig schwer nachvollziehbar\, welcher Abfall wie getrennt werden muss. Dies führt oftmals dazu\, dass der Sinn der getrennten Sammlung als Ganzes in Frage gestellt wird. \nAufklärungsarbeit und eine gute Informationspolitik sind hier der Schlüssel\, um dem Bürger die richtige Abfalltrennung wieder näher zu bringen. Dass das Thema auch von Seiten der Politik vorangetrieben wird\, zeigt ein Blick in das neue Verpackungsgesetz: Hier wird erstmals festgeschrieben\, dass die dualen Systeme – mit Unterstützung kommunaler Abfallberatungseinrichtungen und Verbraucherschutzorganisationen – die privaten Endverbraucher über Sinn und Zweck der getrennten Sammlung\, die Sammelsysteme sowie die erzielten Verwertungsergebnisse informieren müssen. \nMit unserem Workshop unterstützen wir Sie dabei\, Ihre Informations- und Bildungsarbeit noch effektiver zu gestalten und den Erfolg Ihrer Maßnahmen zu steigern.
URL:https://www.recyclingmagazin.de/event/praxis-des-verpackungsrecyclings/
LOCATION:BEW GmbH Bildungszentrum Duisburg\, Dr.-Detlev-Karsten-Rohwedder-Str. 70\, Duisburg\, 47228 \, Deutschland
CATEGORIES:Seminar
END:VEVENT
END:VCALENDAR