BEGIN:VCALENDAR
VERSION:2.0
PRODID:-//RECYCLING magazin - ECPv6.15.20//NONSGML v1.0//EN
CALSCALE:GREGORIAN
METHOD:PUBLISH
X-WR-CALNAME:RECYCLING magazin
X-ORIGINAL-URL:https://www.recyclingmagazin.de
X-WR-CALDESC:Veranstaltungen für RECYCLING magazin
REFRESH-INTERVAL;VALUE=DURATION:PT1H
X-Robots-Tag:noindex
X-PUBLISHED-TTL:PT1H
BEGIN:VTIMEZONE
TZID:Europe/Berlin
BEGIN:DAYLIGHT
TZOFFSETFROM:+0100
TZOFFSETTO:+0200
TZNAME:CEST
DTSTART:20190331T010000
END:DAYLIGHT
BEGIN:STANDARD
TZOFFSETFROM:+0200
TZOFFSETTO:+0100
TZNAME:CET
DTSTART:20191027T010000
END:STANDARD
BEGIN:DAYLIGHT
TZOFFSETFROM:+0100
TZOFFSETTO:+0200
TZNAME:CEST
DTSTART:20200329T010000
END:DAYLIGHT
BEGIN:STANDARD
TZOFFSETFROM:+0200
TZOFFSETTO:+0100
TZNAME:CET
DTSTART:20201025T010000
END:STANDARD
BEGIN:DAYLIGHT
TZOFFSETFROM:+0100
TZOFFSETTO:+0200
TZNAME:CEST
DTSTART:20210328T010000
END:DAYLIGHT
BEGIN:STANDARD
TZOFFSETFROM:+0200
TZOFFSETTO:+0100
TZNAME:CET
DTSTART:20211031T010000
END:STANDARD
END:VTIMEZONE
BEGIN:VEVENT
DTSTART;VALUE=DATE:20200428
DTEND;VALUE=DATE:20200429
DTSTAMP:20260420T084147
CREATED:20170522T101306Z
LAST-MODIFIED:20200212T123624Z
UID:356791-1588032000-1588118399@www.recyclingmagazin.de
SUMMARY:Praxis der Laubentsorgung
DESCRIPTION:Der Herbst ist für die Straßenreinigung Jahr für Jahr eine Herausforderung für das Personal und die Technik. Laub fällt in großen Mengen an. Bei feuchtem Wetter entstehen schnell Gefahren für alle Verkehrsteilnehmer. Deshalb versuchen die Kommunen gefallenes Laub so schnell wie möglich einzusammeln.\nZum einen ist hierfür das ganze verfügbare Personal erforderlich. Spezielle Pläne organisieren den Einsatz oftmals von Teams\, die gemeinsam Straßen und größere Flächen reinigen. Zum anderen ist mehr Technik zu koordinieren als in anderen Wochen. Laubbläser\, Kehrmaschinen\, Behälter\, Sauggeräte und anderes mehr müssen mit ausreichender Kapazität verfügbar sein. Und schließlich steht die Entsorgung des Laubs an. Bei Laub handelt es sich um einen durchaus interessanten Stoffstrom. Es lassen sich stoffliche und energetische Verwertungsverfahren unterscheiden.\nDas Seminar arbeitet die Methoden der Laubentsorgung systematisch auf. Die Dozenten erläutern die praxiserprobten Konzepte mit ihren jeweiligen Vor- und Nachteilen und beantworten auch Fragen der Wirtschaftlichkeit.
URL:https://www.recyclingmagazin.de/event/praxis-der-laubentsorgung/
LOCATION:InterCityHotel Hannover\, Rosenstraße 1\, Hannover\, 30159\, Deutschland
CATEGORIES:Seminar
END:VEVENT
END:VCALENDAR