BEGIN:VCALENDAR
VERSION:2.0
PRODID:-//RECYCLING magazin - ECPv6.15.20//NONSGML v1.0//EN
CALSCALE:GREGORIAN
METHOD:PUBLISH
X-WR-CALNAME:RECYCLING magazin
X-ORIGINAL-URL:https://www.recyclingmagazin.de
X-WR-CALDESC:Veranstaltungen für RECYCLING magazin
REFRESH-INTERVAL;VALUE=DURATION:PT1H
X-Robots-Tag:noindex
X-PUBLISHED-TTL:PT1H
BEGIN:VTIMEZONE
TZID:Europe/Berlin
BEGIN:DAYLIGHT
TZOFFSETFROM:+0100
TZOFFSETTO:+0200
TZNAME:CEST
DTSTART:20160327T010000
END:DAYLIGHT
BEGIN:STANDARD
TZOFFSETFROM:+0200
TZOFFSETTO:+0100
TZNAME:CET
DTSTART:20161030T010000
END:STANDARD
BEGIN:DAYLIGHT
TZOFFSETFROM:+0100
TZOFFSETTO:+0200
TZNAME:CEST
DTSTART:20170326T010000
END:DAYLIGHT
BEGIN:STANDARD
TZOFFSETFROM:+0200
TZOFFSETTO:+0100
TZNAME:CET
DTSTART:20171029T010000
END:STANDARD
BEGIN:DAYLIGHT
TZOFFSETFROM:+0100
TZOFFSETTO:+0200
TZNAME:CEST
DTSTART:20180325T010000
END:DAYLIGHT
BEGIN:STANDARD
TZOFFSETFROM:+0200
TZOFFSETTO:+0100
TZNAME:CET
DTSTART:20181028T010000
END:STANDARD
END:VTIMEZONE
BEGIN:VEVENT
DTSTART;VALUE=DATE:20170425
DTEND;VALUE=DATE:20170428
DTSTAMP:20260420T105918
CREATED:20170203T155934Z
LAST-MODIFIED:20170203T155934Z
UID:355022-1493078400-1493337599@www.recyclingmagazin.de
SUMMARY:PET Packaging & PET Recycling
DESCRIPTION:Im zweiteiligen PETnology-Seminarprogramm für kleine Gruppen steht PET-Technologie im Fokus. Das Eineinhalb-Tages-Seminar „PET PACKAGING – Materialkunde\, Preform- und Streckblastechnologie“ vermittelt Basics\, Entwicklungen und Strategien der Verpackungstechnik. Der dritte Tag widmet sich dem PET RECYCLING: Grundlagen\, aktuelle Entwicklungen und Strategien. Beide Module können einzeln oder als Paket gebucht werden.\nTeil 1: PET PACKAGING (25.-26.04.)\nMaterialkunde\, Preform- und Flaschentechnologie\nTeil 2: PET RECYCLING (27.04.)\nBasics & Entwicklungen\, Trends \nDie Kurse werden von erfahrenen Brancheninsidern geleitet\, seit vielen Jahren Experten auf ihrem Gebiet und hoch angesehen in der Industrie. \nDie Kurse richten sich an das technische Führungspersonal und Ingenieure der Branche sowie an Neueinsteiger in die Managementebene\, die in kurzer Zeit ihr Wissen auf den neuesten Stand der Technik bringen lassen wollen.
URL:https://www.recyclingmagazin.de/event/pet-packaging-pet-recycling/
LOCATION:Eurostars Book Hotel München\, Schwanthalerstr. 44\, München\, 80366 \, Deutschland
CATEGORIES:Seminar
END:VEVENT
END:VCALENDAR