BEGIN:VCALENDAR
VERSION:2.0
PRODID:-//RECYCLING magazin - ECPv6.15.20//NONSGML v1.0//EN
CALSCALE:GREGORIAN
METHOD:PUBLISH
X-WR-CALNAME:RECYCLING magazin
X-ORIGINAL-URL:https://www.recyclingmagazin.de
X-WR-CALDESC:Veranstaltungen für RECYCLING magazin
REFRESH-INTERVAL;VALUE=DURATION:PT1H
X-Robots-Tag:noindex
X-PUBLISHED-TTL:PT1H
BEGIN:VTIMEZONE
TZID:Europe/Berlin
BEGIN:DAYLIGHT
TZOFFSETFROM:+0100
TZOFFSETTO:+0200
TZNAME:CEST
DTSTART:20160327T010000
END:DAYLIGHT
BEGIN:STANDARD
TZOFFSETFROM:+0200
TZOFFSETTO:+0100
TZNAME:CET
DTSTART:20161030T010000
END:STANDARD
BEGIN:DAYLIGHT
TZOFFSETFROM:+0100
TZOFFSETTO:+0200
TZNAME:CEST
DTSTART:20170326T010000
END:DAYLIGHT
BEGIN:STANDARD
TZOFFSETFROM:+0200
TZOFFSETTO:+0100
TZNAME:CET
DTSTART:20171029T010000
END:STANDARD
BEGIN:DAYLIGHT
TZOFFSETFROM:+0100
TZOFFSETTO:+0200
TZNAME:CEST
DTSTART:20180325T010000
END:DAYLIGHT
BEGIN:STANDARD
TZOFFSETFROM:+0200
TZOFFSETTO:+0100
TZNAME:CET
DTSTART:20181028T010000
END:STANDARD
END:VTIMEZONE
BEGIN:VEVENT
DTSTART;VALUE=DATE:20170621
DTEND;VALUE=DATE:20170622
DTSTAMP:20260420T032017
CREATED:20160909T101337Z
LAST-MODIFIED:20170606T140026Z
UID:352304-1498003200-1498089599@www.recyclingmagazin.de
SUMMARY:Organisations- und Personalentwicklung im Fuhrpark
DESCRIPTION:Die Gestaltung einer Werkstatt und der Komfort von Fahrzeugen haben sich in den letzten Jahren gewandelt. Handelte es sich bei Werkstätten früher um dunkelgraue Höhlen\, so strahlen sie heute hell und freundlich. Bei Fahrzeugen sind mittlerweile ergonomische Sitze oder ein gute Klimaanlage unumstrittene Ausstattungsmerkmale.
URL:https://www.recyclingmagazin.de/event/organisations-und-personalentwicklung-im-fuhrpark/
LOCATION:InterCity Hotel Essen\, Hachestrasse 10\, Essen\, 45127\, Deutschland
CATEGORIES:Seminar
END:VEVENT
END:VCALENDAR