BEGIN:VCALENDAR
VERSION:2.0
PRODID:-//RECYCLING magazin - ECPv6.15.20//NONSGML v1.0//EN
CALSCALE:GREGORIAN
METHOD:PUBLISH
X-WR-CALNAME:RECYCLING magazin
X-ORIGINAL-URL:https://www.recyclingmagazin.de
X-WR-CALDESC:Veranstaltungen für RECYCLING magazin
REFRESH-INTERVAL;VALUE=DURATION:PT1H
X-Robots-Tag:noindex
X-PUBLISHED-TTL:PT1H
BEGIN:VTIMEZONE
TZID:Europe/Berlin
BEGIN:DAYLIGHT
TZOFFSETFROM:+0100
TZOFFSETTO:+0200
TZNAME:CEST
DTSTART:20160327T010000
END:DAYLIGHT
BEGIN:STANDARD
TZOFFSETFROM:+0200
TZOFFSETTO:+0100
TZNAME:CET
DTSTART:20161030T010000
END:STANDARD
BEGIN:DAYLIGHT
TZOFFSETFROM:+0100
TZOFFSETTO:+0200
TZNAME:CEST
DTSTART:20170326T010000
END:DAYLIGHT
BEGIN:STANDARD
TZOFFSETFROM:+0200
TZOFFSETTO:+0100
TZNAME:CET
DTSTART:20171029T010000
END:STANDARD
BEGIN:DAYLIGHT
TZOFFSETFROM:+0100
TZOFFSETTO:+0200
TZNAME:CEST
DTSTART:20180325T010000
END:DAYLIGHT
BEGIN:STANDARD
TZOFFSETFROM:+0200
TZOFFSETTO:+0100
TZNAME:CET
DTSTART:20181028T010000
END:STANDARD
END:VTIMEZONE
BEGIN:VEVENT
DTSTART;VALUE=DATE:20170727
DTEND;VALUE=DATE:20170728
DTSTAMP:20260419T223646
CREATED:20170717T174926Z
LAST-MODIFIED:20170717T174926Z
UID:358009-1501113600-1501199999@www.recyclingmagazin.de
SUMMARY:Novelle der Gewerbeabfallverordnung
DESCRIPTION:Als Entsorger stehen Sie vor der Herausforderung\, Ihre Kunden über den neuen Sachstand und die daraus notwendig einzuleitenden Schritte und Strukturen zu informieren und zu beraten. Wir unterstützen Sie dabei. Der nächste Termin unserer Veranstaltungsreihe wird im September in Köln stattfinden.
URL:https://www.recyclingmagazin.de/event/novelle-der-gewerbeabfallverordnung-5/
CATEGORIES:Seminar
ORGANIZER;CN="BDE Bundesverband der Deutschen Entsorgungs-%2C Wasser- und Rohstoffwirtschaft":MAILTO:info@bde.de
END:VEVENT
END:VCALENDAR