BEGIN:VCALENDAR
VERSION:2.0
PRODID:-//RECYCLING magazin - ECPv6.15.20//NONSGML v1.0//EN
CALSCALE:GREGORIAN
METHOD:PUBLISH
X-WR-CALNAME:RECYCLING magazin
X-ORIGINAL-URL:https://www.recyclingmagazin.de
X-WR-CALDESC:Veranstaltungen für RECYCLING magazin
REFRESH-INTERVAL;VALUE=DURATION:PT1H
X-Robots-Tag:noindex
X-PUBLISHED-TTL:PT1H
BEGIN:VTIMEZONE
TZID:Europe/Berlin
BEGIN:DAYLIGHT
TZOFFSETFROM:+0100
TZOFFSETTO:+0200
TZNAME:CEST
DTSTART:20190331T010000
END:DAYLIGHT
BEGIN:STANDARD
TZOFFSETFROM:+0200
TZOFFSETTO:+0100
TZNAME:CET
DTSTART:20191027T010000
END:STANDARD
BEGIN:DAYLIGHT
TZOFFSETFROM:+0100
TZOFFSETTO:+0200
TZNAME:CEST
DTSTART:20200329T010000
END:DAYLIGHT
BEGIN:STANDARD
TZOFFSETFROM:+0200
TZOFFSETTO:+0100
TZNAME:CET
DTSTART:20201025T010000
END:STANDARD
BEGIN:DAYLIGHT
TZOFFSETFROM:+0100
TZOFFSETTO:+0200
TZNAME:CEST
DTSTART:20210328T010000
END:DAYLIGHT
BEGIN:STANDARD
TZOFFSETFROM:+0200
TZOFFSETTO:+0100
TZNAME:CET
DTSTART:20211031T010000
END:STANDARD
END:VTIMEZONE
BEGIN:VEVENT
DTSTART;VALUE=DATE:20201105
DTEND;VALUE=DATE:20201106
DTSTAMP:20260421T144423
CREATED:20200211T131938Z
LAST-MODIFIED:20200211T132110Z
UID:375935-1604534400-1604620799@www.recyclingmagazin.de
SUMMARY:Nachweisführung über die Entsorgung von Abfällen
DESCRIPTION:Dieses Seminar gibt einen Einblick in die wichtigsten gesetzlichen Anforderungen an die Nachweisführung und vermittelt die richtige und sichere Anwendung der Nachweisverfahren. Mithilfe des Seminars werden die Teilnehmer in der Lage sein\, das passende Nachweisverfahren auszuwählen\, Nachweisdokumente sicher auszufüllen und zu handhaben. \nDas Seminar vermittelt in einem praktischen Teil die Anwendung der gängigsten unter den ca. 50 am Markt befindlichen Nachweis-Softwarelösungen.
URL:https://www.recyclingmagazin.de/event/nachweisfuehrung-ueber-die-entsorgung-von-abfaellen-2/
LOCATION:IntercityHotel Hannover Hauptbahnhof Ost\, Andreas-Hermes-Platz 1\, Hannover\, 30161\, Deutschland
CATEGORIES:Seminar
END:VEVENT
END:VCALENDAR